BEGIN:VCALENDAR
VERSION:2.0
PRODID:-//Phuket Community - ECPv6.15.20//NONSGML v1.0//EN
CALSCALE:GREGORIAN
METHOD:PUBLISH
X-WR-CALNAME:Phuket Community
X-ORIGINAL-URL:https://phuketcommunity.com
X-WR-CALDESC:Events for Phuket Community
REFRESH-INTERVAL;VALUE=DURATION:PT1H
X-Robots-Tag:noindex
X-PUBLISHED-TTL:PT1H
BEGIN:VTIMEZONE
TZID:Asia/Bangkok
BEGIN:STANDARD
TZOFFSETFROM:+0700
TZOFFSETTO:+0700
TZNAME:+07
DTSTART:20240101T000000
END:STANDARD
END:VTIMEZONE
BEGIN:VEVENT
DTSTART;TZID=Asia/Bangkok:20251128T083000
DTEND;TZID=Asia/Bangkok:20251128T093000
DTSTAMP:20260422T200412
CREATED:20251127T130539Z
LAST-MODIFIED:20251127T130539Z
UID:5437-1764318600-1764322200@phuketcommunity.com
SUMMARY:Yoga & Coffee from Daily Dose
DESCRIPTION:Y O G A • C L A S S E S\n Yoga & Coffee from Daily Dose\n\n\n Every Wednesday and Friday at the new Daily Dose Alchemy. We have both indoor and outdoor options (in the Japanese Garden. Shaded\, with fans so not hot at all).\n\n\nClasses are 400thb and include a free drink from Daily Dose \n\n\n Wednesday & Friday\n 08:30-09:30\n Daily Dose Alchemy\n 400thb or 5 for 1600thb\n Includes a free drink \n\n\nDM to book! (Pre-booking is essential as spaces are limited)\nGoogle Maps
URL:https://phuketcommunity.com/event/yoga-coffee-from-daily-dose-8/
LOCATION:Daily Dose Alchemy\, https://maps.app.goo.gl/KK96acmr2x8soNxEA
CATEGORIES:Sports
ATTACH;FMTTYPE=image/png:https://phuketcommunity.com/wp-content/uploads/2025/10/image_2025-10-09_155331739.webp
END:VEVENT
BEGIN:VEVENT
DTSTART;TZID=Asia/Bangkok:20251128T090000
DTEND;TZID=Asia/Bangkok:20251128T150000
DTSTAMP:20260422T200412
CREATED:20251127T131400Z
LAST-MODIFIED:20251127T131400Z
UID:5441-1764320400-1764342000@phuketcommunity.com
SUMMARY:LOCAL ROOTS by TRI VANANDA
DESCRIPTION:Meet our collaborators at Local Roots – A Season of Flow\nThis Saturday\, 29th November 2025 | 9:00 – 15:00 \nLet’s explore local vendors\, artisans\, and culinary talents\, all coming together for a day filled with Find Your Trust Frequency activity\, hands-on workshops\, live music\, kids’ field house\, and more. Explore interactive activities\, shop unique handmade products\, and connect with like-minded individuals in a vibrant outdoor atmosphere. ​ \nMeet the vendors who are making it all happen: ​ \n▪ TRI VANANDA ​\n▪ Trisara Kids Club ​\n▪ JAMPA​\n▪ HiDEAWAY​\n▪ PoonSook.Craft​\n▪ ULA Collections​\n▪ The Drinks Studio​\n▪ 32 Coffee​\n▪ Baan Por Peang Phuket​ (บ้านพอเพียง ภูเก็ต)\n▪ Ar-Pong​ (อาโป้ง)\n▪ Esthétique​\n▪ A Little Handcart ​\n▪ Candlelit​\n▪ Artist_Irfan​\n▪ Maeaomm craft ​\n▪ Baannilll​\n▪ Saint Teresa​\n▪ Nam Auun​ \nAnd more others special local vendors! We look forward to welcoming you to a meaningful day at Tri Vananda. ​ \nSaturday\, 29th November 2025 | 9:00 – 15:00 ​\nThe Farm at Tri Vananda (https://maps.app.goo.gl/qfTmKp4ps1QCDSWDA )​\nFree Entry\, Register now: https://forms.gle/U2SkQ5YugYgvpzh5A​ \n=======================​\nFor more info: +66 95 371 9494 ​\nEmail: contact@trivananda.com ​ \nFor more info\, link in Bio. \n#TriVananda #TriVanandaPhuket #PhuketResidential #HealthResort #LocalRoots LocalRootsMarket LocalRootsbyTriVananda SustainEvent Phuket TriVanandaLife LuxuryLiving ExclusiveLiving PhuketLuxury​
URL:https://phuketcommunity.com/event/local-roots-by-tri-vananda/
LOCATION:Tri Vananda\, Tambon Thep Krasatti\, Thalang District\, Phuket 83110
CATEGORIES:Community & Meetings
ATTACH;FMTTYPE=image/png:https://phuketcommunity.com/wp-content/uploads/2025/11/image_2025-11-27_201246572.webp
END:VEVENT
BEGIN:VEVENT
DTSTART;TZID=Asia/Bangkok:20251128T110000
DTEND;TZID=Asia/Bangkok:20251128T233000
DTSTAMP:20260422T200412
CREATED:20251120T120435Z
LAST-MODIFIED:20251120T120435Z
UID:5260-1764327600-1764372600@phuketcommunity.com
SUMMARY:URBAN BEACH
DESCRIPTION: URBAN BEACH – Where City Beats Meet Island Heat Kickstart your weekend the right way — with a blast of Hip-Hop\, smooth R&B\, and a beachside vibe that’s anything but ordinary.\nAt KUDO Beach Club\, Fridays transform into an explosive mix of high-energy beats and tropical rhythm. Featuring DJ May\, DJ Lil Dew\, and DJ Amp\,this is the party where city swagger meets island soul.\n Add in a Fire Show\, professional Dancers\, and the electric atmosphere of Patong Beach —and you’ve got a night that lights up from sunset to midnight.\n Think golden hour on the sand\, cocktails in hand\, and basslines that move with the tide.Urban Beach is the ultimate fusion of beach bliss and nightlife beats — a Friday escape you’ll want to repeat every week.\n Big city energy. Island soul. Friday unleashed.\n#UrbanBeach #KUDOBeachClub #FridayVibes #PhuketNights #HipHopOnTheBeach #FireShowPhuket #IslandPartyMood”
URL:https://phuketcommunity.com/event/urban-beach-4/
LOCATION:Kudo Beach Club
CATEGORIES:Dining,Music & Nightlife
ATTACH;FMTTYPE=image/png:https://phuketcommunity.com/wp-content/uploads/2025/11/image_2025-11-06_210954708.webp
END:VEVENT
BEGIN:VEVENT
DTSTART;TZID=Asia/Bangkok:20251128T150000
DTEND;TZID=Asia/Bangkok:20251130T220000
DTSTAMP:20260422T200412
CREATED:20251127T114917Z
LAST-MODIFIED:20251127T114917Z
UID:5389-1764342000-1764540000@phuketcommunity.com
SUMMARY:Grove Pet Scout Camping
DESCRIPTION:Join the fun with your four-legged friends at “Grove Pet Scout Camping” 🐾⛺️ \nPack your bags and come camping with us!\n📆 Date: 28–30 November\n⏰ Time: 3:00 PM – 10:00 PM \n𝗛𝗶𝗴𝗵𝗹𝗶𝗴𝗵𝘁 𝗔𝗰𝘁𝗶𝘃𝗶𝘁𝗶𝗲𝘀 ✨\nEnjoy heartwarming activities for pet lovers\, including a cozy camping zone\, adorable photo spots\, and fun activities designed for your little furry friends to have a blast all day long. \n🎟️Free entry for everyone\n(Your dogs and cats are welcome too\, Pet Friends 🐱🐶🐾) \nSee you at Grove Pet Camping! \nFor more information:\nLine@: @blumonkey￼\nLocation: https://maps.app.goo.gl/aN9sK9amPfJAetG37 \n#GrovePetCamping #GrovePhuket #GroveFestival #PhuketEvent #PetFriendlyCafe KidsFriendly
URL:https://phuketcommunity.com/event/grove-pet-scout-camping/
LOCATION:grove phuket\, 39\, 6\, Wichit\, Meaung\, Phuket 83000
CATEGORIES:Community & Meetings,Festivals
ATTACH;FMTTYPE=image/png:https://phuketcommunity.com/wp-content/uploads/2025/11/image_2025-11-27_184845366.webp
END:VEVENT
BEGIN:VEVENT
DTSTART;TZID=Asia/Bangkok:20251128T180000
DTEND;TZID=Asia/Bangkok:20251128T210000
DTSTAMP:20260422T200412
CREATED:20251127T091141Z
LAST-MODIFIED:20251127T091141Z
UID:5334-1764352800-1764363600@phuketcommunity.com
SUMMARY:EABC x Phuket Rendezvous 2025: Thank you Member Event
DESCRIPTION:Join the vibrant Thai-European business community for our End-of-Year Thank you Member networking event. Get ready for an evening of festive conversation\, forging powerful new connections and new opportunities at Akara Grand Ballroom\, Four Points by Sheraton Phuket Patong Beach Resort on Friday\, 28 November 2025. \nEvent Details:\nDate: Friday\, 28 November 2025\nVenue: Thalang 1+2+3\, Four Points by Sheraton Phuket Patong Beach Resort\nTime: 18:00 – 21:00 \nAgenda:\n– 18:00 – Registration\n– 18:30 – Welcome Remarks\n– 18:40 – Networking\n– 21:00 – Event Closed \nTicket Fees (*Includes cocktail dinner buffet\, soft drinks\, and free-flow wine and cocktails):\n– 1\,300 THB for Members of EABC\n– 1\,300 THB for Co-Chamber Members (BeluThai\, BCCT\, Thai-Finnish Chamber of Commerce\, Hellenic-Thai Chamber of Commerce\, Spanish-Thai Chamber of Commerce\, Swedish-Thai Chamber of Commerce\, TEBA)\n– 1\,800 THB for Non – Members \nFor more information\, please contact EABC Business Development Director\, Ms. Petch Chojnacki\, at business.director@eabc-thailand.org or 064-310-3559.
URL:https://phuketcommunity.com/event/eabc-x-phuket-rendezvous-2025-thank-you-member-event/
LOCATION:Four Points by Sheraton Phuket Patong Beach Resort
CATEGORIES:Community & Meetings
ATTACH;FMTTYPE=image/png:https://phuketcommunity.com/wp-content/uploads/2025/11/image_2025-11-27_161059513.webp
END:VEVENT
BEGIN:VEVENT
DTSTART;TZID=Asia/Bangkok:20251128T183000
DTEND;TZID=Asia/Bangkok:20251128T220000
DTSTAMP:20260422T200412
CREATED:20251127T091419Z
LAST-MODIFIED:20251127T091419Z
UID:5340-1764354600-1764367200@phuketcommunity.com
SUMMARY:Special Guest Mixology - Viking Aurelijus Marudinas
DESCRIPTION:Step into an evening where craftsmanship meets creativity as Malika Sky Bar x Boozia proudly present a Special Guest Mixology – Viking Aurelijus Marudinas\, renowned Spirits Brand Ambassador. \nExperience an exclusive cocktail selection crafted with precision\, depth and over 20 years of mixology mastery – each glass paired thoughtfully with canapé bites to elevate every sip. \nLet the night unfold with atmospheric beats\, a live DJ Featuring Djembe rhythms and a dynamic flair bartender show\, all set against the iconic sunset skyline of Malika. \nJoin our special activities – Free Entry! \nFriday\, November 28th\, 2025\n6:30 PM onward \nReserve your table now http://m.me/.Malikaskybar\n076 – 358 995 or fbco@kalimatesort.com
URL:https://phuketcommunity.com/event/special-guest-mixology-viking-aurelijus-marudinas/
LOCATION:Kalima Resort and Spa Phuket
CATEGORIES:Dining
ATTACH;FMTTYPE=image/png:https://phuketcommunity.com/wp-content/uploads/2025/11/image_2025-11-27_161359638.webp
END:VEVENT
BEGIN:VEVENT
DTSTART;TZID=Asia/Bangkok:20251128T190000
DTEND;TZID=Asia/Bangkok:20251128T233000
DTSTAMP:20260422T200412
CREATED:20251106T043221Z
LAST-MODIFIED:20251106T043221Z
UID:4442-1764356400-1764372600@phuketcommunity.com
SUMMARY:ETHNICA
DESCRIPTION:ETHNICA• Every Friday \nStep into our ritual of rhythm where the ancient spirit of the Mayan tribe awakens under the tropical night. \nLose yourself in hypnotic beats\, tribal energy\, and a wild atmosphere that pulses with life and mystery. \n✨ Are you ready to feel the magic? \nMaya Beach Club • where Fridays awaken the spirit of ETHNICA. \n📞+66 61 485 3000\n📲 https://sevn.ly/xaYsmzXF\n📍 BangTao Beach\, Phuket \n#phuket #mayabeachclubphuket #mayabeachclub\n#beachclubphuket #phuketthailand
URL:https://phuketcommunity.com/event/ethnica-4/
LOCATION:Maya Beach Club Phuket\, Maya Beach Club Phuket 323/26 Moo 2\, Phuket\, Cherngtalay\, 83110\, Thailand
CATEGORIES:Music & Nightlife
ATTACH;FMTTYPE=image/png:https://phuketcommunity.com/wp-content/uploads/2025/11/image_2025-11-06_112712557.webp
END:VEVENT
BEGIN:VEVENT
DTSTART;TZID=Asia/Bangkok:20251128T210000
DTEND;TZID=Asia/Bangkok:20251129T000000
DTSTAMP:20260422T200412
CREATED:20251127T125405Z
LAST-MODIFIED:20251127T125405Z
UID:5407-1764363600-1764374400@phuketcommunity.com
SUMMARY:Holybeats
DESCRIPTION:a rare phuket appearance #holybeats special\nmember of europe’s future-electronic vanguard\na signature “improx” sound.\n• @thecommune.phuket\n• 28/11\n#nomoresnow
URL:https://phuketcommunity.com/event/holybeats-2/
LOCATION:The Commune | Resto Bar
CATEGORIES:Music & Nightlife
ATTACH;FMTTYPE=image/png:https://phuketcommunity.com/wp-content/uploads/2025/11/image_2025-11-27_194634201.webp
END:VEVENT
BEGIN:VEVENT
DTSTART;TZID=Asia/Bangkok:20251128T220000
DTEND;TZID=Asia/Bangkok:20251128T233000
DTSTAMP:20260422T200412
CREATED:20251127T091807Z
LAST-MODIFIED:20251127T091807Z
UID:5346-1764367200-1764372600@phuketcommunity.com
SUMMARY:Alec Monopoly at Armania Phuket
DESCRIPTION:Alec Monopoly at Armania Phuket\n\nFrom street artist to pop-culture icon\, Alec Monopoly is hitting the stage for the first time in Phuket at Armania Phuket on 28th November 2025\, right in the heart of Bangla Road.
URL:https://phuketcommunity.com/event/alec-monopoly-at-armania-phuket/
LOCATION:Armania\, 11 Bangla Rd\, Pa Tong\, Kathu District\, Phuket 83150
CATEGORIES:Music & Nightlife
ATTACH;FMTTYPE=image/png:https://phuketcommunity.com/wp-content/uploads/2025/11/image_2025-11-27_161730180.webp
END:VEVENT
BEGIN:VEVENT
DTSTART;TZID=Asia/Bangkok:20251128T220000
DTEND;TZID=Asia/Bangkok:20251129T010000
DTSTAMP:20260422T200412
CREATED:20251112T124946Z
LAST-MODIFIED:20251112T124946Z
UID:4949-1764367200-1764378000@phuketcommunity.com
SUMMARY:BOB SINCLAR
DESCRIPTION:BOB SINCLAR | 28 NOV 🌹\nA true house music icon makes his Café del Mar Phuket debut this season\, joined by DJ Gregory. \nTickets & Tables on sale now!\n👉 mtix.me/bobsinclar
URL:https://phuketcommunity.com/event/bob-sinclar/
LOCATION:Cafe del Mar Phuket
CATEGORIES:Music & Nightlife
ATTACH;FMTTYPE=image/png:https://phuketcommunity.com/wp-content/uploads/2025/11/image_2025-11-12_194512710.webp
END:VEVENT
END:VCALENDAR