BEGIN:VCALENDAR
VERSION:2.0
PRODID:-//Phuket Community - ECPv6.15.20//NONSGML v1.0//EN
CALSCALE:GREGORIAN
METHOD:PUBLISH
X-WR-CALNAME:Phuket Community
X-ORIGINAL-URL:https://phuketcommunity.com
X-WR-CALDESC:Events for Phuket Community
REFRESH-INTERVAL;VALUE=DURATION:PT1H
X-Robots-Tag:noindex
X-PUBLISHED-TTL:PT1H
BEGIN:VTIMEZONE
TZID:Asia/Bangkok
BEGIN:STANDARD
TZOFFSETFROM:+0700
TZOFFSETTO:+0700
TZNAME:+07
DTSTART:20240101T000000
END:STANDARD
END:VTIMEZONE
BEGIN:VEVENT
DTSTART;TZID=Asia/Bangkok:20251128T150000
DTEND;TZID=Asia/Bangkok:20251130T220000
DTSTAMP:20260422T182942
CREATED:20251127T114917Z
LAST-MODIFIED:20251127T114917Z
UID:5389-1764342000-1764540000@phuketcommunity.com
SUMMARY:Grove Pet Scout Camping
DESCRIPTION:Join the fun with your four-legged friends at “Grove Pet Scout Camping” 🐾⛺️ \nPack your bags and come camping with us!\n📆 Date: 28–30 November\n⏰ Time: 3:00 PM – 10:00 PM \n𝗛𝗶𝗴𝗵𝗹𝗶𝗴𝗵𝘁 𝗔𝗰𝘁𝗶𝘃𝗶𝘁𝗶𝗲𝘀 ✨\nEnjoy heartwarming activities for pet lovers\, including a cozy camping zone\, adorable photo spots\, and fun activities designed for your little furry friends to have a blast all day long. \n🎟️Free entry for everyone\n(Your dogs and cats are welcome too\, Pet Friends 🐱🐶🐾) \nSee you at Grove Pet Camping! \nFor more information:\nLine@: @blumonkey￼\nLocation: https://maps.app.goo.gl/aN9sK9amPfJAetG37 \n#GrovePetCamping #GrovePhuket #GroveFestival #PhuketEvent #PetFriendlyCafe KidsFriendly
URL:https://phuketcommunity.com/event/grove-pet-scout-camping/
LOCATION:grove phuket\, 39\, 6\, Wichit\, Meaung\, Phuket 83000
CATEGORIES:Community & Meetings,Festivals
ATTACH;FMTTYPE=image/png:https://phuketcommunity.com/wp-content/uploads/2025/11/image_2025-11-27_184845366.webp
END:VEVENT
BEGIN:VEVENT
DTSTART;TZID=Asia/Bangkok:20251128T220000
DTEND;TZID=Asia/Bangkok:20251129T010000
DTSTAMP:20260422T182942
CREATED:20251112T124946Z
LAST-MODIFIED:20251112T124946Z
UID:4949-1764367200-1764378000@phuketcommunity.com
SUMMARY:BOB SINCLAR
DESCRIPTION:BOB SINCLAR | 28 NOV 🌹\nA true house music icon makes his Café del Mar Phuket debut this season\, joined by DJ Gregory. \nTickets & Tables on sale now!\n👉 mtix.me/bobsinclar
URL:https://phuketcommunity.com/event/bob-sinclar/
LOCATION:Cafe del Mar Phuket
CATEGORIES:Music & Nightlife
ATTACH;FMTTYPE=image/png:https://phuketcommunity.com/wp-content/uploads/2025/11/image_2025-11-12_194512710.webp
END:VEVENT
BEGIN:VEVENT
DTSTART;TZID=Asia/Bangkok:20251129T080000
DTEND;TZID=Asia/Bangkok:20251129T100000
DTSTAMP:20260422T182942
CREATED:20251127T095416Z
LAST-MODIFIED:20251127T095416Z
UID:5382-1764403200-1764410400@phuketcommunity.com
SUMMARY:Mindful Minis Clean Up Day at Surin Beach!
DESCRIPTION:Calling all Parents and their Minis! Looking for a fun\, meaningful\, and gentle way to start your Saturday morning\, connect with other families\, and give back to beautiful Phuket?\nJoin us for the Mindful Minis Clean Up Day at Surin Beach!\nThis is the perfect morning out designed for families:\n Connect & Stretch: We kick off the morning with a gentle 15-minute Family-Friendly Yoga session hosted by Yoga Lodge Phuket. It’s a fun way to stretch those little legs and quiet the mind before the cleanup begins!\n Play & Clean: After yoga\, we work together for a Community Clean-Up. It’s a fantastic way to teach kids about sustainability while they run around\, make friends\, and help keep Surin Beach pristine.\n Meet & Mingle: It’s a great chance for mums to meet new friends\, connect with neighbors\, and enjoy a healthy\, vibrant start to the weekend!\nCome make a difference\, connect with neighbors\, and help create a cleaner\, greener tomorrow!\nPlease register: https://forms.gle/mBi4tXgZPkAwtFj66\nTo find out more about Yoga Lodge Phuket: https://phuketyoga.co/ or https://www.facebook.com/profile.php?id=61554534941574\nConnect with The Litter Club https://thelitterclub.org\n#TheLitterClub #EveryPieceMatters #EveryParentMatters #LoveIsAnAction
URL:https://phuketcommunity.com/event/mindful-minis-clean-up-day-at-surin-beach/
LOCATION:Surin Beach
CATEGORIES:Community & Meetings
ATTACH;FMTTYPE=image/png:https://phuketcommunity.com/wp-content/uploads/2025/11/image_2025-11-27_165127200.webp
END:VEVENT
BEGIN:VEVENT
DTSTART;TZID=Asia/Bangkok:20251129T080000
DTEND;TZID=Asia/Bangkok:20251206T220000
DTSTAMP:20260422T182943
CREATED:20251127T094249Z
LAST-MODIFIED:20251127T094249Z
UID:5376-1764403200-1765058400@phuketcommunity.com
SUMMARY:Phuket King's Cup Regatta 2025
DESCRIPTION:Get ready to set sail!\n\nThe 37th Phuket King’s Cup Regatta returns from November 29 to December 6\, 2025\, bringing together world-class sailors for Asia’s most famous international regatta. \nOnline registration starts from October 15 – November 29\, 2025\, don’t miss your chance to be part of this exciting event! \nThe King’s Cup is Asia’s most famous international regatta and features a thrilling mix of keelboats\, multihulls\, dinghies\, optimists\, and disabled sailing categories\, all set against the stunning backdrop of Phuket’s coastline. \nJoin us for an unforgettable week of competitive sailing\, camaraderie\, and celebration at the Phuket King’s Cup Regatta 2025!
URL:https://phuketcommunity.com/event/phuket-kings-cup-regatta-2025/
LOCATION:Kata beach
CATEGORIES:Sports
ATTACH;FMTTYPE=image/png:https://phuketcommunity.com/wp-content/uploads/2025/11/image_2025-11-27_164207162.webp
END:VEVENT
BEGIN:VEVENT
DTSTART;TZID=Asia/Bangkok:20251129T120000
DTEND;TZID=Asia/Bangkok:20251129T150000
DTSTAMP:20260422T182943
CREATED:20251127T093937Z
LAST-MODIFIED:20251127T093937Z
UID:5371-1764417600-1764428400@phuketcommunity.com
SUMMARY:Anniversary Pool Party Brunch at Kata Rocks
DESCRIPTION:Pool Party Brunch – Saturday 29 November \nJoin us at Kata Rocks for Phuket’s ultimate anniversary poolside brunch. Celebrate with a fashion show by Meow Beachwear & Fiducia Collection\, dive into a gourmet buffet\, and enjoy live DJ vibes\, saxophone performances\, and our special highlight: Roasted Pork. \nTHB 5\,450++ per person\n12:00 – onwards | Kata Rocks Clubhouse\nIncludes free-flow Whispering Angel\, red & white wine\, local beers\, cocktails & mocktails \nLimited seats available – reserve now: https://linktr.ee/katarocksphuket\nTel: +66 76 370 777 | dining@katarocks.com
URL:https://phuketcommunity.com/event/anniversary-pool-party-brunch-at-kata-rocks/
LOCATION:Kata Rocks\, 186/22 Kata Beach\, Kok Tanod Road\, Karon\, Phuket 83100 Thailand
CATEGORIES:Music & Nightlife
ATTACH;FMTTYPE=image/png:https://phuketcommunity.com/wp-content/uploads/2025/11/image_2025-11-27_163828251.webp
END:VEVENT
BEGIN:VEVENT
DTSTART;TZID=Asia/Bangkok:20251129T140000
DTEND;TZID=Asia/Bangkok:20251129T190000
DTSTAMP:20260422T182943
CREATED:20251127T092440Z
LAST-MODIFIED:20251127T092440Z
UID:5355-1764424800-1764442800@phuketcommunity.com
SUMMARY:Savara Saturdays at Barra Cuda Phuket
DESCRIPTION:Savara Saturdays at Barra Cuda Phuket\n\nEvery name has a story\, and ours just evolved. \nAfro Loco becomes Savara — the rise of the Jungle Queen. \nSaturdays from 2 PM till late. Join the tribe\, feel the rhythm\, and let’s dance. \nFor more information or reservations\, please contact\nTel: +66 (0) 61 394 3904 (WhatsApp)\nLine OA: @barracudaphuket\nEmail: reservations@barracudabeachclub.com
URL:https://phuketcommunity.com/event/savara-saturdays-at-barra-cuda-phuket-3/
LOCATION:Barra Cuda Phuket\, 43 Thaweewong Road\, Amphoe Kathu\, Phuket\, Patong\, Thailand\, Phuket\, Patong\, Phuket\, 83100\, Thailand
CATEGORIES:Dining,Music & Nightlife
ATTACH;FMTTYPE=image/png:https://phuketcommunity.com/wp-content/uploads/2025/11/image_2025-11-06_163902214.webp
END:VEVENT
BEGIN:VEVENT
DTSTART;TZID=Asia/Bangkok:20251129T160000
DTEND;TZID=Asia/Bangkok:20251129T233000
DTSTAMP:20260422T182943
CREATED:20251127T092718Z
LAST-MODIFIED:20251127T092718Z
UID:5351-1764432000-1764459000@phuketcommunity.com
SUMMARY:2025 Season Opening at Fira Beach Club
DESCRIPTION:The season kicks off with a bang as SOLARDO takes over FIRA. \nFrom Ibiza rooftops to Miami nights\, the UK duo brings their signature energy\, rhythm\, and unstoppable beats to Phuket’s most iconic hilltop venue. \nSaturday\, November 29th\nFrom 4 PM till late\nHilltop panoramic view & the music. \nGet ready for a night of heat\, music\, and pure FIRA madness.\nSunset to moonlight – the energy never fades. \nThis is the official reopening of the season.\nThe sound. The crowd. The view. All in one place.
URL:https://phuketcommunity.com/event/2025-season-opening-at-fira-beach-club/
LOCATION:Fira Beach Club\, 228 6-7 Khok Tanod Road\, Karon Phuket 83100 Thailand
CATEGORIES:Music & Nightlife
ATTACH;FMTTYPE=image/png:https://phuketcommunity.com/wp-content/uploads/2025/11/image_2025-11-27_162640117.webp
END:VEVENT
BEGIN:VEVENT
DTSTART;TZID=Asia/Bangkok:20251129T163000
DTEND;TZID=Asia/Bangkok:20251129T210000
DTSTAMP:20260422T182943
CREATED:20251120T105133Z
LAST-MODIFIED:20251120T105133Z
UID:5240-1764433800-1764450000@phuketcommunity.com
SUMMARY:Saturday Market at Bangtao Beach
DESCRIPTION:🌴 Saturday Market at Bangtao Beach\, Cherngtalay\nJoin us every Saturday from 4:30 PM – 9:00 PM at The Beach Phuket\, located inside Arinara Beach Resort Phuket. Explore over 30 vendors where you can shop\, taste\, and enjoy live performances by the beach. \n✨ Market Highlights\nDiscover the charm of local products from the Bangtao community\, including:\n• Apoong – Phuket’s traditional crispy aromatic snack\n• Traditional Bangtao desserts – authentic local flavors\n• Fresh cold-pressed fruit juices – chemical-free and made by local farmers\n• Hand-carved soap – beautifully crafted handmade pieces\n• Handwoven bags – unique designs you’ll love\n• Live Like a Local – eco-friendly lifestyle products made with materials safe for marine animals. \n🎉 Fun Activities for Everyone\n• Ball house for kids\n• Dart balloon game – test your accuracy and win prizes\n• Shooting game for stuffed animals\n• Get your portrait drawn as a cute doll-style illustration\n• Thai musical performance by local youth\n• Goat feeding from a local community farm\n• Henna painting in Indian style\n• Plaster painting activity for kids \n🔥 Special Shows\nEnjoy exciting performances by Bozo and a spectacular Fire Show right on Bangtao Beach. \nSaturday Market is not just a market — it’s a community space that supports local careers\, farmers\, and the new generation filled with passion and dreams. \n“This weekend\, bring your kids and family for a fun\, relaxing\, and memorable evening!”\n_____________________________\nFor more information\nTel: 076314361 \n#arinarabeachresortphuket #thebeachphuket\n#BangTaoBeach #BeachfrontDining #phuketmarket #PhuketRestaurants #VacationVibes
URL:https://phuketcommunity.com/event/saturday-market-at-bangtao-beach-2/
LOCATION:The Beach Phuket
CATEGORIES:Community & Meetings,Festivals,Shopping & Markets
ATTACH;FMTTYPE=image/jpeg:https://phuketcommunity.com/wp-content/uploads/2025/11/🌴-Saturday-Market-at-Bangtao-Beach-CherngtalayJoin-us-every-Saturday-from-4-30-PM-–-9-00-PM-at.webp
END:VEVENT
BEGIN:VEVENT
DTSTART;TZID=Asia/Bangkok:20251129T170000
DTEND;TZID=Asia/Bangkok:20251130T230000
DTSTAMP:20260422T182943
CREATED:20251129T002529Z
LAST-MODIFIED:20251129T002529Z
UID:5446-1764435600-1764543600@phuketcommunity.com
SUMMARY:Yok Chill Season 4
DESCRIPTION:Yok Chill Season 4 is Back!\nAn event that unites all Community in Phuket.\nFun and warmth in one place.\nAnd a cool vibe! 😎 \n🍕🍺Food & Drink more than 70 brands.\n🎸 Local Live Bands. Chilling throughout the event.\n🐾 Pet Friendly. Bring the kids to have fun together. \n📢 Which brand would like to join the cheering! Talk to us 👉🏻 Line OA @Limelightphuket \nYou can follow the information on FB | IG\n@yokchillcommunity Hit Like and Follow! \n🗓️ 29-30 Nov 2025\n🕔 17:00-23:00\n📍 Limelight Phuket outdoor court \nGather the sewers at the ready! And let’s join to be the same 🤩 \n#ยกชิ้ว #YokChill\n#communitywarmingweekend
URL:https://phuketcommunity.com/event/yok-chill-season-4/
LOCATION:Limelight Phuket
ATTACH;FMTTYPE=image/jpeg:https://phuketcommunity.com/wp-content/uploads/2025/11/Yok-Chill-Season-4-is-Back-งานที่รวมทุก-Community-ในภูเก็ตไว้ในที่เดียว-ทั้งความสนุก-ความอบอุ่น.webp
END:VEVENT
BEGIN:VEVENT
DTSTART;TZID=Asia/Bangkok:20251129T183000
DTEND;TZID=Asia/Bangkok:20251129T220000
DTSTAMP:20260422T182943
CREATED:20251127T093112Z
LAST-MODIFIED:20251127T093112Z
UID:5360-1764441000-1764453600@phuketcommunity.com
SUMMARY:BBQ Beatdown 180 at Tiger Muay Thai
DESCRIPTION:The next edition of our famous BBQ Beatdown fight & party event is set for Saturday November 29th here at Tiger Muay Thai! \nOur BBQ Beatdowns feature pro & amateur fights under Muay Thai\, MMA\, boxing and kickboxing rules\, and have served as a platform for many fighters to get their first steps in the ring on the way to big things \nAs well as the fights\, the event will also feature:\n– Delicious buffet of local food\n– 2 free beers\n– Fully stocked bar\n– Live music\n– Lucky draw with mystery prizes \nDoors open at 6:30pm on Saturday November 29th\, and tickets are available here at camp now. Don’t miss it!
URL:https://phuketcommunity.com/event/bbq-beatdown-180-at-tiger-muay-thai/
LOCATION:Tiger Muay Thai\, 7 35 Soi Ta-iad\, Chalong\, เมือง Phuket 83130
CATEGORIES:Sports
ATTACH;FMTTYPE=image/png:https://phuketcommunity.com/wp-content/uploads/2025/11/image_2025-11-27_162938278.webp
END:VEVENT
BEGIN:VEVENT
DTSTART;TZID=Asia/Bangkok:20251129T220000
DTEND;TZID=Asia/Bangkok:20251130T000000
DTSTAMP:20260422T182943
CREATED:20251127T093606Z
LAST-MODIFIED:20251127T093606Z
UID:5366-1764453600-1764460800@phuketcommunity.com
SUMMARY:Floyd Lavine at Café Del Mar Phuket
DESCRIPTION:FLOY LAVINE returns to The Club Room \nDJ and producer from South Africa\, now based in Berlin. Founder of Afrikan Tales and a key figure in South Africa’s electronic music scene\, Floyd has performed at iconic venues including Watergate Berlin\, Boiler Room\, and Tomorrowland. He returns to Café del Mar Phuket after a standout show last season. \nLimited tickets & tables available — get yours now
URL:https://phuketcommunity.com/event/floyd-lavine-at-cafe-del-mar-phuket/
LOCATION:Cafe del Mar Phuket
CATEGORIES:Music & Nightlife
ATTACH;FMTTYPE=image/png:https://phuketcommunity.com/wp-content/uploads/2025/11/image_2025-11-27_163507723.webp
END:VEVENT
BEGIN:VEVENT
DTSTART;TZID=Asia/Bangkok:20251129T220000
DTEND;TZID=Asia/Bangkok:20251130T020000
DTSTAMP:20260422T182943
CREATED:20251111T101615Z
LAST-MODIFIED:20251111T101615Z
UID:4765-1764453600-1764468000@phuketcommunity.com
SUMMARY:ALAR — GRAND OPENING SEASON
DESCRIPTION:ALAR — GRAND OPENING SEASON | HIGH SEASON PARTY \nThe headliner of the season opening — ALAR.\nA night where sound meets spirit\, and the new YUUHI story begins. \nOn stage:\n🔥 ALAR\n⚡️ LISITSYN\n🌊 JEGGI \n📅 Saturday\, November 29\n📍 YUUHI Beach Club & Karaoke\, Phuket\n🎟 Tickets available now.\nStart the season where music becomes a ritual.
URL:https://phuketcommunity.com/event/alar-grand-opening-season/
LOCATION:YUUHI Beach Club\, https://maps.app.goo.gl/DwXyFccvn1uxWMsb7
CATEGORIES:Music & Nightlife
ATTACH;FMTTYPE=image/png:https://phuketcommunity.com/wp-content/uploads/2025/11/image_2025-11-11_171438496.webp
END:VEVENT
BEGIN:VEVENT
DTSTART;TZID=Asia/Bangkok:20251129T220000
DTEND;TZID=Asia/Bangkok:20251130T030000
DTSTAMP:20260422T182943
CREATED:20251113T093055Z
LAST-MODIFIED:20251113T093055Z
UID:4999-1764453600-1764471600@phuketcommunity.com
SUMMARY:Drum & Bass at Fly’O
DESCRIPTION:District 1 x Fly’O | Tyke & Terrance & Phillip 🔊 \nPhuket’s home of Drum & Bass returns to Fly’O Patong on Friday 29 November! We’re bring even more BASS with some fresh additions to the sound system 👀 \n🎟 300 THB online / 500 THB door (1 drink included)\n⏰ 10 PM – 3 AM\n📍 Fly’O\, Patong \nLine-up\nTyke (Playaz UK) [@tyke_playaz]\nTerrance & Phillip (Good Karma Music) [@terrenceandphillip]\nJecht [@jechtsome]\nTrodly [@trodly]\nJaybee [@dnbjaybee]\nMarysun [@mary_mary_sun] \nPre-Event Open Decks | 8–10 PM\nFirst come\, first served — bring your USB and jump on.\n(No heavy Neurofunk early on — save that for the main room 😉)
URL:https://phuketcommunity.com/event/drum-bass-at-flyo/
CATEGORIES:Music & Nightlife
ATTACH;FMTTYPE=image/png:https://phuketcommunity.com/wp-content/uploads/2025/11/image_2025-11-13_162814266.webp
END:VEVENT
END:VCALENDAR