BEGIN:VCALENDAR
VERSION:2.0
PRODID:-//Phuket Community - ECPv6.15.20//NONSGML v1.0//EN
CALSCALE:GREGORIAN
METHOD:PUBLISH
X-WR-CALNAME:Phuket Community
X-ORIGINAL-URL:https://phuketcommunity.com
X-WR-CALDESC:Events for Phuket Community
REFRESH-INTERVAL;VALUE=DURATION:PT1H
X-Robots-Tag:noindex
X-PUBLISHED-TTL:PT1H
BEGIN:VTIMEZONE
TZID:Asia/Bangkok
BEGIN:STANDARD
TZOFFSETFROM:+0700
TZOFFSETTO:+0700
TZNAME:+07
DTSTART:20250101T000000
END:STANDARD
END:VTIMEZONE
BEGIN:VEVENT
DTSTART;TZID=Asia/Bangkok:20260128T210000
DTEND;TZID=Asia/Bangkok:20260129T030000
DTSTAMP:20260419T225424
CREATED:20260122T094808Z
LAST-MODIFIED:20260122T094808Z
UID:6654-1769634000-1769655600@phuketcommunity.com
SUMMARY:WhoMadeWho Hybrid DJ Set
DESCRIPTION:WhoMadeWho Hybrid DJ Set – Café del Mar Phuket – Wednesday\, January 28 \nExperience an evocative night of genre-defying electronic music as the world-renowned Danish trio brings their emotional intensity to the beachfront Temple Stage. \nLine-up:\nWhoMadeWho\, Eli Cicada \nWednesday\, 28 January\nCafé del Mar\, Phuket\n11am–late \nEarly arrival before 4pm is highly recommended to secure entry and witness the full transition of this world-class musical journey.
URL:https://phuketcommunity.com/event/whomadewho-hybrid-dj-set/
LOCATION:Cafe del Mar Phuket
CATEGORIES:Music & Nightlife
ATTACH;FMTTYPE=image/png:https://phuketcommunity.com/wp-content/uploads/2026/01/image_2026-01-22_164739862.webp
END:VEVENT
END:VCALENDAR