BEGIN:VCALENDAR
VERSION:2.0
PRODID:-//Phuket Community - ECPv6.15.20//NONSGML v1.0//EN
CALSCALE:GREGORIAN
METHOD:PUBLISH
X-WR-CALNAME:Phuket Community
X-ORIGINAL-URL:https://phuketcommunity.com
X-WR-CALDESC:Events for Phuket Community
REFRESH-INTERVAL;VALUE=DURATION:PT1H
X-Robots-Tag:noindex
X-PUBLISHED-TTL:PT1H
BEGIN:VTIMEZONE
TZID:Asia/Bangkok
BEGIN:STANDARD
TZOFFSETFROM:+0700
TZOFFSETTO:+0700
TZNAME:+07
DTSTART:20250101T000000
END:STANDARD
END:VTIMEZONE
BEGIN:VEVENT
DTSTART;TZID=Asia/Bangkok:20260227T190000
DTEND;TZID=Asia/Bangkok:20260228T020000
DTSTAMP:20260419T230159
CREATED:20260226T025507Z
LAST-MODIFIED:20260226T025507Z
UID:7107-1772218800-1772244000@phuketcommunity.com
SUMMARY:BOHEMA
DESCRIPTION:BOHEMA – CARPE DIEM BEACH CLUB – 27 FEB \nStep into a world of artistic expression and seaside sophistication for a night of curated electronic beats. This is where the bohemian spirit meets the beach for an unforgettable Friday session under the stars. \nLine-up:\nShane Shine\, Jajaa\, Matt Flk\, Ana Rova \nFriday\, 27 February\nCarpe Diem Beach Club\, Phuket\n7pm-late \nJoin us for a sunset-to-sunrise experience where the music and the ocean air collide.
URL:https://phuketcommunity.com/event/bohema-2/
LOCATION:Carpe Diem Beach Club\, 99\, 1 Bangtao Beach Road\, Choeng Thale\, Thalang District\, Phuket 83110\, Thalang\, Phuket\, 83100\, Thailand
CATEGORIES:Music & Nightlife
ATTACH;FMTTYPE=image/png:https://phuketcommunity.com/wp-content/uploads/2026/02/image_2026-02-26_095437234.webp
END:VEVENT
BEGIN:VEVENT
DTSTART;TZID=Asia/Bangkok:20260227T200000
DTEND;TZID=Asia/Bangkok:20260228T020000
DTSTAMP:20260419T230159
CREATED:20260226T025700Z
LAST-MODIFIED:20260226T025700Z
UID:7112-1772222400-1772244000@phuketcommunity.com
SUMMARY:SHAMAN’S SPIRIT
DESCRIPTION:SHAMAN’S SPIRIT – PHUKET – 27 FEB \nConnect with the primal energy of the island through a captivating live performance that blends tribal rhythms with modern beats. This is your invitation to a soulful Friday night journey in the heart of Bang Tao. \nLine-up:\nDJ Inna Ra \nFriday\, 27 February\nPhuket\, Bang Tao\n8pm-late \nEntry is free for all who wish to join the ritual.
URL:https://phuketcommunity.com/event/shamans-spirit/
LOCATION:Shaman Phuket\, https://maps.app.goo.gl/RzK7ncGmBmGeo4CY8
CATEGORIES:Music & Nightlife
ATTACH;FMTTYPE=image/png:https://phuketcommunity.com/wp-content/uploads/2026/02/image_2026-02-26_095643472.webp
END:VEVENT
BEGIN:VEVENT
DTSTART;TZID=Asia/Bangkok:20260227T210000
DTEND;TZID=Asia/Bangkok:20260228T020000
DTSTAMP:20260419T230159
CREATED:20260226T031310Z
LAST-MODIFIED:20260226T031310Z
UID:7140-1772226000-1772244000@phuketcommunity.com
SUMMARY:Marco Lys
DESCRIPTION:Marco Lys at Illuzion Phuket\n\n@djmarcolys at @illuzion_phuket | 27 FEB \nMarco Lys\, a Venice-born house and tech-house luminary with 20+ years at the forefront of global dance music. Supported by FISHER\, Green Velvet\, and Marco Carola\, his groove-driven sound is a staple on dance floors worldwide. \nBeatport Top 10 seller with 400K+ monthly Spotify listeners. \nStep onto the dance floor. \nInfo & VIP: +66 (0) 64 454 4985 | info@illuzionphuket.com
URL:https://phuketcommunity.com/event/marco-lys/
LOCATION:Illuzion\, 31 Bangla Rd\, Pa Tong\, Amphoe Kathu\, Phuket 83150\, Patong\, Phuket\, 83150\, Thailand
CATEGORIES:Music & Nightlife
ATTACH;FMTTYPE=image/png:https://phuketcommunity.com/wp-content/uploads/2026/02/image_2026-02-26_101243345.webp
END:VEVENT
BEGIN:VEVENT
DTSTART;TZID=Asia/Bangkok:20260227T210000
DTEND;TZID=Asia/Bangkok:20260228T020000
DTSTAMP:20260419T230159
CREATED:20260226T032036Z
LAST-MODIFIED:20260226T032036Z
UID:7150-1772226000-1772244000@phuketcommunity.com
SUMMARY:Tech It Deep
DESCRIPTION:Tech It Deep at BOA Club\n\nTECH IT DEEP at BOA — February 27 \n@techitdeep is an Amsterdam-born DJ & producer whose sound blends driving rhythms with hip-hop and soul-infused samples. With collaborations across the scene and releases that get supported everywhere — from clubs and festivals to radio and playlists — his tracks are built to move the room. \nFebruary 27\nFrom 9 PM\n9/1 Bangla Road\, Patong\nTable bookings: +66 63 109 2999 (call or WhatsApp)
URL:https://phuketcommunity.com/event/tech-it-deep/
LOCATION:Boa Club Phuket\, https://maps.app.goo.gl/ViPw6Evub1UAT8747
CATEGORIES:Music & Nightlife
ATTACH;FMTTYPE=image/png:https://phuketcommunity.com/wp-content/uploads/2026/02/image_2026-02-26_101905778.webp
END:VEVENT
BEGIN:VEVENT
DTSTART;TZID=Asia/Bangkok:20260227T220000
DTEND;TZID=Asia/Bangkok:20260228T030000
DTSTAMP:20260419T230159
CREATED:20260218T093228Z
LAST-MODIFIED:20260218T093228Z
UID:7046-1772229600-1772247600@phuketcommunity.com
SUMMARY:GO DEEVA
DESCRIPTION:GO DEEVA – CAFÉ DEL MAR PHUKET – FEB 27 \nImmerse yourself in a premium night of sophisticated house music as the renowned Go Deeva label takes over Phuket’s most iconic beach club. This Friday session brings together international talent and local expertise for a high-energy dance floor experience in a lush coastal setting. \nLine-up:\nSimone Vitullo\, Newman (I Love)\, Q Narongwate \nFriday\, 27 February\nCafé del Mar\, Phuket\n10pm – Late \nSecure your spot at the island’s premier beachfront destination for a night of world-class underground sounds.
URL:https://phuketcommunity.com/event/go-deeva/
CATEGORIES:Music & Nightlife
ATTACH;FMTTYPE=image/png:https://phuketcommunity.com/wp-content/uploads/2026/02/image_2026-02-18_163157942.webp
END:VEVENT
BEGIN:VEVENT
DTSTART;TZID=Asia/Bangkok:20260227T220000
DTEND;TZID=Asia/Bangkok:20260228T030000
DTSTAMP:20260419T230159
CREATED:20260226T031655Z
LAST-MODIFIED:20260226T031655Z
UID:7145-1772229600-1772247600@phuketcommunity.com
SUMMARY:Zamna Soundsystem
DESCRIPTION:Zamna Soundsystem at Armania Phuket\n\nFrom the jungle of Tulum to the heart of Phuket! ZAMNA SOUNDSYSTEM takes over Armania Phuket on 27 February.
URL:https://phuketcommunity.com/event/zamna-soundsystem/
LOCATION:Armania\, 11 Bangla Rd\, Pa Tong\, Kathu District\, Phuket 83150
CATEGORIES:Music & Nightlife
ATTACH;FMTTYPE=image/png:https://phuketcommunity.com/wp-content/uploads/2026/02/image_2026-02-26_101537666.webp
END:VEVENT
BEGIN:VEVENT
DTSTART;TZID=Asia/Bangkok:20260228T190000
DTEND;TZID=Asia/Bangkok:20260228T220000
DTSTAMP:20260419T230159
CREATED:20260226T045200Z
LAST-MODIFIED:20260226T045200Z
UID:7155-1772305200-1772316000@phuketcommunity.com
SUMMARY:Sapore di Jazz & Vino
DESCRIPTION:Sapore di Jazz & Vino at Azzurra\n\nJourney with us through a night of vibrant jazz and authentic Italian cuisine\, where lively melodies meet handmade pastas\, luminous seafood and handpicked vino. \nSip\, savor and unwind as our jazz band serenades the evening with vivacious Italian classics. From the first note to the final bite\, every detail is crafted for guests who cherish seasonal flavors\, heartfelt service and relaxed indulgence beside Bang Tao Beach. \nReserve your table and let spontaneity lead the way\, limited seats available. \n19.00 – 22.00 hrs.
URL:https://phuketcommunity.com/event/sapore-di-jazz-vino/
LOCATION:Azzurra – Angsana Laguna Phuket
CATEGORIES:Music & Nightlife
ATTACH;FMTTYPE=image/png:https://phuketcommunity.com/wp-content/uploads/2026/02/image_2026-02-26_115104739.webp
END:VEVENT
BEGIN:VEVENT
DTSTART;TZID=Asia/Bangkok:20260228T190000
DTEND;TZID=Asia/Bangkok:20260228T233000
DTSTAMP:20260419T230159
CREATED:20260220T031321Z
LAST-MODIFIED:20260220T031321Z
UID:7064-1772305200-1772321400@phuketcommunity.com
SUMMARY:GROSSOMODDO
DESCRIPTION:GROSSOMODDO – MAYA BEACH CLUB PHUKET – FEB 28 \nCatch the bold sounds of Grossomoddo as he takes over one of Phuket’s premier beachfront destinations for a high-energy Saturday session. This is the ultimate coastal vibe for those looking to experience world-class beats in a stunning tropical setting. \nLine-up:\nGrossomoddo \nSaturday\, 28 February\nMaya Beach Club\, Phuket\n7pm – Late \nSecure your spot on the dance floor and prepare for an unforgettable night of music by the sea.
URL:https://phuketcommunity.com/event/grossomoddo/
LOCATION:Maya Beach Club Phuket\, Maya Beach Club Phuket 323/26 Moo 2\, Phuket\, Cherngtalay\, 83110\, Thailand
CATEGORIES:Music & Nightlife
ATTACH;FMTTYPE=image/png:https://phuketcommunity.com/wp-content/uploads/2026/02/image_2026-02-20_101251535.webp
END:VEVENT
BEGIN:VEVENT
DTSTART;TZID=Asia/Bangkok:20260228T210000
DTEND;TZID=Asia/Bangkok:20260301T020000
DTSTAMP:20260419T230159
CREATED:20260220T031623Z
LAST-MODIFIED:20260220T031623Z
UID:7069-1772312400-1772330400@phuketcommunity.com
SUMMARY:OLYMPE
DESCRIPTION:OLYMPE – ILLUZION PHUKET – FEB 28 \nExperience a powerhouse Saturday night performance as Olympe takes center stage at Phuket’s most iconic superclub. This high-energy session promises cutting-edge electronic sounds and a world-class atmosphere in the heart of Patong. \nLine-up:\nOlympe \nSaturday\, 28 February\nIlluzion\, Phuket\n9pm – Late \nJoin the dance floor at one of the top-ranked clubs in the world for an unforgettable peak-season night.
URL:https://phuketcommunity.com/event/olympe/
LOCATION:Illuzion\, 31 Bangla Rd\, Pa Tong\, Amphoe Kathu\, Phuket 83150\, Patong\, Phuket\, 83150\, Thailand
CATEGORIES:Music & Nightlife
ATTACH;FMTTYPE=image/png:https://phuketcommunity.com/wp-content/uploads/2026/02/image_2026-02-20_101547426.webp
END:VEVENT
BEGIN:VEVENT
DTSTART;TZID=Asia/Bangkok:20260228T210000
DTEND;TZID=Asia/Bangkok:20260301T020000
DTSTAMP:20260419T230159
CREATED:20260220T031929Z
LAST-MODIFIED:20260220T031929Z
UID:7074-1772312400-1772330400@phuketcommunity.com
SUMMARY:MAHMUT ORHAN
DESCRIPTION:MAHMUT ORHAN – CAFÉ DEL MAR PHUKET – SATURDAY 28 FEB \nGlobal sensation Mahmut Orhan returns to the island for another high-energy beachfront takeover following his last sold-out session. Expect a masterclass in deep house and nu-disco fusion as the “Feel” hitmaker delivers his signature sound to the Temple Stage. \nLine-up:\nMahmut Orhan\, Hebdonis \nSaturday\, 28 February\nCafé del Mar\, Phuket\n11:00 AM – Late \nDon’t miss the chance to catch one of electronic music’s most influential artists in a prime sunset setting.
URL:https://phuketcommunity.com/event/mahmut-orhan/
LOCATION:Cafe del Mar Phuket
CATEGORIES:Music & Nightlife
ATTACH;FMTTYPE=image/png:https://phuketcommunity.com/wp-content/uploads/2026/02/image_2026-02-20_101905856.webp
END:VEVENT
BEGIN:VEVENT
DTSTART;TZID=Asia/Bangkok:20260228T230000
DTEND;TZID=Asia/Bangkok:20260301T030000
DTSTAMP:20260419T230159
CREATED:20260226T030031Z
LAST-MODIFIED:20260226T030031Z
UID:7117-1772319600-1772334000@phuketcommunity.com
SUMMARY:IVORY
DESCRIPTION:IVORY – CAFÉ DEL MAR PHUKET – 28 FEB \nEscape to the coast for an evening of sophisticated rhythms and poolside elegance. Experience a late-night journey through deep\, melodic house as the moon rises over Kamala Beach. \nLine-up:\nIvory\, Ekanan \nSaturday\, 28 February\nCafé del Mar\, Phuket\n11pm-late \nPrepare for a world-class performance in the island’s ultimate beachfront sanctuary.
URL:https://phuketcommunity.com/event/ivory/
LOCATION:Cafe del Mar Phuket
CATEGORIES:Music & Nightlife
ATTACH;FMTTYPE=image/png:https://phuketcommunity.com/wp-content/uploads/2026/02/image_2026-02-26_095953725.webp
END:VEVENT
END:VCALENDAR