BEGIN:VCALENDAR
VERSION:2.0
PRODID:-//Phuket Community - ECPv6.15.20//NONSGML v1.0//EN
CALSCALE:GREGORIAN
METHOD:PUBLISH
X-WR-CALNAME:Phuket Community
X-ORIGINAL-URL:https://phuketcommunity.com
X-WR-CALDESC:Events for Phuket Community
REFRESH-INTERVAL;VALUE=DURATION:PT1H
X-Robots-Tag:noindex
X-PUBLISHED-TTL:PT1H
BEGIN:VTIMEZONE
TZID:Asia/Bangkok
BEGIN:STANDARD
TZOFFSETFROM:+0700
TZOFFSETTO:+0700
TZNAME:+07
DTSTART:20250101T000000
END:STANDARD
END:VTIMEZONE
BEGIN:VEVENT
DTSTART;VALUE=DATE:20260419
DTEND;VALUE=DATE:20260425
DTSTAMP:20260420T013901
CREATED:20260416T072946Z
LAST-MODIFIED:20260416T094451Z
UID:8349-1776556800-1777075199@phuketcommunity.com
SUMMARY:GSTC 2026 Sustainable Tourism Conference
DESCRIPTION:📣 Only one week to go until #GSTC2026 in Phuket! \nIn one week\, the global sustainable tourism community will gather in Phuket\, Thailand\, for the GSTC2026 Global Sustainable Tourism Conference. \nWe look forward to welcoming participants from around the world for a week of knowledge exchange\, collaboration\, and action toward a more sustainable tourism industry. 🌱 \n✨ There’s still time to join us and be part of the conversation! \n🔗Learn more and register here www.gstc.org/gstc2026phuket/ or click on the link in our stories! \n[Special discount available for GSTC Members\, ASEAN Members\, and Thai residents]
URL:https://phuketcommunity.com/event/gstc-2026-sustainable-tourism-conference/
LOCATION:Royal Phuket City Hotel + Courtyard Phuket Town
CATEGORIES:Community & Meetings
ATTACH;FMTTYPE=image/png:https://phuketcommunity.com/wp-content/uploads/2026/04/gstc-1.webp
END:VEVENT
BEGIN:VEVENT
DTSTART;TZID=Asia/Bangkok:20260419T190000
DTEND;TZID=Asia/Bangkok:20260420T020000
DTSTAMP:20260420T013901
CREATED:20260408T190357Z
LAST-MODIFIED:20260408T190357Z
UID:8176-1776625200-1776650400@phuketcommunity.com
SUMMARY:DESTINO | MAYA BEACH CLUB
DESCRIPTION:Maya Beach Club Phuket presents Destino\, a weekly Sunday gathering starting at 7PM featuring cosmic and astrological visual themes. The recurring series offers a consistent Sunday evening option at the beachfront venue\, with programming details to be announced closer to each event. The eye and zodiac imagery suggests a mystical or spiritual approach to the weekly celebration. \nEvery Sunday\nMaya Beach Club\, Phuket\n7PM \nWeekly Sunday tradition begins at Maya with cosmic intentions.​​​​​​​​​​​​​​​​
URL:https://phuketcommunity.com/event/destino-maya-beach-club-3/
LOCATION:Maya Beach Club Phuket\, Maya Beach Club Phuket 323/26 Moo 2\, Phuket\, Cherngtalay\, 83110\, Thailand
CATEGORIES:Music & Nightlife
ATTACH;FMTTYPE=image/webp:https://phuketcommunity.com/wp-content/uploads/2026/04/destino-1.webp
END:VEVENT
BEGIN:VEVENT
DTSTART;TZID=Asia/Bangkok:20260419T220000
DTEND;TZID=Asia/Bangkok:20260420T040000
DTSTAMP:20260420T013901
CREATED:20260408T183657Z
LAST-MODIFIED:20260408T183657Z
UID:8135-1776636000-1776657600@phuketcommunity.com
SUMMARY:Neil Saliente
DESCRIPTION:Right after Songkran\, Neil Saliente brings the summer vibes to Armania Phuket. See you on 19 April!
URL:https://phuketcommunity.com/event/neil-saliente/
LOCATION:Armania Phuket
CATEGORIES:Music & Nightlife
ATTACH;FMTTYPE=image/png:https://phuketcommunity.com/wp-content/uploads/2026/04/neil-saliente.webp
END:VEVENT
BEGIN:VEVENT
DTSTART;TZID=Asia/Bangkok:20260420T160000
DTEND;TZID=Asia/Bangkok:20260421T213000
DTSTAMP:20260420T013901
CREATED:20260416T071703Z
LAST-MODIFIED:20260416T071703Z
UID:8341-1776700800-1776807000@phuketcommunity.com
SUMMARY:Dao Aungkhan Night Market
DESCRIPTION:Dao Aungkhan Market takes place every Monday and Tuesday from 4 pm till around 9.30 pm. This market can be found at the HomePro Village Phuket\, which is near to Chalong Circle. It provides everyday goods and services\, as well as a large amount of street food to enjoy\, from BBQ seafood\, roast chicken\, sushi\, candy\, pastries\, smoothies to a variety of Thai desserts. Some stalls sell handmade handicrafts and leather items\, which are unique and interesting. This market is ideal for local and general goods\, street style food\, and is worth a visit if you are in the Chalong area
URL:https://phuketcommunity.com/event/dao-aungkhan-night-market/
LOCATION:HomePro Village Phuket
CATEGORIES:Music & Nightlife,Shopping & Markets
ATTACH;FMTTYPE=image/jpeg:https://phuketcommunity.com/wp-content/uploads/2026/04/dao-market.webp
END:VEVENT
END:VCALENDAR