BEGIN:VCALENDAR
VERSION:2.0
PRODID:-//Phuket Community - ECPv6.15.20//NONSGML v1.0//EN
CALSCALE:GREGORIAN
METHOD:PUBLISH
X-WR-CALNAME:Phuket Community
X-ORIGINAL-URL:https://phuketcommunity.com
X-WR-CALDESC:Events for Phuket Community
REFRESH-INTERVAL;VALUE=DURATION:PT1H
X-Robots-Tag:noindex
X-PUBLISHED-TTL:PT1H
BEGIN:VTIMEZONE
TZID:Asia/Bangkok
BEGIN:STANDARD
TZOFFSETFROM:+0700
TZOFFSETTO:+0700
TZNAME:+07
DTSTART:20250101T000000
END:STANDARD
END:VTIMEZONE
BEGIN:VEVENT
DTSTART;VALUE=DATE:20260419
DTEND;VALUE=DATE:20260425
DTSTAMP:20260425T225839
CREATED:20260416T072946Z
LAST-MODIFIED:20260416T094451Z
UID:8349-1776556800-1777075199@phuketcommunity.com
SUMMARY:GSTC 2026 Sustainable Tourism Conference
DESCRIPTION:📣 Only one week to go until #GSTC2026 in Phuket! \nIn one week\, the global sustainable tourism community will gather in Phuket\, Thailand\, for the GSTC2026 Global Sustainable Tourism Conference. \nWe look forward to welcoming participants from around the world for a week of knowledge exchange\, collaboration\, and action toward a more sustainable tourism industry. 🌱 \n✨ There’s still time to join us and be part of the conversation! \n🔗Learn more and register here www.gstc.org/gstc2026phuket/ or click on the link in our stories! \n[Special discount available for GSTC Members\, ASEAN Members\, and Thai residents]
URL:https://phuketcommunity.com/event/gstc-2026-sustainable-tourism-conference/
LOCATION:Royal Phuket City Hotel + Courtyard Phuket Town
CATEGORIES:Community & Meetings
ATTACH;FMTTYPE=image/png:https://phuketcommunity.com/wp-content/uploads/2026/04/gstc-1.webp
END:VEVENT
BEGIN:VEVENT
DTSTART;TZID=Asia/Bangkok:20260423T190000
DTEND;TZID=Asia/Bangkok:20260424T020000
DTSTAMP:20260425T225839
CREATED:20260408T191116Z
LAST-MODIFIED:20260408T191116Z
UID:8190-1776970800-1776996000@phuketcommunity.com
SUMMARY:DOLLY’S NIGHT
DESCRIPTION:A night for elegance\, energy\, and the rhythm of the sea.\nJoin Dolly’s Night — an evening that celebrates refined feminine vibes with smooth deep-house beats and sunset allure. \nFree-flow Prosecco 9–10 PM\nDinner & Beach Lounge Vibes\nMusic by @dj_marcella \nMaya Beach Club\, BangTao Beach\, Phuket\n+66 61 485 3000 \n#MayaBeachClubPhuket #DollysNight #PhuketEvents #BeachClubPhuket #PhuketNightlife #BangTaoBeach
URL:https://phuketcommunity.com/event/dollys-night-7/
LOCATION:Maya Beach Club Phuket\, Maya Beach Club Phuket 323/26 Moo 2\, Phuket\, Cherngtalay\, 83110\, Thailand
CATEGORIES:Music & Nightlife
ATTACH;FMTTYPE=image/webp:https://phuketcommunity.com/wp-content/uploads/2026/04/dolly.webp
END:VEVENT
BEGIN:VEVENT
DTSTART;TZID=Asia/Bangkok:20260423T210000
DTEND;TZID=Asia/Bangkok:20260424T020000
DTSTAMP:20260425T225840
CREATED:20260422T141722Z
LAST-MODIFIED:20260422T141722Z
UID:8387-1776978000-1776996000@phuketcommunity.com
SUMMARY:American Borderline at Illuzion Phuket
DESCRIPTION:Thu 23 Apr – AMERICAN BORDERLINE at @illuzion_phuket \nJoin @djkparis_officiel for one last night as the American Borderline World Tour comes to a close in Phuket. \nSecure your spot now.\nINFO & VIP Tables: +66 (0)64 454 4985\nEmail: info@illuzionphuket.com
URL:https://phuketcommunity.com/event/american-borderline-at-illuzion-phuket/
LOCATION:Illuzion\, 31 Bangla Rd\, Pa Tong\, Amphoe Kathu\, Phuket 83150\, Patong\, Phuket\, 83150\, Thailand
CATEGORIES:Music & Nightlife
ATTACH;FMTTYPE=image/png:https://phuketcommunity.com/wp-content/uploads/2026/04/borderline.webp
END:VEVENT
BEGIN:VEVENT
DTSTART;TZID=Asia/Bangkok:20260424T103000
DTEND;TZID=Asia/Bangkok:20260424T160000
DTSTAMP:20260425T225840
CREATED:20260422T140715Z
LAST-MODIFIED:20260422T140715Z
UID:8376-1777026600-1777046400@phuketcommunity.com
SUMMARY:Weave · Paint · Create — An Intimate Workshop Experience at PEYLAA Phuket\, Autograph Collection
DESCRIPTION:Weave · Paint · Create — Join us for a coastal‑inspired workshop at PEYLAA Phuket\, Autograph Collection. 🐚🎨\n\nImmerse yourself in an intimate\, hands‑on session where you’ll hand‑paint your own woven tote bag crafted from natural fibres. \nEnjoy an indulgent selection of cheese boards\, mini‑bakery bites\, wine and sparkling wine throughout the afternoon. ✨ \nA mindful moment of creativity by the coast — and a piece that’s uniquely yours. \n📅Apr 24\, 2026 \n📍 the PEYLAA Phuket\,\nAutograph Collection Sales Gallery \n🕛10.30 a.m. – 4 p.m. (Please select your\npreferred time slot in the registration form.) \nLimited seats available. RSVP Now  \n  \nPEYLAA Phuket\, Autograph Collection Residences\, where you can experience the art of mindful living at Phuket’s first branded residence managed by the world’s leading branded residences operator.
URL:https://phuketcommunity.com/event/weave-%c2%b7-paint-%c2%b7-create-an-intimate-workshop-experience-at-peylaa-phuket-autograph-collection/
LOCATION:the PEYLAA Phuket\, Autograph Collection Sales Gallery
CATEGORIES:Art & Performance
ATTACH;FMTTYPE=image/png:https://phuketcommunity.com/wp-content/uploads/2026/04/weave-paint.webp
END:VEVENT
BEGIN:VEVENT
DTSTART;TZID=Asia/Bangkok:20260424T160000
DTEND;TZID=Asia/Bangkok:20260424T210000
DTSTAMP:20260425T225840
CREATED:20260422T153220Z
LAST-MODIFIED:20260422T153447Z
UID:8461-1777046400-1777064400@phuketcommunity.com
SUMMARY:Karon Temple Market
DESCRIPTION:Karon Temple Market is open from around 4pm in the afternoon to around 9pm or 11pm at night\, every Tuesday and Friday. It is held in the grounds of Karon Temple\, which is on Patak Road\, Highway 4028\, around a 15 minute walk from Karon Traffic Circle and Karon Beach. It has a wide selection of stalls selling handicraft items\, skin and massage products\, T shirts\, caps\, bags and much more. There are also food stalls where vendors sell Thai sweets\, drinks\, in season tropical fruits\, satay and kebab sticks\, fried chicken\, and even fried insects. This market is a good way to see a slice of local life\, have a bite to eat and purchase some holiday souvenirs and small gifts.
URL:https://phuketcommunity.com/event/8461/
LOCATION:Karon Temple Grounds
CATEGORIES:Shopping & Markets
ATTACH;FMTTYPE=image/jpeg:https://phuketcommunity.com/wp-content/uploads/2026/04/karon-temple.webp
END:VEVENT
BEGIN:VEVENT
DTSTART;TZID=Asia/Bangkok:20260424T160000
DTEND;TZID=Asia/Bangkok:20260424T230000
DTSTAMP:20260425T225840
CREATED:20260422T150856Z
LAST-MODIFIED:20260422T150856Z
UID:8438-1777046400-1777071600@phuketcommunity.com
SUMMARY:Fun Friday Avenue Market
DESCRIPTION:Fun Friday Avenue Market at Phuket Boat Avenue is mostly popular for tourists who stay in or near Phuket Laguna resort complex. Here visitors can find a wide range of food stalls selling a variety of both local and also international food. BBQ\, seafood\, salad\, bakery\, dessert and snacks are all ready for any visitors to come and try. Some outdoor tables and chairs are available and some are located close to the live music zone where there are shows from different artists each week. Souvenir\, handmade items and handcraft stalls are ideal for those looking for some special items for their family and friends. This market takes place every Friday from 4 pm till 11 pm
URL:https://phuketcommunity.com/event/fun-friday-avenue-market/
LOCATION:Boat Avenue\, Cherngtalay
CATEGORIES:Dining,Family
ATTACH;FMTTYPE=image/jpeg:https://phuketcommunity.com/wp-content/uploads/2026/04/fun.webp
END:VEVENT
BEGIN:VEVENT
DTSTART;TZID=Asia/Bangkok:20260424T170000
DTEND;TZID=Asia/Bangkok:20260424T220000
DTSTAMP:20260425T225840
CREATED:20260422T152049Z
LAST-MODIFIED:20260422T152049Z
UID:8450-1777050000-1777068000@phuketcommunity.com
SUMMARY:Rooftop Pool Party at Hotel Clover Patong Phuket
DESCRIPTION:HOTEL CLOVER PATONG PHUKET x SAIL AWAY – ROOFTOP POOL PARTY 💦 \nGet ready for an epic rooftop experience in the heart of Patong\nEnjoy sunset views\, poolside vibes\, and live DJ performances. \n🎧 Line-up: TAGGY | ADDY | DIRTY SOUTH | JR \n📅 Date: Friday\, 24 April\n⏰ Time: 5:00 PM – 10:00 PM\n📍 Venue: Hotel Clover Patong Phuket \n✨ What to expect:\n• Rooftop pool party atmosphere\n• Live DJs & music\n• Drinks & good vibes\n• Stunning sunset views
URL:https://phuketcommunity.com/event/rooftop-pool-party-at-hotel-clover-patong-phuket/
LOCATION:Hotel Clover Patong Phuket\, 162/8-11 Taweewong Road\, Patong Phuket 83150 Thailand
CATEGORIES:Music & Nightlife
ATTACH;FMTTYPE=image/jpeg:https://phuketcommunity.com/wp-content/uploads/2026/04/hotel-pool-party.webp
END:VEVENT
BEGIN:VEVENT
DTSTART;TZID=Asia/Bangkok:20260424T180000
DTEND;TZID=Asia/Bangkok:20260424T220000
DTSTAMP:20260425T225840
CREATED:20260408T184010Z
LAST-MODIFIED:20260408T184010Z
UID:8140-1777053600-1777068000@phuketcommunity.com
SUMMARY:Tatler Off-Menu
DESCRIPTION:xperience the South of Thailand like never before. \nTatler Best of Andaman 2026 arrives at Phuket this April\, celebrating the Andaman coast through its most extraordinary flavors\, wellness rituals\, and lifestyle conversations. \nThree days. Three pillars. One unforgettable long weekend. \nTatler Off-Menu\nFriday\, 24 April 2026 | 18:00 – 22:00\nEarly Bird : THB 3\,300 per person\nRegular Price: THB 3\,900 per person \nThis is not a dinner. It is a festival of taste — a single evening where Thailand’s most celebrated chefs craft menus created exclusively for this night\, in one of the country’s most spectacular settings. \nWhat’s included:\n– Bites from all 22 participating restaurants\n– Free-flow wine from 18:00 – 19:00\n– Premium drinks from beverage partners\n– Welcome Veuve Clicquot Champagne\n– Live DJ and entertainment
URL:https://phuketcommunity.com/event/tatler-off-menu/
LOCATION:Rava Beach Club Phuket
CATEGORIES:Dining
ATTACH;FMTTYPE=image/png:https://phuketcommunity.com/wp-content/uploads/2026/04/culinary-journey.webp
END:VEVENT
END:VCALENDAR