BEGIN:VCALENDAR
VERSION:2.0
PRODID:-//Phuket Community - ECPv6.15.20//NONSGML v1.0//EN
CALSCALE:GREGORIAN
METHOD:PUBLISH
X-WR-CALNAME:Phuket Community
X-ORIGINAL-URL:https://phuketcommunity.com
X-WR-CALDESC:Events for Phuket Community
REFRESH-INTERVAL;VALUE=DURATION:PT1H
X-Robots-Tag:noindex
X-PUBLISHED-TTL:PT1H
BEGIN:VTIMEZONE
TZID:Asia/Bangkok
BEGIN:STANDARD
TZOFFSETFROM:+0700
TZOFFSETTO:+0700
TZNAME:+07
DTSTART:20240101T000000
END:STANDARD
END:VTIMEZONE
BEGIN:VEVENT
DTSTART;TZID=Asia/Bangkok:20251120T150000
DTEND;TZID=Asia/Bangkok:20251120T230000
DTSTAMP:20260422T081357
CREATED:20251120T073255Z
LAST-MODIFIED:20251120T073255Z
UID:5201-1763650800-1763679600@phuketcommunity.com
SUMMARY:Gordo At Yona Stage Season Opening
DESCRIPTION:🔝Join us as we welcome GORDO @gordoszn to the YONA stage for the first time ever. Producing global hits with artists like Drake\, including “Sideways” and “Healing”. \n🎧GORDO has lit up stages from Tomorrowland Belgium to Coachella and is ready to bring an unforgettable vibe to Phuket’s floating beach club. \nYou don’t want to miss this \n📍YONA Beach Club (Patong Pier)\n📆Thursday\, November 20\, 2025\n⏰3 PM – 11 PM
URL:https://phuketcommunity.com/event/gordo-at-yona-stage-season-opening/
LOCATION:YONA\, MC1-5 63/102 Moo.2\, Koh Kaew\, Mueang Phuket\, Phuket\, 83000
CATEGORIES:Art & Performance,Music & Nightlife
ATTACH;FMTTYPE=image/jpeg:https://phuketcommunity.com/wp-content/uploads/2025/11/🔝Join-us-as-we-welcome-GORDO-@gordoszn-to-the-YONA-stage-for-the-first-time-ever.-Producing-glo.webp
END:VEVENT
END:VCALENDAR