BEGIN:VCALENDAR
VERSION:2.0
PRODID:-//Phuket Community - ECPv6.15.20//NONSGML v1.0//EN
CALSCALE:GREGORIAN
METHOD:PUBLISH
X-ORIGINAL-URL:https://phuketcommunity.com
X-WR-CALDESC:Events for Phuket Community
REFRESH-INTERVAL;VALUE=DURATION:PT1H
X-Robots-Tag:noindex
X-PUBLISHED-TTL:PT1H
BEGIN:VTIMEZONE
TZID:Asia/Bangkok
BEGIN:STANDARD
TZOFFSETFROM:+0700
TZOFFSETTO:+0700
TZNAME:+07
DTSTART:20240101T000000
END:STANDARD
END:VTIMEZONE
BEGIN:VEVENT
DTSTART;TZID=Asia/Bangkok:20251123T170000
DTEND;TZID=Asia/Bangkok:20251123T210000
DTSTAMP:20260422T141954
CREATED:20251106T035722Z
LAST-MODIFIED:20251106T035722Z
UID:4393-1763917200-1763931600@phuketcommunity.com
SUMMARY:Big Show 2077 by Prodance Family
DESCRIPTION:Big Show 2077 by Prodance Family\n23 Nov 18:00📍Novotel Phuket City Phokeethra \n📸 Photo exhibition 17:00 \nYOUR STORY _ THE FUTURE _ 2077 \nFree entry \n🎥📍 @myfrontyardphuket
URL:https://phuketcommunity.com/event/big-show-2077-by-prodance-family/
LOCATION:Novotel Phuket City Phokeethra
CATEGORIES:Art & Performance
ATTACH;FMTTYPE=image/png:https://phuketcommunity.com/wp-content/uploads/2025/11/image_2025-11-06_105454293.webp
END:VEVENT
END:VCALENDAR