BEGIN:VCALENDAR
VERSION:2.0
PRODID:-//Phuket Community - ECPv6.15.20//NONSGML v1.0//EN
CALSCALE:GREGORIAN
METHOD:PUBLISH
X-WR-CALNAME:Phuket Community
X-ORIGINAL-URL:https://phuketcommunity.com
X-WR-CALDESC:Events for Phuket Community
REFRESH-INTERVAL;VALUE=DURATION:PT1H
X-Robots-Tag:noindex
X-PUBLISHED-TTL:PT1H
BEGIN:VTIMEZONE
TZID:Asia/Bangkok
BEGIN:STANDARD
TZOFFSETFROM:+0700
TZOFFSETTO:+0700
TZNAME:+07
DTSTART:20250101T000000
END:STANDARD
END:VTIMEZONE
BEGIN:VEVENT
DTSTART;TZID=Asia/Bangkok:20260130T110000
DTEND;TZID=Asia/Bangkok:20260201T190000
DTSTAMP:20260424T160301
CREATED:20260130T041641Z
LAST-MODIFIED:20260130T041641Z
UID:6775-1769770800-1769972400@phuketcommunity.com
SUMMARY:“Sip and Chill” at Saphan Hin
DESCRIPTION:Phuket for “Sip and Chill” at Saphan Hin! \nIt’s a weekend to relax\, listen to music\, get hands-on with a workshop\, and enjoy the best food in town. 🥯🎶\nCome say hi\, and join the fun! 📍 Saphan Hin\, Phuket. \n🗓️ Jan 30 – Feb 1\, 2026\n🕙 Time : 11AM. -7PM.\nGoogle Maps 📍 https://maps.app.goo.gl/1Y7SkE6RLDXPB9SD6?g_st=ic
URL:https://phuketcommunity.com/event/sip-and-chill-at-saphan-hin/
LOCATION:Saphan Hin
CATEGORIES:Community & Meetings,Festivals
ATTACH;FMTTYPE=image/jpeg:https://phuketcommunity.com/wp-content/uploads/2026/01/Volks-Bagels-is-back-on-the-road-🥯🏝️Were-bringing-the-vibes-to-Phuket-for-Sip-and-Chill-at.webp
END:VEVENT
BEGIN:VEVENT
DTSTART;TZID=Asia/Bangkok:20260207T163000
DTEND;TZID=Asia/Bangkok:20260207T183000
DTSTAMP:20260424T160301
CREATED:20260206T081259Z
LAST-MODIFIED:20260206T081338Z
UID:6860-1770481800-1770489000@phuketcommunity.com
SUMMARY:City Walk: Color Hunt
DESCRIPTION:Active Roots มาในธีม LOVE is all around 💖 \nFebruary Line-up\n• Feb 07 – City Walk: Color Hunt\n• Feb 08 – Sunset Sea Breeze 5K Run\n• Feb 14 – Blind Date Run\n• Feb 15 – Buddy Circuit Workout\n• Feb 21 – Running Drill Clinic\n• Feb 22-28 – 7 Days Sweat Challenge \nลงทะเบียนได้แล้ววันนี้ผ่านลิงก์ไบโอ\n🔗 linktr.ee/activeroots.phuket \nหรือสแกน QR Code บนโปสเตอร์ได้เลย \n#phuketcommunity #phuketactivities
URL:https://phuketcommunity.com/event/city-walk-color-hunt/
LOCATION:FINS Phuket\, https://maps.app.goo.gl/UnocCiH2Lak42dFQA
CATEGORIES:Community & Meetings,Sports
ATTACH;FMTTYPE=image/jpeg:https://phuketcommunity.com/wp-content/uploads/2026/02/เดือนกุมภาพันธ์นี้-Active-Roots-มาในธีม-LOVE-is-all-around-💖February-Line-up•-Feb-07-–-City-Wal.webp
END:VEVENT
BEGIN:VEVENT
DTSTART;TZID=Asia/Bangkok:20260223T140000
DTEND;TZID=Asia/Bangkok:20260223T160000
DTSTAMP:20260424T160301
CREATED:20260220T032534Z
LAST-MODIFIED:20260220T032534Z
UID:7079-1771855200-1771862400@phuketcommunity.com
SUMMARY:Mixology Unleashed | Bar Sathorn
DESCRIPTION:An exclusive guest shift with Marco Dongi from Bar Sathorn\, Asia’s 50 Best Bars 2025 #48\, showcasing legacy\, heritage-led cocktails with bold Thai-inspired twists. \n23 February 2026 | Sipping Tiger Bar\nMaster Class 14:00-16:00 hrs.\nGuest Shift 20:00-24:00 hrs. \nFor more information:\nTel. +66 76 629 999\nEmail sippingtiger.bar@ihg.com
URL:https://phuketcommunity.com/event/mixology-unleashed-bar-sathorn/
LOCATION:Sipping Tiger Bar
CATEGORIES:Community & Meetings
ATTACH;FMTTYPE=image/png:https://phuketcommunity.com/wp-content/uploads/2026/02/image_2026-02-20_102250912.webp
END:VEVENT
END:VCALENDAR