BEGIN:VCALENDAR
VERSION:2.0
PRODID:-//Phuket Community - ECPv6.15.20//NONSGML v1.0//EN
CALSCALE:GREGORIAN
METHOD:PUBLISH
X-ORIGINAL-URL:https://phuketcommunity.com
X-WR-CALDESC:Events for Phuket Community
REFRESH-INTERVAL;VALUE=DURATION:PT1H
X-Robots-Tag:noindex
X-PUBLISHED-TTL:PT1H
BEGIN:VTIMEZONE
TZID:Asia/Bangkok
BEGIN:STANDARD
TZOFFSETFROM:+0700
TZOFFSETTO:+0700
TZNAME:+07
DTSTART:20250101T000000
END:STANDARD
END:VTIMEZONE
BEGIN:VEVENT
DTSTART;TZID=Asia/Bangkok:20260305T100000
DTEND;TZID=Asia/Bangkok:20260308T200000
DTSTAMP:20260422T182054
CREATED:20260304T105055Z
LAST-MODIFIED:20260304T105055Z
UID:7283-1772704800-1773000000@phuketcommunity.com
SUMMARY:Phuket Renovation
DESCRIPTION:Phuket Renovation\n5 – 8 March 2026\nat Central Phuket Floresta\nPhuket is Back.\nWe want suppliers.\nCall : 088-751-3569 / 076-217-199\nLine : @picasia\nFacebook : PhuketRenovation\nTrade show of supplies and technology to renovate\, build and maintain Hotels\, Condos\, Villas\, Restaurant\, Pub\, Bar\, Cafe\, Bakery\, Catering Service Business
URL:https://phuketcommunity.com/event/phuket-renovation/
LOCATION:Central Phuket
CATEGORIES:Community & Meetings,Shopping & Markets
ATTACH;FMTTYPE=image/png:https://phuketcommunity.com/wp-content/uploads/2026/03/image_2026-03-04_174852645.webp
END:VEVENT
BEGIN:VEVENT
DTSTART;TZID=Asia/Bangkok:20260306T170000
DTEND;TZID=Asia/Bangkok:20260306T210000
DTSTAMP:20260422T182054
CREATED:20260304T103523Z
LAST-MODIFIED:20260304T103523Z
UID:7262-1772816400-1772830800@phuketcommunity.com
SUMMARY:Grow Boating Evening at Royal Phuket Marina
DESCRIPTION:We look forward to seeing you at the Grow Boating Evening at the Bluu Asian Kitchen & Bar at the Royal Phuket Marina from 5pm on Friday the 6th of March. \nSponsorship for drinks is available and includes a generous promotional package from our media sponsors The Phuket News and Phuket Live Radio – Live 89.5. Send us a message or email growboatingphuket@gmail.com for more details. \nThere will be a delicious buffet sponsored by Bluu Asian Kitchen & Bar for all attendees and as always\, all your favourite beverages will be available from the bar. \nCome and join in the fun\, everyone is welcome and there is no entry fee and if you know anyone you think would be interested in coming\, please invite them along. \nTo join our mailing list please click http://eepurl.com/c9UJib\nFind us on Facebook at https://www.facebook.com/GrowBoatingPhuket/\nGrow Boating is kindly supported by our media partner The Phuket News and Phuket Live Radio – Live 89.5.
URL:https://phuketcommunity.com/event/grow-boating-evening-at-royal-phuket-marina/
LOCATION:Royal Phuket Marina
CATEGORIES:Community & Meetings
ATTACH;FMTTYPE=image/png:https://phuketcommunity.com/wp-content/uploads/2026/03/image_2026-03-04_173404768.webp
END:VEVENT
BEGIN:VEVENT
DTSTART;TZID=Asia/Bangkok:20260306T170000
DTEND;TZID=Asia/Bangkok:20260306T233000
DTSTAMP:20260422T182054
CREATED:20260304T095440Z
LAST-MODIFIED:20260304T095440Z
UID:7192-1772816400-1772839800@phuketcommunity.com
SUMMARY:MALFY GIN X POTS PINTS & TIKIS GUEST SHIFT
DESCRIPTION:Join us for a premium lifestyle Friday that blends wellness and nightlife at Hotel Indigo Phuket Patong. \nBegin with Rooftop Sunset Yoga led by Khun Boo at The Cloud Rooftop Pool Bar\, then transition into the evening with a Malfy Gin guest bartender shift by NYX Supangpak Rogboontueng (Bar.Yard\, Bangkok) at Pots\, Pints & Tikis\, featuring DJ and saxophone entertainment. \nFriday 6 March 2026 \n17.00 – 18.00 hrs. Rooftop sunset yoga experience\n19.00 – 23.00 hrs. Malfy Gin storytelling as the night begins Guest bartender shift with DJ and saxophone \nTerms and Conditions\nNo discounts applicable for IHG Dining Privileges.
URL:https://phuketcommunity.com/event/malfy-gin-x-pots-pints-tikis-guest-shift/
LOCATION:Hotel Indigo Phuket Patong
CATEGORIES:Community & Meetings,Music & Nightlife
ATTACH;FMTTYPE=image/png:https://phuketcommunity.com/wp-content/uploads/2026/03/image_2026-03-04_165412197.webp
END:VEVENT
BEGIN:VEVENT
DTSTART;TZID=Asia/Bangkok:20260307T090000
DTEND;TZID=Asia/Bangkok:20260307T150000
DTSTAMP:20260422T182054
CREATED:20260304T095648Z
LAST-MODIFIED:20260304T100548Z
UID:7199-1772874000-1772895600@phuketcommunity.com
SUMMARY:Local Roots - Open Sky Togetherness at The Farm at Tri Vananda
DESCRIPTION:𝐘𝐨𝐮’𝐫𝐞 𝐢𝐧𝐯𝐢𝐭𝐞𝐝 𝐭𝐨 𝐋𝐨𝐜𝐚𝐥 𝐑𝐨𝐨𝐭𝐬 – Saturday\, 7 March 2026 | 9:00 – 15:00 | The Farm at Tri Vananda\, Entrance is completely FREE.  ​ \nCome together at Local Roots to reconnect with nature and each other. We’ve designed a day for you to pause and embrace wellness through simple\, shared experiences. Whether it’s through mindful movement\, heartfelt stories\, creative expression\, or a communal meal\, this gathering celebrates the beauty of a slower\, more intentional pace of life. ​ \nEvent Highlights:  ​ \n▪️ Grounded Flow – Wellness activities rooted in the calm and natural rhythms of the farm. ​ \n▪️ The Making Deck – A relaxed space for art\, creativity\, and hands-on expression where people learn\, practice\, and create together. ​ \n▪️ The Story by Sound for Kids – A self-guided outdoor puzzle adventure woven into the landscape.  ​ \n▪️ Educational Farm Tour – Wander through the fields\, meet the animals\, and learn how they support our regenerative landscape  ​ \n▪️ Buggy Cruise through the landscape & Show Villa – An exclusive buggy tour through our lush green sanctuary and a first look at our signature villas.   ​ \n▪️ Social Space & Live Music – Tune into the rhythms of the landscape  ​ \n▪️ Food & Drink Commons – Light\, seasonal flavors to enjoy with friends and family.  ​ \n▪️ Creative & Sustainable Pop-Ups – Creative Arts inspired by the colors and textures of the land\, and Sustainable Pop-Ups from local makers  ​ \n▪️ Al Fresco Lunch at HiDEAWAY by JAMPA – Farm-led cuisine in the breeze.  ​ \nSave the date and come to reconnect and recharge at Local Roots. Join us for a day of slowing down and sharing wellness practices side-by-side.​ \n[Event Details] \nDate: Saturday\, March 7\, 2026 \nTime: 9:00 AM – 3:00 PM \nLocation: The Farm at Tri Vananda https://maps.app.goo.gl/qfTmKp4ps1QCDSWDA
URL:https://phuketcommunity.com/event/local-roots-open-sky-togetherness-at-the-farm-at-tri-vananda/
LOCATION:Tri Vananda\, Tambon Thep Krasatti\, Thalang District\, Phuket 83110
CATEGORIES:Community & Meetings,Festivals,Shopping & Markets
ATTACH;FMTTYPE=image/png:https://phuketcommunity.com/wp-content/uploads/2026/03/image_2026-03-04_165614369.webp
END:VEVENT
BEGIN:VEVENT
DTSTART;TZID=Asia/Bangkok:20260308T140000
DTEND;TZID=Asia/Bangkok:20260308T190000
DTSTAMP:20260422T182054
CREATED:20260304T101737Z
LAST-MODIFIED:20260304T101737Z
UID:7237-1772978400-1772996400@phuketcommunity.com
SUMMARY:International Women's Day at Kora Beach Resort - She Care
DESCRIPTION:Celebrate the strength\, wellness\, and spirit of women this 𝐈𝐧𝐭𝐞𝐫𝐧𝐚𝐭𝐢𝐨𝐧𝐚𝐥 𝐖𝐨𝐦𝐞𝐧’𝐬 𝐃𝐚𝐲 at Kora Beach Resort Phuket. 🌊✨ \nIn partnership with Ayana Circle\, we warmly invite you to an inspiring afternoon of movement\, meaningful connection\, and giving back under the empowering theme “She Cares.” \n🩷 Women Empowerment Forum \nAn inspiring panel discussion featuring influential women from diverse industries\, led by 𝐕𝐞𝐞𝐧𝐚 𝐏𝐫𝐚𝐯𝐞𝐞𝐧𝐚𝐫 𝐒𝐢𝐧𝐠𝐡\, 𝐌𝐢𝐬𝐬 𝐔𝐧𝐢𝐯𝐞𝐫𝐬𝐞 𝐓𝐡𝐚𝐢𝐥𝐚𝐧𝐝 𝟐𝟎𝟐𝟓 speaking on “𝐓𝐡𝐞 𝐏𝐨𝐰𝐞𝐫 𝐨𝐟 𝐖𝐨𝐦𝐞𝐧 𝐒𝐮𝐩𝐩𝐨𝐫𝐭𝐢𝐧𝐠 𝐖𝐨𝐦𝐞𝐧” \nJoin wellness specialists and community leaders in a heartfelt sharing session designed to uplift\, connect\, and empower. \n🤍 Charity Beach Fun Run \nA 5 KM sunset run along the golden sands of Bang Tao Beach — a beautiful reminder that when we take care of ourselves\, we gain the strength to uplift others. \n📍 Location: Kora Beach Resort Phuket\n🗓 Date: Sunday 8 March 2026\n⏰ Time: 17:30 – 19:30 hrs. \n💗 Participation Fee \n• Early Bird: THB 199 (until 3 March)\n• From 4 March onwards: THB 299\n🔗 Buy ticket: https://shorturl.at/zYtHM \nA portion of the proceeds will be donated to support a charitable initiative. \n📅 Event Schedule \n14:00 Wellness Market Opens\n15:30 Women Empowerment Forum – Inspirational Keynotes & Health Panels\n17:00 Beach Fun Run with interactive challenges\n18:00 Award Celebration Party at Kora Sky Rooftop Lounge \n✨ Highlights You Don’t Want to Miss! \n🎵 DJ Marcella spinning high-energy dance tracks alongside live music performances\n🔥 A spectacular fire show and a special cocktail showcase exclusively for the ladies \nLet’s celebrate\, move\, and create unforgettable moments together. 🌊🎶 \nFor more information or reservations: \n📲 LINE: @koraphuket (https://lin.ee/6IaEIvc)\n📲 WhatsApp: https://wa.me/ 66611736359\n📞 66 (0) 76 310 000\n✉️ info@korabeachresort.com \n#KoraBeachResortPhuket #KoraPhuket #WhereMomentsBecomeMemories #LagunaPhuket #InternationalWomensDay #AyanaCircle
URL:https://phuketcommunity.com/event/international-womens-day-at-kora-beach-resort-she-care/
LOCATION:Kora Sky Rooftop Lounge
CATEGORIES:Community & Meetings,Shopping & Markets
ATTACH;FMTTYPE=image/png:https://phuketcommunity.com/wp-content/uploads/2026/03/image_2026-03-04_171535956.webp
END:VEVENT
BEGIN:VEVENT
DTSTART;VALUE=DATE:20260313
DTEND;VALUE=DATE:20260316
DTSTAMP:20260422T182054
CREATED:20260304T102811Z
LAST-MODIFIED:20260304T102811Z
UID:7251-1773360000-1773619199@phuketcommunity.com
SUMMARY:Phuket Heroines Monument Festival
DESCRIPTION:The Heroines Monument Festival occurs annually from March 13-15 at Victory Field in the Thalang district\, commemorating the 1785 defence of Phuket against Burmese invaders. Two sisters\, Thao Thep Krasattri and Thao Sri Soonthorn\, originally known as Chan and Mook\, led the island’s resistance when no formal military leadership existed. They ingeniously disguised 500 women as soldiers and used tactical deception\, including fake reinforcement marches and smouldering coconut husks to simulate musket fire.
URL:https://phuketcommunity.com/event/phuket-heroines-monument-festival/
LOCATION:Victory Field in Thalang
CATEGORIES:Community & Meetings,Festivals
ATTACH;FMTTYPE=image/png:https://phuketcommunity.com/wp-content/uploads/2026/03/image_2026-03-04_172744555.webp
END:VEVENT
BEGIN:VEVENT
DTSTART;TZID=Asia/Bangkok:20260315T070000
DTEND;TZID=Asia/Bangkok:20260315T210000
DTSTAMP:20260422T182054
CREATED:20260312T053619Z
LAST-MODIFIED:20260312T053619Z
UID:7487-1773558000-1773608400@phuketcommunity.com
SUMMARY:Sunrise beach swim followed by a beach clean up
DESCRIPTION:Early morning. Good people. One purpose. \nJoin the CULT community for a sunrise beach swim followed by a beach clean up together with Bad Guy Coffee. \nMove your body. Do some good for the island. \n☀️ Sunday\, 15 March\n☕️ 7AM meet up at the @badguycoffeetruck at Nai Harn. \nSunrise swim. Clean after. Sunday service 9AM continues. \n⚡️ 𝐓𝐇𝐄 𝐂𝐔𝐋𝐓 𝐅𝐈𝐓𝐍𝐄𝐒𝐒 𝐒𝐎𝐂𝐈𝐄𝐓𝐘 📍𝐑𝐚𝐰𝐚𝐢\, 𝐏𝐡𝐮𝐤𝐞𝐭
URL:https://phuketcommunity.com/event/sunrise-beach-swim-followed-by-a-beach-clean-up/
LOCATION:The Cult Fitness Society Rawai\, https://maps.app.goo.gl/S3Q2N3NXWXwNUawQ9
CATEGORIES:Community & Meetings
ATTACH;FMTTYPE=image/png:https://phuketcommunity.com/wp-content/uploads/2026/03/image_2026-03-12_123338724.webp
END:VEVENT
BEGIN:VEVENT
DTSTART;TZID=Asia/Bangkok:20260328T160000
DTEND;TZID=Asia/Bangkok:20260329T230000
DTSTAMP:20260422T182054
CREATED:20260324T105515Z
LAST-MODIFIED:20260324T105515Z
UID:7665-1774713600-1774825200@phuketcommunity.com
SUMMARY:MY FRONT YARD UMBRELLA MARKET
DESCRIPTION:MY FRONT YARD UMBRELLA MARKET\n28–29 March 4 PM Start\nTHIS WEEKEND \nFor two days only\, My Front Yard Mall transforms into a vibrant umbrella market full of food\, music\, art\, and great vibes. \n🔥 Live cooking\n🍔 Foodie heaven\n🎨 Kids art workshop\n🎧 Live DJ\n🌿 Perfect family hangout \nBring your friends\, bring your kids\, bring your appetite — there’s something for everyone. \nGood food. Good music. Good people. \n📍 My Front Yard Mall \nMark your calendar and come experience the vibe. \n#PhuketEvents #PhuketMarket #PhuketWeekend #PhuketFood #PhuketLife #PhuketFamily #PhuketExpats
URL:https://phuketcommunity.com/event/my-front-yard-umbrella-market/
LOCATION:My Front Yard
CATEGORIES:Community & Meetings,Dining,Festivals
ATTACH;FMTTYPE=image/png:https://phuketcommunity.com/wp-content/uploads/2026/03/image_2026-03-24_175408211.webp
END:VEVENT
BEGIN:VEVENT
DTSTART;TZID=Asia/Bangkok:20260328T210000
DTEND;TZID=Asia/Bangkok:20260328T233000
DTSTAMP:20260422T182054
CREATED:20260328T105517Z
LAST-MODIFIED:20260328T105517Z
UID:7736-1774731600-1774740600@phuketcommunity.com
SUMMARY:Big Island Music Festival 2026
DESCRIPTION:Big Island Music Festival 2026\n\nBig Island Music Festival 2026\nPirates of Andaman \nReturning once again with a thrilling pirate theme on a tropical island paradise!\nExpect beach vibes\, great music\, and unforgettable memories. \nFeaturing top artists and the biggest music phenomenon in Phuket! \nDa Endorphine | Big Ass | Potato |\nJoey Phuwasit | Jeff Satur |\n4EVE | Little John \n28 March 2026\nSunrise Beach\, Phuket\nRegular online price: 1\,490 THB
URL:https://phuketcommunity.com/event/big-island-music-festival-2026/
LOCATION:Sunrise Beach
CATEGORIES:Art & Performance,Community & Meetings,Music & Nightlife
ATTACH;FMTTYPE=image/png:https://phuketcommunity.com/wp-content/uploads/2026/03/image_2026-03-28_175425829.webp
END:VEVENT
BEGIN:VEVENT
DTSTART;TZID=Asia/Bangkok:20260329T120000
DTEND;TZID=Asia/Bangkok:20260329T160000
DTSTAMP:20260422T182054
CREATED:20260328T110224Z
LAST-MODIFIED:20260328T110224Z
UID:7742-1774785600-1774800000@phuketcommunity.com
SUMMARY:Sunday Brunch at Trisara
DESCRIPTION:Sunday Brunch at Trisara\n\nTrisara’s Signature Sunday Brunch \nSundays at Trisara are made for lingering. Our signature Sunday Brunch returns in its full buffet style\, set against the panoramic beauty of the Andaman Sea from our newly refreshed deck. \nSavor an abundant buffet of seafood\, sushi\, sashimi\, and refined coastal dishes\, perfectly complemented by fine wines and the gentle rhythms of live jazz. \nJoin us and discover why it’s Phuket’s must-do Sunday dining destination. \n◇ Trisara Sunday Brunch | Every Sunday\nStarting at THB 3\,100++ per person \nReservations are highly recommended.\nBook now: https://bit.ly/cisofaor\nfbreservations@trisara.com\n+66 (0) 76 683 320
URL:https://phuketcommunity.com/event/sunday-brunch-at-trisara-5/
LOCATION:Trisara\, 60 Cherngtalay 1 Srisoonthorn Road Tambon Choeng Thale\, Thalang District\, Phuket 83110
CATEGORIES:Community & Meetings,Dining
ATTACH;FMTTYPE=image/png:https://phuketcommunity.com/wp-content/uploads/2026/03/image_2026-03-28_180139400.webp
END:VEVENT
BEGIN:VEVENT
DTSTART;TZID=Asia/Bangkok:20260329T130000
DTEND;TZID=Asia/Bangkok:20260329T170000
DTSTAMP:20260422T182054
CREATED:20260328T110620Z
LAST-MODIFIED:20260328T110620Z
UID:7747-1774789200-1774803600@phuketcommunity.com
SUMMARY:Sunday Funday & Foam Party
DESCRIPTION:Sunday Funday & Foam Party at Pullman Phuket Panwa Beach Resort\n\nWave goodbye to boring Sundays and dive into Sunday Funday & Foam Party at Pullman Phuket Panwa Beach Resort! Enjoy sparkling pool vibes\, pristine beach views\, and sizzling DJ beats. Splash into FREE water sports\, lounge under the sun\, or feast on our mouth-watering à la carte brunch. \nDate: 29 March 2026\nTime: 13:00 – 17:00\nLocation: Edge Beach Club \nMenu Highlights\n– Seafood Towers: THB 2\,990.-\n– Australian Tomahawk Steak: THB 4\,990.- \n\n\n  \n\n\n 
URL:https://phuketcommunity.com/event/sunday-funday-foam-party/
LOCATION:Edge Beach Club
CATEGORIES:Community & Meetings,Music & Nightlife
ATTACH;FMTTYPE=image/png:https://phuketcommunity.com/wp-content/uploads/2026/03/image_2026-03-28_180550488.webp
END:VEVENT
END:VCALENDAR