BEGIN:VCALENDAR
VERSION:2.0
PRODID:-//Phuket Community - ECPv6.15.20//NONSGML v1.0//EN
CALSCALE:GREGORIAN
METHOD:PUBLISH
X-ORIGINAL-URL:https://phuketcommunity.com
X-WR-CALDESC:Events for Phuket Community
REFRESH-INTERVAL;VALUE=DURATION:PT1H
X-Robots-Tag:noindex
X-PUBLISHED-TTL:PT1H
BEGIN:VTIMEZONE
TZID:Asia/Bangkok
BEGIN:STANDARD
TZOFFSETFROM:+0700
TZOFFSETTO:+0700
TZNAME:+07
DTSTART:20240101T000000
END:STANDARD
END:VTIMEZONE
BEGIN:VEVENT
DTSTART;TZID=Asia/Bangkok:20251127T200000
DTEND;TZID=Asia/Bangkok:20251127T230000
DTSTAMP:20260425T010213
CREATED:20251120T114443Z
LAST-MODIFIED:20251120T114443Z
UID:5248-1764273600-1764284400@phuketcommunity.com
SUMMARY:Quiz Night
DESCRIPTION:82/15 Moo 4\, Patak Road (4028)\, Rawai\, Rawai\, Thailand\, Phuket\n\n\n\n\ninstagram.com/tgmphuket\n\n\n\n\n\n\n\ngreenmanphuket.com\nGoogle Maps
URL:https://phuketcommunity.com/event/quiz-night-5/
LOCATION:The Green Man Phuket\, 82\, 15 Patak Rd\, Rawai\, Muang\, Phuket 83130\, Thailand\, Rawai\, Phuket\, 83100\, Thailand
CATEGORIES:Community & Meetings
ATTACH;FMTTYPE=image/png:https://phuketcommunity.com/wp-content/uploads/2025/10/image_2025-10-09_160518085.webp
END:VEVENT
END:VCALENDAR