BEGIN:VCALENDAR
VERSION:2.0
PRODID:-//Phuket Community - ECPv6.15.20//NONSGML v1.0//EN
CALSCALE:GREGORIAN
METHOD:PUBLISH
X-ORIGINAL-URL:https://phuketcommunity.com
X-WR-CALDESC:Events for Phuket Community
REFRESH-INTERVAL;VALUE=DURATION:PT1H
X-Robots-Tag:noindex
X-PUBLISHED-TTL:PT1H
BEGIN:VTIMEZONE
TZID:Asia/Bangkok
BEGIN:STANDARD
TZOFFSETFROM:+0700
TZOFFSETTO:+0700
TZNAME:+07
DTSTART:20240101T000000
END:STANDARD
END:VTIMEZONE
BEGIN:VEVENT
DTSTART;TZID=Asia/Bangkok:20251128T150000
DTEND;TZID=Asia/Bangkok:20251130T220000
DTSTAMP:20260423T053214
CREATED:20251127T114917Z
LAST-MODIFIED:20251127T114917Z
UID:5389-1764342000-1764540000@phuketcommunity.com
SUMMARY:Grove Pet Scout Camping
DESCRIPTION:Join the fun with your four-legged friends at “Grove Pet Scout Camping” 🐾⛺️ \nPack your bags and come camping with us!\n📆 Date: 28–30 November\n⏰ Time: 3:00 PM – 10:00 PM \n𝗛𝗶𝗴𝗵𝗹𝗶𝗴𝗵𝘁 𝗔𝗰𝘁𝗶𝘃𝗶𝘁𝗶𝗲𝘀 ✨\nEnjoy heartwarming activities for pet lovers\, including a cozy camping zone\, adorable photo spots\, and fun activities designed for your little furry friends to have a blast all day long. \n🎟️Free entry for everyone\n(Your dogs and cats are welcome too\, Pet Friends 🐱🐶🐾) \nSee you at Grove Pet Camping! \nFor more information:\nLine@: @blumonkey￼\nLocation: https://maps.app.goo.gl/aN9sK9amPfJAetG37 \n#GrovePetCamping #GrovePhuket #GroveFestival #PhuketEvent #PetFriendlyCafe KidsFriendly
URL:https://phuketcommunity.com/event/grove-pet-scout-camping/
LOCATION:grove phuket\, 39\, 6\, Wichit\, Meaung\, Phuket 83000
CATEGORIES:Community & Meetings,Festivals
ATTACH;FMTTYPE=image/png:https://phuketcommunity.com/wp-content/uploads/2025/11/image_2025-11-27_184845366.webp
END:VEVENT
BEGIN:VEVENT
DTSTART;TZID=Asia/Bangkok:20251129T080000
DTEND;TZID=Asia/Bangkok:20251129T100000
DTSTAMP:20260423T053214
CREATED:20251127T095416Z
LAST-MODIFIED:20251127T095416Z
UID:5382-1764403200-1764410400@phuketcommunity.com
SUMMARY:Mindful Minis Clean Up Day at Surin Beach!
DESCRIPTION:Calling all Parents and their Minis! Looking for a fun\, meaningful\, and gentle way to start your Saturday morning\, connect with other families\, and give back to beautiful Phuket?\nJoin us for the Mindful Minis Clean Up Day at Surin Beach!\nThis is the perfect morning out designed for families:\n Connect & Stretch: We kick off the morning with a gentle 15-minute Family-Friendly Yoga session hosted by Yoga Lodge Phuket. It’s a fun way to stretch those little legs and quiet the mind before the cleanup begins!\n Play & Clean: After yoga\, we work together for a Community Clean-Up. It’s a fantastic way to teach kids about sustainability while they run around\, make friends\, and help keep Surin Beach pristine.\n Meet & Mingle: It’s a great chance for mums to meet new friends\, connect with neighbors\, and enjoy a healthy\, vibrant start to the weekend!\nCome make a difference\, connect with neighbors\, and help create a cleaner\, greener tomorrow!\nPlease register: https://forms.gle/mBi4tXgZPkAwtFj66\nTo find out more about Yoga Lodge Phuket: https://phuketyoga.co/ or https://www.facebook.com/profile.php?id=61554534941574\nConnect with The Litter Club https://thelitterclub.org\n#TheLitterClub #EveryPieceMatters #EveryParentMatters #LoveIsAnAction
URL:https://phuketcommunity.com/event/mindful-minis-clean-up-day-at-surin-beach/
LOCATION:Surin Beach
CATEGORIES:Community & Meetings
ATTACH;FMTTYPE=image/png:https://phuketcommunity.com/wp-content/uploads/2025/11/image_2025-11-27_165127200.webp
END:VEVENT
BEGIN:VEVENT
DTSTART;TZID=Asia/Bangkok:20251129T163000
DTEND;TZID=Asia/Bangkok:20251129T210000
DTSTAMP:20260423T053214
CREATED:20251120T105133Z
LAST-MODIFIED:20251120T105133Z
UID:5240-1764433800-1764450000@phuketcommunity.com
SUMMARY:Saturday Market at Bangtao Beach
DESCRIPTION:🌴 Saturday Market at Bangtao Beach\, Cherngtalay\nJoin us every Saturday from 4:30 PM – 9:00 PM at The Beach Phuket\, located inside Arinara Beach Resort Phuket. Explore over 30 vendors where you can shop\, taste\, and enjoy live performances by the beach. \n✨ Market Highlights\nDiscover the charm of local products from the Bangtao community\, including:\n• Apoong – Phuket’s traditional crispy aromatic snack\n• Traditional Bangtao desserts – authentic local flavors\n• Fresh cold-pressed fruit juices – chemical-free and made by local farmers\n• Hand-carved soap – beautifully crafted handmade pieces\n• Handwoven bags – unique designs you’ll love\n• Live Like a Local – eco-friendly lifestyle products made with materials safe for marine animals. \n🎉 Fun Activities for Everyone\n• Ball house for kids\n• Dart balloon game – test your accuracy and win prizes\n• Shooting game for stuffed animals\n• Get your portrait drawn as a cute doll-style illustration\n• Thai musical performance by local youth\n• Goat feeding from a local community farm\n• Henna painting in Indian style\n• Plaster painting activity for kids \n🔥 Special Shows\nEnjoy exciting performances by Bozo and a spectacular Fire Show right on Bangtao Beach. \nSaturday Market is not just a market — it’s a community space that supports local careers\, farmers\, and the new generation filled with passion and dreams. \n“This weekend\, bring your kids and family for a fun\, relaxing\, and memorable evening!”\n_____________________________\nFor more information\nTel: 076314361 \n#arinarabeachresortphuket #thebeachphuket\n#BangTaoBeach #BeachfrontDining #phuketmarket #PhuketRestaurants #VacationVibes
URL:https://phuketcommunity.com/event/saturday-market-at-bangtao-beach-2/
LOCATION:The Beach Phuket
CATEGORIES:Community & Meetings,Festivals,Shopping & Markets
ATTACH;FMTTYPE=image/jpeg:https://phuketcommunity.com/wp-content/uploads/2025/11/🌴-Saturday-Market-at-Bangtao-Beach-CherngtalayJoin-us-every-Saturday-from-4-30-PM-–-9-00-PM-at.webp
END:VEVENT
END:VCALENDAR