BEGIN:VCALENDAR
VERSION:2.0
PRODID:-//Phuket Community - ECPv6.15.20//NONSGML v1.0//EN
CALSCALE:GREGORIAN
METHOD:PUBLISH
X-WR-CALNAME:Phuket Community
X-ORIGINAL-URL:https://phuketcommunity.com
X-WR-CALDESC:Events for Phuket Community
REFRESH-INTERVAL;VALUE=DURATION:PT1H
X-Robots-Tag:noindex
X-PUBLISHED-TTL:PT1H
BEGIN:VTIMEZONE
TZID:Asia/Bangkok
BEGIN:STANDARD
TZOFFSETFROM:+0700
TZOFFSETTO:+0700
TZNAME:+07
DTSTART:20240101T000000
END:STANDARD
END:VTIMEZONE
BEGIN:VEVENT
DTSTART;TZID=Asia/Bangkok:20251210T143000
DTEND;TZID=Asia/Bangkok:20251210T180000
DTSTAMP:20260424T215551
CREATED:20251120T042948Z
LAST-MODIFIED:20251120T042948Z
UID:5143-1765377000-1765389600@phuketcommunity.com
SUMMARY:Festive Fair at UWC Thailand
DESCRIPTION:Mark your calendars! The annual Festive Fair at UWC Thailand is happening on Wednesday\, 10 December\, and is not to be missed! 🎉✨ \nCelebrate the season with our community through student performances\, festive treats\, food stalls\, and the incredible work of our students and Kru Heidi in their Community Engagement projects. The student-led stalls will be selling handcrafted items and gifts\, with all proceeds supporting our community engagement partners and making a real difference in the lives of those we reach out to. \nJoin us to experience the joy\, spirit\, and togetherness that make this event so special! \n#UWCThailand #UWC #FestiveFair #UWCThailandCommunity #CommunityEngagement
URL:https://phuketcommunity.com/event/festive-fair-at-uwc-thailand/
LOCATION:UWC Thailand
CATEGORIES:Art & Performance,Community & Meetings,Festivals
ATTACH;FMTTYPE=image/webp:https://phuketcommunity.com/wp-content/uploads/2025/11/Mark-your-calendars-The-annual-Festive-Fair-at-UWC-Thailand-is-happening-on-Wednesday-10-Dece.webp
END:VEVENT
END:VCALENDAR