BEGIN:VCALENDAR
VERSION:2.0
PRODID:-//Phuket Community - ECPv6.15.20//NONSGML v1.0//EN
CALSCALE:GREGORIAN
METHOD:PUBLISH
X-ORIGINAL-URL:https://phuketcommunity.com
X-WR-CALDESC:Events for Phuket Community
REFRESH-INTERVAL;VALUE=DURATION:PT1H
X-Robots-Tag:noindex
X-PUBLISHED-TTL:PT1H
BEGIN:VTIMEZONE
TZID:Asia/Bangkok
BEGIN:STANDARD
TZOFFSETFROM:+0700
TZOFFSETTO:+0700
TZNAME:+07
DTSTART:20240101T000000
END:STANDARD
END:VTIMEZONE
BEGIN:VEVENT
DTSTART;TZID=Asia/Bangkok:20251218T200000
DTEND;TZID=Asia/Bangkok:20251218T220000
DTSTAMP:20260424T232132
CREATED:20251211T110715Z
LAST-MODIFIED:20251211T110715Z
UID:5911-1766088000-1766095200@phuketcommunity.com
SUMMARY:Quiz Night
DESCRIPTION:Quiz Night 💡📝 \nGet your team ready and join us tonight at 8:00 pm for a night of laughs\, competition\, and great vibes ✨ \nToday’s topics:\n1. 2025\n2. ⁠Food and Drink (Thai)\n3. ⁠History\n4. ⁠Music\n5. ⁠Double or Nothing \nFree entry\, enjoy delicious food\, refreshing drinks\, and a whole lot of fun. \n📞 𝟬𝟴𝟵 𝟵𝟳𝟮 𝟱𝟭𝟮𝟮\n📍 𝟮𝟲 𝗟𝗮𝗴𝗼𝗼𝗻 𝗿𝗼𝗮𝗱\, 𝗖𝗵𝗲𝗿𝗻𝗴𝘁𝗮𝗹𝗮𝘆 \n#oharaspub #oharasbar #irishbar #irishpub #irishpubphuket #pubquiz #quiznight #boatavenuephuket #lagunaphuket
URL:https://phuketcommunity.com/event/quiz-night-6/
LOCATION:O’Hara’s Irish Pub Phuket
CATEGORIES:Community & Meetings
ATTACH;FMTTYPE=image/png:https://phuketcommunity.com/wp-content/uploads/2025/12/image_2025-12-11_180651974.webp
END:VEVENT
BEGIN:VEVENT
DTSTART;TZID=Asia/Bangkok:20251218T200000
DTEND;TZID=Asia/Bangkok:20251218T230000
DTSTAMP:20260424T232132
CREATED:20251009T090821Z
LAST-MODIFIED:20251211T105200Z
UID:3415-1766088000-1766098800@phuketcommunity.com
SUMMARY:Quiz Night
DESCRIPTION:82/15 Moo 4\, Patak Road (4028)\, Rawai\, Rawai\, Thailand\, Phuket\n\n\n\n\ninstagram.com/tgmphuket\n\n\n\n\n\n\n\ngreenmanphuket.com
URL:https://phuketcommunity.com/event/quiz-night/
LOCATION:The Green Man Phuket\, 82\, 15 Patak Rd\, Rawai\, Muang\, Phuket 83130\, Thailand\, Rawai\, Phuket\, 83100\, Thailand
CATEGORIES:Community & Meetings
ATTACH;FMTTYPE=image/png:https://phuketcommunity.com/wp-content/uploads/2025/10/image_2025-10-09_160518085.webp
END:VEVENT
END:VCALENDAR