BEGIN:VCALENDAR
VERSION:2.0
PRODID:-//Phuket Community - ECPv6.15.20//NONSGML v1.0//EN
CALSCALE:GREGORIAN
METHOD:PUBLISH
X-ORIGINAL-URL:https://phuketcommunity.com
X-WR-CALDESC:Events for Phuket Community
REFRESH-INTERVAL;VALUE=DURATION:PT1H
X-Robots-Tag:noindex
X-PUBLISHED-TTL:PT1H
BEGIN:VTIMEZONE
TZID:Asia/Bangkok
BEGIN:STANDARD
TZOFFSETFROM:+0700
TZOFFSETTO:+0700
TZNAME:+07
DTSTART:20250101T000000
END:STANDARD
END:VTIMEZONE
BEGIN:VEVENT
DTSTART;TZID=Asia/Bangkok:20260403T100000
DTEND;TZID=Asia/Bangkok:20260405T233000
DTSTAMP:20260423T053859
CREATED:20260329T081202Z
LAST-MODIFIED:20260329T081422Z
UID:7763-1775210400-1775431800@phuketcommunity.com
SUMMARY:Grove brew fest
DESCRIPTION:ป้ายใบแรกคือเราสำหรับ ep4 งาน3-5 เมษานี้ #เราเน้นชง\n#เราตั้งใจไปดื่ม\nเปิดรับ Bartander ประจำงาน3วันนะครับ\nGrove brew fest Grove phuket\n\n—-
URL:https://phuketcommunity.com/event/grove-brew-fest/
LOCATION:grove phuket\, 39\, 6\, Wichit\, Meaung\, Phuket 83000
CATEGORIES:Community & Meetings,Festivals
ATTACH;FMTTYPE=image/png:https://phuketcommunity.com/wp-content/uploads/2026/03/image_2026-03-29_150743361.webp
END:VEVENT
BEGIN:VEVENT
DTSTART;TZID=Asia/Bangkok:20260403T170000
DTEND;TZID=Asia/Bangkok:20260403T200000
DTSTAMP:20260423T053859
CREATED:20260401T085111Z
LAST-MODIFIED:20260401T085111Z
UID:7805-1775235600-1775246400@phuketcommunity.com
SUMMARY:Grow Boating Evening at Boat Lagoon Phuket
DESCRIPTION:We look forward to seeing you at the Grow Boating Evening at the Boardwalk Bistro and Bar at the Phuket Boat Lagoon from 5pm on Friday the 3rd of April. \nSponsorship for drinks is available for just 12\,000 baht and includes a generous promotional package from our media sponsors The Phuket News\, Live 89.5 FM and Phuket News TV. Send us a message or email growboatingphuket@gmail.com for more details. \nThere will be a delicious buffet sponsored by the Boardwalk Bistro and Bar for all attendees and as always\, all your favourite beverages will be available from the bar. \nCome and join in the fun\, everyone is welcome and there is no entry fee and if you know anyone you think would be interested in coming\, please invite them along.
URL:https://phuketcommunity.com/event/grow-boating-evening-at-boat-lagoon-phuket/
LOCATION:Phuket Boat Lagoon
CATEGORIES:Community & Meetings
ATTACH;FMTTYPE=image/png:https://phuketcommunity.com/wp-content/uploads/2026/04/Grow-Boating-Evening-at-Boat-Lagoon-Phuket.webp
END:VEVENT
BEGIN:VEVENT
DTSTART;TZID=Asia/Bangkok:20260404T090000
DTEND;TZID=Asia/Bangkok:20260404T150000
DTSTAMP:20260423T053859
CREATED:20260401T101050Z
LAST-MODIFIED:20260401T101050Z
UID:7871-1775293200-1775314800@phuketcommunity.com
SUMMARY:Local Roots – Summer in Color at The Farm at Tri Vananda
DESCRIPTION:𝐘𝐨𝐮’𝐫𝐞 𝐢𝐧𝐯𝐢𝐭𝐞𝐝 𝐭𝐨 𝐋𝐨𝐜𝐚𝐥 𝐑𝐨𝐨𝐭𝐬 – Saturday\, 4 April 2026 | 9:00 – 15:00 | The Farm at Tri Vananda\, Entrance is completely FREE. ​ \n​Reserve your spot for workshop and activities now: https://forms.gle/QWNWas2rKkbqggoDA \nCome and celebrate the day of the vibrant life within the Tri Vananda community — where nature\, creativity\, food\, music\, and families come together. Before the season changes\, the land and community express their fullest colour. ​ \nEvent Highlights: ​ \nGrounded Flow – Wellness activities rooted in the calm and natural rhythms of the farm. ​ \nThe Making Deck – A relaxed space for art\, creativity\, and hands-on expression where people learn\, practice\, and create together. ​ \nEaster Egg Hunt Activity – A playful space where children can enjoy an Easter egg hunt and outdoor activities. ​ \nEducational Farm Tour – Wander through the fields\, meet the animals\, and learn how they support our regenerative landscape ​ \nBuggy Cruise through the landscape & Show Villa – An exclusive buggy tour through our lush green sanctuary and a first look at our signature villas. ​ \nOutdoor Listening Club – A handpicked selection of house music designed to blend naturally with the surroundings and atmosphere. ​ \nFood & Drink Commons – Light\, seasonal flavours to enjoy with friends and family. ​ \nCreative & Sustainable Products – Creative Arts inspired by the colours and textures of the land\, and Sustainable Pop-Ups from local makers. ​ \nAl Fresco Lunch at HiDEAWAY by JAMPA – Farm-led cuisine in the breeze. ​ \nSave the date and come to reconnect and recharge at Local Roots. Join us for a day of slowing down and sharing wellness practices side-by-side this Saturday\, 4th April 2026. ​ \n=================​ \nFor more info: 66 95 371 9494​ \nWhatsApp: https://bit.ly/TriVananda_WA ​ \nEmail: contact@trivananda.com ​ \nVisit: https://trivananda.com ​ \nThe Farm at Tri Vananda (https://maps.app.goo.gl/xCoyffy8mEPBoYzN8) ​
URL:https://phuketcommunity.com/event/local-roots-summer-in-color-at-the-farm-at-tri-vananda/
LOCATION:The Farm at Tri Vananda
CATEGORIES:Art & Performance,Community & Meetings
ATTACH;FMTTYPE=image/webp:https://phuketcommunity.com/wp-content/uploads/2026/04/Local-Roots-–-Summer-in-Color-at-The-Farm-at-Tri-Vana.webp
END:VEVENT
BEGIN:VEVENT
DTSTART;TZID=Asia/Bangkok:20260412T180000
DTEND;TZID=Asia/Bangkok:20260414T233000
DTSTAMP:20260423T053859
CREATED:20260402T101227Z
LAST-MODIFIED:20260402T101227Z
UID:7884-1776016800-1776209400@phuketcommunity.com
SUMMARY:Phuket Bike Week 2026
DESCRIPTION:Welcome all riders to 30th Anniversary \nPhuket Bike Week 2026\nDate 12-14 April 2026\nAt Loma Park\, Patong Beach\, Phuket Thailand.
URL:https://phuketcommunity.com/event/phuket-bike-week-2026/
LOCATION:Patong Beach
CATEGORIES:Community & Meetings,Sports
ATTACH;FMTTYPE=image/png:https://phuketcommunity.com/wp-content/uploads/2026/04/PHUKET-BIKE.webp
END:VEVENT
BEGIN:VEVENT
DTSTART;TZID=Asia/Bangkok:20260413T110000
DTEND;TZID=Asia/Bangkok:20260413T210000
DTSTAMP:20260423T053859
CREATED:20260408T174527Z
LAST-MODIFIED:20260408T174527Z
UID:8049-1776078000-1776114000@phuketcommunity.com
SUMMARY:Songkran Wet Wheel Tour 2026
DESCRIPTION:Ready for the biggest water fight of your life? Join Cassia Phuket’s signature Wet Wheel Tour\, a full-day Songkran Phuket water festival tour that takes you straight to the island’s most legendary splash zones — including Soi Ta-iad in Chalong and Bangla Road in Patong. \nSkip the traffic stress and safety worries. Cruise in style aboard a traditional Po-Thong truck\, an iconic symbol of Phuket’s local culture\, as you soak up the festive atmosphere and splash your way through the city. This is not just a transfer — it’s a moving water party experience. \nWhether you’re staying at Cassia or joining from outside\, this tour is open to all Songkran lovers looking for the ultimate Phuket water fight experience. \nWet Wheel Tour – THB 3\,000 per person \nPackage Includes:\n• High-pressure water guns\n• Full-trip insurance\n• Towel service\n• Eye protection gear\n• Water-resistant pouches\n• Lunch box and Drinking water\n• One complimentary welcome drink at Foam Pool Party \nProgram Details\nDate: Monday\, 13 April 2026\nTime: 11:00 AM – 8:00 PM\n10:30 AM Registration\, wristband & water splash kit collection\, water refill.\n11:00 AM Depart on Po-Thong truck\, splash along the way\n12:15 PM Water refill & restroom break (PTT Wichit)\n12:45 PM Head to Soi Ta-iad\, Chalong\n1:30 PM Water refill stop (Makro Kata/Karon)\n2:30 PM Arrive at Jungceylon\, walk to Bangla Road for Songkran action\n5:00 PM Pick up and return to Cassia\n7:00 PM Arrival at Cassia Phuket + Foam Pool Party \nEarly Bird Promotion\nBook early and save big on your Songkran Tour Phuket 2026:\n• Book & pay by 28 February – 50% off (THB 1\,500 per person)\n• Book & pay 1–31 March – 25% off (THB 2\,250 per person) \n*Children aged 8–11 years are charged at 30% of the adult rate.\n*Children under 8 years old and pets are not permitted on the tour for safety reasons. \n*Please note that this is a full-day outdoor activity involving long hours and high-energy water play\, which may not be suitable for young children or guests with health concerns. \nDon’t Just Watch Songkran – Be In It\nSpots are limited. Secure your place on Phuket’s most exciting Songkran water festival tour and get ready to splash\, celebrate\, and ride the Wet Wheel.
URL:https://phuketcommunity.com/event/songkran-wet-wheel-tour-2026/
LOCATION:Cassia Phuket Bangtao Beach
CATEGORIES:Community & Meetings,Festivals
ATTACH;FMTTYPE=image/png:https://phuketcommunity.com/wp-content/uploads/2026/04/wet-wheel.webp
END:VEVENT
BEGIN:VEVENT
DTSTART;TZID=Asia/Bangkok:20260418T150000
DTEND;TZID=Asia/Bangkok:20260418T180000
DTSTAMP:20260423T053859
CREATED:20260408T183119Z
LAST-MODIFIED:20260408T183119Z
UID:8125-1776524400-1776535200@phuketcommunity.com
SUMMARY:Phuket 420 Island Fest
DESCRIPTION:Are you ready? \n4/20 is coming to Phuket \nOne day of:\nMusic\nCommunity\nBeach vibes \nPhuket 420 Island Fest\nSunrise Beach\nApril 18\nSee you in Phuket
URL:https://phuketcommunity.com/event/phuket-420-island-fest/
LOCATION:Sunrise Beach
CATEGORIES:Community & Meetings,Music & Nightlife
ATTACH;FMTTYPE=image/png:https://phuketcommunity.com/wp-content/uploads/2026/04/phuket-420.webp
END:VEVENT
BEGIN:VEVENT
DTSTART;VALUE=DATE:20260419
DTEND;VALUE=DATE:20260425
DTSTAMP:20260423T053859
CREATED:20260416T072946Z
LAST-MODIFIED:20260416T094451Z
UID:8349-1776556800-1777075199@phuketcommunity.com
SUMMARY:GSTC 2026 Sustainable Tourism Conference
DESCRIPTION:📣 Only one week to go until #GSTC2026 in Phuket! \nIn one week\, the global sustainable tourism community will gather in Phuket\, Thailand\, for the GSTC2026 Global Sustainable Tourism Conference. \nWe look forward to welcoming participants from around the world for a week of knowledge exchange\, collaboration\, and action toward a more sustainable tourism industry. 🌱 \n✨ There’s still time to join us and be part of the conversation! \n🔗Learn more and register here www.gstc.org/gstc2026phuket/ or click on the link in our stories! \n[Special discount available for GSTC Members\, ASEAN Members\, and Thai residents]
URL:https://phuketcommunity.com/event/gstc-2026-sustainable-tourism-conference/
LOCATION:Royal Phuket City Hotel + Courtyard Phuket Town
CATEGORIES:Community & Meetings
ATTACH;FMTTYPE=image/png:https://phuketcommunity.com/wp-content/uploads/2026/04/gstc-1.webp
END:VEVENT
BEGIN:VEVENT
DTSTART;TZID=Asia/Bangkok:20260426T173000
DTEND;TZID=Asia/Bangkok:20260426T220000
DTSTAMP:20260423T053859
CREATED:20260422T141114Z
LAST-MODIFIED:20260422T141114Z
UID:8382-1777224600-1777240800@phuketcommunity.com
SUMMARY:The Amatara’s Longevity Table
DESCRIPTION:Beginning at golden hour and flowing into an intimate dining experience\, The Amatara’s Longevity Table by Chef MIT is a 7-course journey inspired by Welleisure™ where wellness and indulgence meet by the sea. \nCrafted by Iron Chef Thailand 2022\, each dish reflects the essence of contemporary Southern Thai cuisine through a lens of balance\, vitality\, and elevated taste. \n26 April 2026 | 17:30 – 22:00 hrs.\nTHB 8\,800 net per person\nTHB 12\,800 net per person with curated wine pairing\n20% Early Bird privileges available until 24 April\nLimited to only 20 guests \nReserve your seat for an unforgettable evening of mindful indulgence.\nTel: 076-318-888\nEmail: reservations.phuket@amatara.com\nLine: @amatararesort
URL:https://phuketcommunity.com/event/the-amataras-longevity-table/
LOCATION:Amatara Welleisure Resort
CATEGORIES:Community & Meetings,Dining
ATTACH;FMTTYPE=image/png:https://phuketcommunity.com/wp-content/uploads/2026/04/amatara.webp
END:VEVENT
END:VCALENDAR