BEGIN:VCALENDAR
VERSION:2.0
PRODID:-//Phuket Community - ECPv6.15.20//NONSGML v1.0//EN
CALSCALE:GREGORIAN
METHOD:PUBLISH
X-ORIGINAL-URL:https://phuketcommunity.com
X-WR-CALDESC:Events for Phuket Community
REFRESH-INTERVAL;VALUE=DURATION:PT1H
X-Robots-Tag:noindex
X-PUBLISHED-TTL:PT1H
BEGIN:VTIMEZONE
TZID:Asia/Bangkok
BEGIN:STANDARD
TZOFFSETFROM:+0700
TZOFFSETTO:+0700
TZNAME:+07
DTSTART:20240101T000000
END:STANDARD
END:VTIMEZONE
BEGIN:VEVENT
DTSTART;TZID=Asia/Bangkok:20251101T190000
DTEND;TZID=Asia/Bangkok:20251101T233000
DTSTAMP:20260426T071718
CREATED:20251030T050047Z
LAST-MODIFIED:20251030T050047Z
UID:4097-1762023600-1762039800@phuketcommunity.com
SUMMARY:Skull Mafia club at Shaman Lounge Bar
DESCRIPTION:A game of minds for the most tempted mafiosis 😎 \nOn Saturday (November 1st)\, the regular meeting of the Skull Mafia club will take place. Sports mafia is a game for those who appreciate fine intellectual work\, understands human psychology\, has excellent memory and logic. \nAt the same time\, we are happy\, both pros and novices. Our hosts pay attention to each beginner\, patiently and in detail explain rules and help you master the nuances of the game 🧨 \nIn addition to games in the Skull Mafia club\, you can meet interesting people\, find points for cooperation and even meet your love (yes\, this happened too😅). \n🗓️ Saturday 1.11\nв Start at 19:00\n📍 Shaman Lounge Bar\n✒️ Sign up for games @danpetroff
URL:https://phuketcommunity.com/event/skull-mafia-club-at-shaman-lounge-bar/
LOCATION:Shaman Phuket\, https://maps.app.goo.gl/RzK7ncGmBmGeo4CY8
CATEGORIES:Community & Meetings
ATTACH;FMTTYPE=image/png:https://phuketcommunity.com/wp-content/uploads/2025/10/image_2025-10-30_120018397.webp
END:VEVENT
BEGIN:VEVENT
DTSTART;TZID=Asia/Bangkok:20251030T200000
DTEND;TZID=Asia/Bangkok:20251030T230000
DTSTAMP:20260426T071718
CREATED:20251009T091223Z
LAST-MODIFIED:20251009T091223Z
UID:3423-1761854400-1761865200@phuketcommunity.com
SUMMARY:Quiz Night
DESCRIPTION:82/15 Moo 4\, Patak Road (4028)\, Rawai\, Rawai\, Thailand\, Phuket\n\n\n\n\ninstagram.com/tgmphuket\n\n\n\n\n\n\n\ngreenmanphuket.com\nGoogle Maps
URL:https://phuketcommunity.com/event/quiz-night-3/
CATEGORIES:Community & Meetings
ATTACH;FMTTYPE=image/png:https://phuketcommunity.com/wp-content/uploads/2025/10/image_2025-10-09_160518085.webp
END:VEVENT
BEGIN:VEVENT
DTSTART;TZID=Asia/Bangkok:20251026T063000
DTEND;TZID=Asia/Bangkok:20251026T210000
DTSTAMP:20260426T071718
CREATED:20251023T072019Z
LAST-MODIFIED:20251023T072019Z
UID:3640-1761460200-1761512400@phuketcommunity.com
SUMMARY:Active Roots RUN & CONNECT
DESCRIPTION:Active Roots RUN & CONNECT\n⏰ 6:30 | 📍 Bang Wad Dam | Kathu \nStep into the morning with intention\nJoin us for a 6KM mindful run around Bang Wad Dam\, followed by meaningful connections as we enjoy nature and playful moments together \nRun & Connect – 26 October\nBecause movement is better when we share it
URL:https://phuketcommunity.com/event/active-roots-run-connect/
LOCATION:Bang Wad\, Kathu\, Kathu District\, Phuket 83120
CATEGORIES:Community & Meetings,Sports
ATTACH;FMTTYPE=image/png:https://phuketcommunity.com/wp-content/uploads/2025/10/image_2025-10-23_141943883.webp
END:VEVENT
BEGIN:VEVENT
DTSTART;TZID=Asia/Bangkok:20251025T183000
DTEND;TZID=Asia/Bangkok:20251025T220000
DTSTAMP:20260426T071718
CREATED:20251023T070744Z
LAST-MODIFIED:20251023T070744Z
UID:3623-1761417000-1761429600@phuketcommunity.com
SUMMARY:BBQ Beatdown 179 at Tiger Muay Thai
DESCRIPTION:BBQ Beatdown 179 at Tiger Muay Thai\n⏰ 18:30 – 22:00 | 📍 Tiger Muay Thai & MMA Training Camp | Chalong \nBBQ Beatdown 179: Enter The Dragon is set to go down on Saturday October 25th here at Tiger Muay Thai!\nThis month’s edition of our famous fight and party event will be extra special\, with ONE Championship commentator Mitch “The Dragon” Chilson in attendance with a group of fightcast broadcasters who will be putting their skills to work covering the card of pro & amateur fights!\nAs well as the fights\, the event will also feature:– Delicious buffet of local food – 2 free beers – Fully stocked bar – Live music – Lucky draw with mystery prizes \nDoors open at 6:30pm on Saturday October 25th\, and tickets are available here at camp now. Don’t miss it!
URL:https://phuketcommunity.com/event/bbq-beatdown-179-at-tiger-muay-thai/
LOCATION:Tiger Muay Thai\, 7 35 Soi Ta-iad\, Chalong\, เมือง Phuket 83130
CATEGORIES:Community & Meetings,Dining,Music & Nightlife
ATTACH;FMTTYPE=image/png:https://phuketcommunity.com/wp-content/uploads/2025/10/image_2025-10-23_140713987.webp
END:VEVENT
BEGIN:VEVENT
DTSTART;TZID=Asia/Bangkok:20251025T173000
DTEND;TZID=Asia/Bangkok:20251025T210000
DTSTAMP:20260426T071718
CREATED:20251023T064603Z
LAST-MODIFIED:20251023T064603Z
UID:3592-1761413400-1761426000@phuketcommunity.com
SUMMARY:Active Roots Boovie Night
DESCRIPTION:🎃 Join Us for a Boovie Night! 🍷📽️\nYour Halloween movie night to remember! \n🗓️ Date: Friday\, 25 October\n🕠 Time: 5:30 PM – 9:00 PM \nExpect spooky vibes\, a (not-so) scary movie\, and a fun DIY Halloween cookie decorating session. \n🎟️ Ticket includes:\n• 1 dinner (menu selection with vegetarian option)\n• 1 glass of wine (on the house!) or grape juice if you prefer\n• 1 free Halloween cookie to decorate \nCome in costume or come as you are — just don’t miss the fun! Scan to register or click on the link in bio. Limited seats available.
URL:https://phuketcommunity.com/event/active-roots-boovie-night/
LOCATION:Tangerine Phuket\, 10\, 10 Moo 4 Wichit\, Mueang Phuket District\, Phuket 83000
CATEGORIES:Community & Meetings
ATTACH;FMTTYPE=image/png:https://phuketcommunity.com/wp-content/uploads/2025/10/image_2025-10-23_134334086.webp
END:VEVENT
BEGIN:VEVENT
DTSTART;TZID=Asia/Bangkok:20251025T170000
DTEND;TZID=Asia/Bangkok:20251025T190000
DTSTAMP:20260426T071718
CREATED:20251023T064130Z
LAST-MODIFIED:20251023T064130Z
UID:3586-1761411600-1761418800@phuketcommunity.com
SUMMARY:Sole & Soul Sunset Journeys: “Sip & Scream: An Expressionist Sunset”
DESCRIPTION:Sole & Soul Sunset Journeys: Sip & Scream\n📅 25 October | 🕔 5:00 – 7:00 PM\n📍 Sole Mio Boutique Hotel & Wellness\, Bangtao \nPainting Workshop| Artist Showcase | Mocktails | Live Cooking | Lucky Draw\nOnly a Few Complimentary Seats Left – DM to Book!
URL:https://phuketcommunity.com/event/sole-soul-sunset-journeys-sip-scream-an-expressionist-sunset/
LOCATION:Sole Mio Boutique Hotel\, 32\, Cherngtalay\, Tambon Choeng Thale\, Thalang District\, Phuket 83110
CATEGORIES:Community & Meetings
ATTACH;FMTTYPE=image/png:https://phuketcommunity.com/wp-content/uploads/2025/10/image_2025-10-23_133837867.webp
END:VEVENT
BEGIN:VEVENT
DTSTART;TZID=Asia/Bangkok:20251025T160000
DTEND;TZID=Asia/Bangkok:20251025T200000
DTSTAMP:20260426T071718
CREATED:20251023T063545Z
LAST-MODIFIED:20251023T063545Z
UID:3579-1761408000-1761422400@phuketcommunity.com
SUMMARY:RED DISTRICT: The Street Fashion by FEMME FACTORY
DESCRIPTION:RED DISTRICT: FASHION SOCIETY – EP:1 The Street Fashion by FEMME FACTORY 🔴 @femmefactory \nStep into an effortlessly chic afternoon at Radisson RED Phuket Patong Beach this Saturday\, where fashion\, flavor\, and music collide! \n📍Radisson RED Phuket Patong Beach\nDate: Saturday\, 25 October\, 4 PM onwards\nPrice: 1\,000 THB (includes 2 hours free flow + Scoozi Pizza)
URL:https://phuketcommunity.com/event/red-district-the-street-fashion-by-femme-factory/
LOCATION:Radisson RED Phuket\, Pa Tong\, Kathu District\, Phuket
CATEGORIES:Art & Performance,Community & Meetings
ATTACH;FMTTYPE=image/png:https://phuketcommunity.com/wp-content/uploads/2025/10/image_2025-10-23_133206188.webp
END:VEVENT
BEGIN:VEVENT
DTSTART;TZID=Asia/Bangkok:20251025T130000
DTEND;TZID=Asia/Bangkok:20251025T170000
DTSTAMP:20260426T071718
CREATED:20251023T052919Z
LAST-MODIFIED:20251023T052919Z
UID:3573-1761397200-1761411600@phuketcommunity.com
SUMMARY:Ali’s Chess Club
DESCRIPTION:Saturday’s are for chess and good food in our Kathu branch ♟️🔥\n⏰ 13:00 (Beginners) & 14:00 (Intermediate) | 📍 Ali’s BBQ Kathu Branch | Kathu
URL:https://phuketcommunity.com/event/alis-chess-club/
LOCATION:Ali’s BBQ\, 87 M.7 Wichit Songkhram Road\, Kathu\, Phuket\, 83150
CATEGORIES:Community & Meetings,Sports
ATTACH;FMTTYPE=image/png:https://phuketcommunity.com/wp-content/uploads/2025/10/image_2025-10-23_122836544.webp
END:VEVENT
BEGIN:VEVENT
DTSTART;TZID=Asia/Bangkok:20251025T090000
DTEND;TZID=Asia/Bangkok:20251025T150000
DTSTAMP:20260426T071718
CREATED:20251023T051939Z
LAST-MODIFIED:20251023T051939Z
UID:3561-1761382800-1761404400@phuketcommunity.com
SUMMARY:LOCAL ROOTS by TRI VANANDA – Harmony Resonance
DESCRIPTION:LOCAL ROOTS by TRI VANANDA – Harmony Resonance\n⏰ 09:00 – 15:00 | 📍 The Farm at Tri Vananda | Thalang \n  \nMeet our collaborators at Local Roots: Harmony Resonance.​ \nLet’s explore local vendors\, artisans\, and culinary talents\, all coming together for a day filled with Find Your Trust Frequency activity\, hands-on workshops\, live music\, kids’ field house\, and more. Explore interactive activities\, shop unique handmade products\, and connect with like-minded individuals in a vibrant outdoor atmosphere.​ \nAnd more others special local vendors\, we look forward to welcoming you to a meaningful day at Tri Vananda.​ \nSaturday\, 25 October 2025 | 9:00 – 15:00 ​\nThe Farm at Tri Vananda
URL:https://phuketcommunity.com/event/local-roots-by-tri-vananda-harmony-resonance/
LOCATION:Tri Vananda\, Tambon Thep Krasatti\, Thalang District\, Phuket 83110
CATEGORIES:Community & Meetings
ATTACH;FMTTYPE=image/png:https://phuketcommunity.com/wp-content/uploads/2025/10/image_2025-10-23_121732726.webp
END:VEVENT
BEGIN:VEVENT
DTSTART;TZID=Asia/Bangkok:20251024T190000
DTEND;TZID=Asia/Bangkok:20251024T220000
DTSTAMP:20260426T071718
CREATED:20251023T230717Z
LAST-MODIFIED:20251023T230717Z
UID:3809-1761332400-1761343200@phuketcommunity.com
SUMMARY:Big Fish Outdoor Movie Night
DESCRIPTION:Join us every Friday & Saturday for a magical #MovieNight under the stars at our beachside cinema. \n Big Fish Lawn | 19.00–22.00 hrs | Free Entry Popcorn\, snacks & cocktails available to purchase at Big Fish Bar\n*Walk-ins welcome.
URL:https://phuketcommunity.com/event/big-fish-outdoor-movie-night/
LOCATION:Big Fish Restaurant & Bar\, Ban Nai Yang\, Thailand\, Phuket 83110
CATEGORIES:Community & Meetings,Dining
ATTACH;FMTTYPE=image/png:https://phuketcommunity.com/wp-content/uploads/2025/10/image_2025-10-24_060611419.webp
END:VEVENT
BEGIN:VEVENT
DTSTART;TZID=Asia/Bangkok:20251023T200000
DTEND;TZID=Asia/Bangkok:20251023T230000
DTSTAMP:20260426T071718
CREATED:20251009T091037Z
LAST-MODIFIED:20251009T091037Z
UID:3421-1761249600-1761260400@phuketcommunity.com
SUMMARY:Quiz Night
DESCRIPTION:82/15 Moo 4\, Patak Road (4028)\, Rawai\, Rawai\, Thailand\, Phuket\n\n\n\n\ninstagram.com/tgmphuket\n\n\n\n\n\n\n\ngreenmanphuket.com\nGoogle Maps
URL:https://phuketcommunity.com/event/quiz-night-2/
CATEGORIES:Community & Meetings
ATTACH;FMTTYPE=image/png:https://phuketcommunity.com/wp-content/uploads/2025/10/image_2025-10-09_160518085.webp
END:VEVENT
BEGIN:VEVENT
DTSTART;VALUE=DATE:20251020
DTEND;VALUE=DATE:20251031
DTSTAMP:20260426T071718
CREATED:20251023T043636Z
LAST-MODIFIED:20251023T043636Z
UID:3517-1760918400-1761868799@phuketcommunity.com
SUMMARY:Phuket Vegetarian Festival 2025
DESCRIPTION:Phuket is alive with the sights and sounds of the Vegetarian Festival 2025! 🌕 From Oct 20–30\, the island is filled with white-clad devotees\, booming firecrackers\, and delicious meat-free feasts. Don’t miss the fiery walk at Saphan Hin (Oct 26)\, the vibrant Old Town processions (Oct 27)\, and the spine-tingling midnight rituals (Oct 29). \nReady to witness Phuket’s wildest spiritual spectacle? Grab your earplugs\, wear white\, and dive into the experience! \n👉 See the full schedule here: Phuket Vegetarian Festival 2025 Guide
URL:https://phuketcommunity.com/event/phuket-vegetarian-festival-2025/
CATEGORIES:Art & Performance,Community & Meetings,Festivals
ATTACH;FMTTYPE=image/png:https://phuketcommunity.com/wp-content/uploads/2025/10/image_2025-10-23_113602993.webp
END:VEVENT
BEGIN:VEVENT
DTSTART;TZID=Asia/Bangkok:20251011T190000
DTEND;TZID=Asia/Bangkok:20251011T220000
DTSTAMP:20260426T071718
CREATED:20251009T101751Z
LAST-MODIFIED:20251009T101751Z
UID:3468-1760209200-1760220000@phuketcommunity.com
SUMMARY:Big Fish's Outdoor Movie Night
DESCRIPTION:Join us every Friday & Saturday for a magical #MovieNight under the stars at our beachside cinema. \n Big Fish Lawn | 19.00–22.00 hrs | Free Entry Popcorn\, snacks & cocktails available to purchase at Big Fish Bar\n*Walk-ins welcome.\n\nBig Fish Restaurant & Bar\nGoogle Maps
URL:https://phuketcommunity.com/event/big-fishs-outdoor-movie-night-2/
CATEGORIES:Community & Meetings
ATTACH;FMTTYPE=image/png:https://phuketcommunity.com/wp-content/uploads/2025/10/image_2025-10-09_171204032.webp
END:VEVENT
BEGIN:VEVENT
DTSTART;TZID=Asia/Bangkok:20251010T190000
DTEND;TZID=Asia/Bangkok:20251010T220000
DTSTAMP:20260426T071718
CREATED:20251009T101630Z
LAST-MODIFIED:20251009T101630Z
UID:3462-1760122800-1760133600@phuketcommunity.com
SUMMARY:Big Fish's Outdoor Movie Night
DESCRIPTION:Join us every Friday & Saturday for a magical #MovieNight under the stars at our beachside cinema. \n Big Fish Lawn | 19.00–22.00 hrs | Free Entry Popcorn\, snacks & cocktails available to purchase at Big Fish Bar\n*Walk-ins welcome.\n\nBig Fish Restaurant & Bar\nGoogle Maps
URL:https://phuketcommunity.com/event/big-fishs-outdoor-movie-night/
CATEGORIES:Community & Meetings
ATTACH;FMTTYPE=image/png:https://phuketcommunity.com/wp-content/uploads/2025/10/image_2025-10-09_171204032.webp
END:VEVENT
BEGIN:VEVENT
DTSTART;TZID=Asia/Bangkok:20251010T170000
DTEND;TZID=Asia/Bangkok:20251010T200000
DTSTAMP:20260426T071718
CREATED:20251009T094652Z
LAST-MODIFIED:20251009T094652Z
UID:3449-1760115600-1760126400@phuketcommunity.com
SUMMARY:Phuket Business Networking - PBN
DESCRIPTION:Make sure to bring lots of business cards\, as getting to know each other is what PBN is all about. A small entry fee\, THB 500 per person\, that includes the first 3 drinks and pizza. Location – Oasis Bar\, Koh Kaew\, starting 5pm. Register your attendance here or call Jason – 086 479 7471. \nThe Oasis Bar \nGoogle Maps
URL:https://phuketcommunity.com/event/phuket-business-networking-pbn/
CATEGORIES:Community & Meetings
ATTACH;FMTTYPE=image/png:https://phuketcommunity.com/wp-content/uploads/2025/10/image_2025-10-09_164621165.webp
END:VEVENT
END:VCALENDAR