BEGIN:VCALENDAR
VERSION:2.0
PRODID:-//Phuket Community - ECPv6.15.20//NONSGML v1.0//EN
CALSCALE:GREGORIAN
METHOD:PUBLISH
X-WR-CALNAME:Phuket Community
X-ORIGINAL-URL:https://phuketcommunity.com
X-WR-CALDESC:Events for Phuket Community
REFRESH-INTERVAL;VALUE=DURATION:PT1H
X-Robots-Tag:noindex
X-PUBLISHED-TTL:PT1H
BEGIN:VTIMEZONE
TZID:Asia/Bangkok
BEGIN:STANDARD
TZOFFSETFROM:+0700
TZOFFSETTO:+0700
TZNAME:+07
DTSTART:20250101T000000
END:STANDARD
END:VTIMEZONE
BEGIN:VEVENT
DTSTART;VALUE=DATE:20260214
DTEND;VALUE=DATE:20260215
DTSTAMP:20260421T181719
CREATED:20260211T102837Z
LAST-MODIFIED:20260211T103923Z
UID:6923-1771027200-1771113599@phuketcommunity.com
SUMMARY:Valentine's Day Events in Phuket 2026
DESCRIPTION:Looking for the perfect Valentine’s Day experience in Phuket? From intimate beachfront dinners to luxury resort celebrations\, Phuket offers unforgettable romantic experiences across the island. Whether you’re planning a surprise for your partner or searching for couples activities in Phuket\, this comprehensive guide features over 40 curated Valentine’s Day events happening February 14\, 2026. \nDiscover romantic restaurants in Phuket offering special Valentine’s menus\, beach clubs hosting sunset celebrations\, and exclusive resort experiences in popular areas including Bangtao\, Patong\, Rawai\, Kamala\, Kata\, and Phuket Town. From budget-friendly options starting at THB 699 to ultra-luxury dining experiences\, there’s something for every couple celebrating love on Thailand’s most beautiful island. \n			\n			\n				\n				\n				\n				\n			\n				\n				\n				\n				\n				\n				\n				\n				\n				\n				\n				\n\n\n\n\n\n  \n  \n  \n    💕 Valentine's Day Events in Phuket 2026\n    Romantic dinners\, celebrations\, and unforgettable experiences across the island\n  \n\n  \n  \n    \n      🍽️ Romantic Dinners & Fine Dining\n    \n\n    \n      Valentine's Romantic Dinner at The Nai Harn Phuket\n      \n        📅 Date: Feb 14\, 2026\n        ⏰ Time: 6:00 PM - 10:00 PM\n        📍 Venue: The Nai Harn Phuket\, Rawai\n      \n      THB 19\,000 per couple\n      View Details →\n    \n\n    \n      My Valentine By The Sea\n      \n        📅 Date: Feb 14\, 2026\n        ⏰ Time: 6:30 PM - 9:30 PM\n        📍 Venue: My Beach Resort Phuket\, Cape Panwa\n      \n      THB 25\,000 per couple\n      View Details →\n    \n\n    \n      Valentine's Dinner at Keemala\n      \n        📅 Date: Feb 14\, 2026\n        ⏰ Time: 7:00 PM - 10:00 PM\n        📍 Venue: Keemala\, Kamala\n      \n      From THB 16\,500 per couple\n      View Details →\n    \n\n    \n      Valentine's Dinner at Dusit Thani Laguna Phuket\n      \n        📅 Date: Feb 14\, 2026\n        ⏰ Time: 6:30 PM - 9:30 PM\n        📍 Venue: Dusit Thani Laguna Phuket\, Bangtao\n      \n      THB 14\,000 per couple\n      View Details →\n    \n\n    \n      Amatara Valentine's Evening by the Sea\n      \n        📅 Date: Feb 14\, 2026\n        ⏰ Time: 6:30 PM - 10:00 PM\n        📍 Venue: Amatara Welleisure Resort\, Cape Panwa\n      \n      THB 12\,900++ per couple\n      View Details →\n    \n\n    \n      Love Sparkles on the Beach\n      \n        📅 Date: Feb 14\, 2026\n        ⏰ Time: 6:00 PM - 10:00 PM\n        📍 Venue: Phuket Marriott Resort and Spa\, Nai Yang Beach\n      \n      THB 12\,995\n      View Details →\n    \n\n    \n      Valentine's Day Special Moments\n      \n        📅 Date: Feb 14\, 2026\n        ⏰ Time: 7:00 PM - 10:00 PM\n        📍 Venue: Andara Resort & Villas\, Kamala\n      \n      THB 8\,500++ per couple\n      View Details →\n    \n\n    \n      Valentine's Dinner Crafted for Love\n      \n        📅 Date: Feb 13-15\, 2026\n        ⏰ Time: 5:00 PM - 10:30 PM\n        📍 Venue: Sea Salt Lounge & Grill\, Rawai\n      \n      THB 6\,900++ per couple\n      View Details →\n    \n\n    \n      Valentine's Dinner by the Sea\n      \n        📅 Date: Feb 14\, 2026\n        ⏰ Time: 6:30 PM - 9:30 PM\n        📍 Venue: Trisara\, Thalang\n      \n      From THB 6\,900++\n      View Details →\n    \n\n    \n      Valentine's Day by The Pool\n      \n        📅 Date: Feb 14\, 2026\n        ⏰ Time: 7:30 PM - 10:00 PM\n        📍 Venue: Courtyard by Marriott Phuket Town\n      \n      THB 6\,288\n      View Details →\n    \n\n    \n      Valentine's Dinner – Rooftop Love Soiree\n      \n        📅 Date: Feb 14\, 2026\n        ⏰ Time: 6:00 PM - 11:30 PM\n        📍 Venue: Kalima Resort and Spa Phuket\, Patong\n      \n      THB 5\,990++ per couple\n      View Details →\n    \n\n    \n      Love Exclusively Valentine's Day\n      \n        📅 Date: Feb 14\, 2026\n        ⏰ Time: 5:30 PM - 9:30 PM\n        📍 Venue: The KEE Resort and Spa\, Patong\n      \n      THB 5\,990 per couple\n      View Details →\n    \n\n    \n      The Valentine's Experience at PRU Restaurant\n      \n        📅 Date: Feb 14\, 2026\n        ⏰ Time: 12:00 PM - 10:30 PM\n        📍 Venue: PRU Restaurant\, Trisara\, Thalang\n      \n      From THB 5\,700++\n      View Details →\n    \n\n    \n      A Garden of Love\n      \n        📅 Date: Feb 14\, 2026\n        ⏰ Time: 6:00 PM - 10:00 PM\n        📍 Venue: Hyatt Regency Phuket Resort\, Kamala\n      \n      THB 5\,999 net per couple\n      View Details →\n    \n\n    \n      Evening of Love | Valentine's at Kata Rocks\n      \n        📅 Date: Feb 14\, 2026\n        ⏰ Time: 6:00 PM - 10:00 PM\n        📍 Venue: Kata Rocks\, Kata\n      \n      From THB 4\,650++\n      View Details →\n    \n\n    \n      A Valentine's Evening by the Sea\n      \n        📅 Date: Feb 14\, 2026\n        ⏰ Time: 6:00 PM - 11:00 PM\n        📍 Venue: Arinara Bangtao Beach Resort\n      \n      From THB 4\,200\n      View Details →\n    \n\n    \n      Romantic Dinner in the Garden\n      \n        📅 Date: Feb 14\, 2026\n        ⏰ Time: 6:30 PM - 10:00 PM\n        📍 Venue: Open Kitchen\, Bangtao\n      \n      THB 3\,990++ per couple\n      View Details →\n    \n\n    \n      Sunset Romantic Dinner at Cassia Phuket\n      \n        📅 Date: Feb 14\, 2026\n        ⏰ Time: 6:00 PM - 10:00 PM\n        📍 Venue: Cassia Phuket Bangtao Beach\n      \n      THB 3\,990++ per couple\n      View Details →\n    \n\n    \n      Azzurra Amore al Mare\n      \n        📅 Date: Feb 14\, 2026\n        ⏰ Time: 6:00 PM - 10:00 PM\n        📍 Venue: Angsana Laguna Phuket\, Bangtao\n      \n      THB 3\,800++\n      Book Now →\n    \n\n    \n      Valentine's Celebration Dinner at Dewa Phuket\n      \n        📅 Date: Feb 14\, 2026\n        ⏰ Time: 6:30 PM - 9:30 PM\n        📍 Venue: Dewa Phuket Resort and Villas\, Thalang\n      \n      THB 3\,800 net per couple\n      View Details →\n    \n\n    \n      Valentine's Dinner at The Watercourt\n      \n        📅 Date: Feb 14\, 2026\n        ⏰ Time: 6:30 PM - 10:30 PM\n        📍 Venue: Banyan Tree Phuket\, Bangtao\n      \n      THB 2\,900\n      View Details →\n    \n\n    \n      Valentine's Day Buffet Night at Phuket Emerald Beach\n      \n        📅 Date: Feb 14\, 2026\n        ⏰ Time: 6:30 PM - 10:00 PM\n        📍 Venue: Phuket Emerald Beach Resort\, Karon\n      \n      THB 2\,800 per couple\n      View Details →\n    \n\n    \n      Love on The Edge of Paradise\n      \n        📅 Date: Feb 14\, 2026\n        ⏰ Time: 6:00 PM - 10:30 PM\n        📍 Venue: Wyndham Grand Phuket Kalim Bay\, Patong\n      \n      THB 2\,200\n      View Details →\n    \n\n    \n      Valentine's Lobster Night at Taste Bar & Grill\n      \n        📅 Date: Feb 14\, 2026\n        ⏰ Time: 7:00 PM - 10:00 PM\n        📍 Venue: Taste Bar & Grill\, Bangtao\n      \n      THB 1\,600\n      View Details →\n    \n\n    \n      Valentine's Dinner at Churchill Karon\n      \n        📅 Date: Feb 14\, 2026\n        ⏰ Time: 7:00 PM - 10:00 PM\n        📍 Venue: Churchill Bar and Restaurant Karon\n      \n      THB 1\,499 per person\n      View Details →\n    \n\n    \n      Valentine's Day Celebration at Meliá Phuket Mai Khao\n      \n        📅 Date: Feb 14\, 2026\n        ⏰ Time: 6:00 PM - 9:30 PM\n        📍 Venue: Meliá Phuket Mai Khao\, Thalang\n      \n      THB 1\,490\n      View Details →\n    \n\n    \n      Valentine's International Buffet Night\n      \n        📅 Date: Feb 14\, 2026\n        ⏰ Time: 6:30 PM - 10:00 PM\n        📍 Venue: Cassia Phuket Bangtao Beach\n      \n      THB 959 per person\n      View Details →\n    \n\n    \n      Valentine's Buffet Dinner at Novotel Phuket Kata Avista\n      \n        📅 Date: Feb 14\, 2026\n        ⏰ Time: 6:00 PM - 9:00 PM\n        📍 Venue: Novotel Phuket Kata Avista Resort\, Karon\n      \n      THB 699++\n      View Details →\n    \n\n  \n\n  \n  \n    \n      🏖️ Beach Clubs & Casual Celebrations\n    \n\n    \n      Rose a la Plage Valentine's Day Edition\n      \n        📅 Date: Feb 14\, 2026\n        ⏰ Time: 3:00 PM - 10:00 PM\n        📍 Venue: Carpe Diem Beach Club\, Bangtao\n      \n      Free Entry\n      View Details →\n    \n\n    \n      Celebrate Valentine's Day at Suay Alchemy\n      \n        📅 Date: Feb 14\, 2026\n        ⏰ Time: 5:00 PM - 11:30 PM\n        📍 Venue: Alchemy Phuket\, Bangtao\n      \n      Free Entry\n      View Details →\n    \n\n    \n      St. Valentine's Day at La Maree\n      \n        📅 Date: Feb 14\, 2026\n        ⏰ Time: 7:00 PM - 10:00 PM\n        📍 Venue: La Marée Phuket\, Bangtao\n      \n      Free Entry\n      View Details →\n    \n\n    \n      Valentine Traffic Light Party at Nora\n      \n        📅 Date: Feb 14\, 2026\n        ⏰ Time: 7:00 PM - 11:30 PM\n        📍 Venue: Nora Beach Club\, Bangtao\n      \n      Free Entry\n      View Details →\n    \n\n  \n\n  \n  \n    \n      👨‍👩‍👧‍👦 Family-Friendly & Daytime Events\n    \n\n    \n      Cupid's Carnival Phuket\n      \n        📅 Date: Feb 14\, 2026\n        ⏰ Time: 10:00 AM - 5:00 PM\n        📍 Venue: Angsana Laguna Phuket\, Bangtao\n      \n      Free Entry\n      View Details →\n    \n\n    \n      Love Under the Stars at Rawai Park\n      \n        📅 Date: Feb 14\, 2026\n        ⏰ Time: 2:00 PM - 4:00 PM\n        📍 Venue: Rawai Park\, Rawai\n      \n      Adult: THB 750 | Child: THB 450\n      View Details →\n    \n\n  \n\n  \n  \n    💕 Have an Event to Add?\n    \n      Know about a Valentine's Day event we missed? Submit it to our community calendar!\n    \n    \n      Submit Your Event →
URL:https://phuketcommunity.com/event/valentines-day-events-in-phuket-2026/
CATEGORIES:Dining,Family,Festivals
ATTACH;FMTTYPE=image/jpeg:https://phuketcommunity.com/wp-content/uploads/2026/02/romantic-valentines-dinner-in-phuket.webp
END:VEVENT
BEGIN:VEVENT
DTSTART;TZID=Asia/Bangkok:20260214T150000
DTEND;TZID=Asia/Bangkok:20260214T233000
DTSTAMP:20260421T181719
CREATED:20260206T080020Z
LAST-MODIFIED:20260206T080020Z
UID:6839-1771081200-1771111800@phuketcommunity.com
SUMMARY:ROSÉ A LA PLAGE: VALENTINE’S EDITION
DESCRIPTION:ROSÉ A LA PLAGE: VALENTINE’S EDITION – CARPE DIEM BEACH CLUB – SATURDAY 14 FEB \nCelebrate the ultimate day of love with a sophisticated beachfront party where the rosé flows freely and the music never stops. Indulge in an upscale Mediterranean atmosphere as Bang Tao Beach transforms into a romantic sanctuary for those who live for the sun and the beat. \nLine-up:\nShane Shine \nSaturday\, 14 February\nCarpe Diem Beach Club\, Phuket\n3pm-late \nSeize the moment and secure your spot for the most exclusive Valentine’s celebration on the sand.
URL:https://phuketcommunity.com/event/rose-a-la-plage-valentines-edition/
LOCATION:Carpe Diem Beach Club\, 99\, 1 Bangtao Beach Road\, Choeng Thale\, Thalang District\, Phuket 83110\, Thalang\, Phuket\, 83100\, Thailand
CATEGORIES:Dining,Music & Nightlife
ATTACH;FMTTYPE=image/png:https://phuketcommunity.com/wp-content/uploads/2026/02/image_2026-02-06_145945653.webp
END:VEVENT
BEGIN:VEVENT
DTSTART;TZID=Asia/Bangkok:20260214T180000
DTEND;TZID=Asia/Bangkok:20260214T220000
DTSTAMP:20260421T181719
CREATED:20260206T080555Z
LAST-MODIFIED:20260206T080555Z
UID:6849-1771092000-1771106400@phuketcommunity.com
SUMMARY:Celebrate Valentine’s Day at HOMA
DESCRIPTION:Celebrate Valentine’s Day at HOMA 💕 \nAn evening made for two – good food\, great views\, and time well spent together. \n📅 February 14 | 6 – 10 PM\n📍 Mingle Poolside\, 7th Floor\, HOMA Cherngtalay\n✨ 1\,800 THB net per person \nEnjoy a welcome drink\, 5-course Valentine’s menu ending on a sweet note. \n📩 Reserve your table at fb-hct@homa.com or book directly on our website via the link in our bio. \nNo place like HOMA
URL:https://phuketcommunity.com/event/celebrate-valentines-day-at-homa/
LOCATION:HOMA Cherngtalay Phuket\, https://maps.app.goo.gl/MPfuwjcNpGk93GAd7
CATEGORIES:Dining
ATTACH;FMTTYPE=image/jpeg:https://phuketcommunity.com/wp-content/uploads/2026/02/Celebrate-Valentines-Day-at-HOMA-💕An-evening-made-for-two-good-food-great-views-and-time-w.webp
END:VEVENT
BEGIN:VEVENT
DTSTART;TZID=Asia/Bangkok:20260214T183000
DTEND;TZID=Asia/Bangkok:20260214T220000
DTSTAMP:20260421T181719
CREATED:20260211T092311Z
LAST-MODIFIED:20260211T092311Z
UID:6901-1771093800-1771106400@phuketcommunity.com
SUMMARY:A Valentine’s Evening by the Sea
DESCRIPTION:A Valentine’s Evening by the Sea. As twilight settles over the shoreline\, step into an intimate beachfront experience curated for couples to share a moment of quiet elegance.A refined 5-course set dinner is served in a serene seaside setting\, accompanied by live cello melodies\, a sparkling Prosecco toast\, and delicate gestures prepared especially for the evening allowing each moment to unfold with grace.\n• Saturday\, 14 February 2026 | 6:30 PM – 10:00 PM.• Venue: Beachfront• THB 12\,900++ per couple (Vegetarian menu option available at THB 7\,990++ per couple)\nThe Evening Includes• 5-course set dinner• A small bouquet• Valentine’s gift• 2 glasses of Prosecco wine• Live cello music\nA composed celebration of love\, framed by the sea\, soft light\, and timeless details. Limited availability | Advance reservation recommended
URL:https://phuketcommunity.com/event/a-valentines-evening-by-the-sea/
LOCATION:Amatara Welleisureᵀᴹ Resort
CATEGORIES:Dining
ATTACH;FMTTYPE=image/png:https://phuketcommunity.com/wp-content/uploads/2026/02/image_2026-02-11_162243572.webp
END:VEVENT
BEGIN:VEVENT
DTSTART;TZID=Asia/Bangkok:20260215T120000
DTEND;TZID=Asia/Bangkok:20260215T150000
DTSTAMP:20260421T181719
CREATED:20260214T035158Z
LAST-MODIFIED:20260214T035158Z
UID:6957-1771156800-1771167600@phuketcommunity.com
SUMMARY:𝐂𝐔𝐋𝐓 𝐒𝐎𝐂𝐈𝐀𝐋 𝐱 𝐒𝐔𝐍𝐃𝐀𝐘 𝐁𝐑𝐔𝐍𝐂𝐇
DESCRIPTION:𝐂𝐔𝐋𝐓 𝐒𝐎𝐂𝐈𝐀𝐋 𝐱 𝐒𝐔𝐍𝐃𝐀𝐘 𝐁𝐑𝐔𝐍𝐂𝐇 at @kiporestaurant\n𝐒𝐮𝐧𝐝𝐚𝐲 𝟏𝟓𝐭𝐡 𝐅𝐞𝐛𝐫𝐮𝐚𝐫𝐲 𝟏𝟐𝐏𝐌 – 𝟑𝐏𝐌\nBook your brunch spot with @joey.angeles \n🥘 Spanish paella in full swing.\n🥩 Live grill firing all afternoon.\n🎶 Live entertainment setting the tone.\n🍻Free flow drinks.\n😎 And when you’re done at the table\, free access to the @firaphuket swimming pool after. \n⚡️ 𝐓𝐇𝐄 𝐂𝐔𝐋𝐓 𝐅𝐈𝐓𝐍𝐄𝐒𝐒 𝐒𝐎𝐂𝐈𝐄𝐓𝐘 📍𝐑𝐚𝐰𝐚𝐢\, 𝐏𝐡𝐮𝐤𝐞𝐭
URL:https://phuketcommunity.com/event/%f0%9d%90%82%f0%9d%90%94%f0%9d%90%8b%f0%9d%90%93-%f0%9d%90%92%f0%9d%90%8e%f0%9d%90%82%f0%9d%90%88%f0%9d%90%80%f0%9d%90%8b-%f0%9d%90%b1-%f0%9d%90%92%f0%9d%90%94%f0%9d%90%8d%f0%9d%90%83%f0%9d%90%80/
LOCATION:Kipo Restaurant
CATEGORIES:Dining
ATTACH;FMTTYPE=image/jpeg:https://phuketcommunity.com/wp-content/uploads/2026/02/If-the-last-two-weekends-felt-like-someone-turned-the-volume-down…-consider-this-us-fixing-it.𝐂.webp
END:VEVENT
BEGIN:VEVENT
DTSTART;TZID=Asia/Bangkok:20260217T183000
DTEND;TZID=Asia/Bangkok:20260217T220000
DTSTAMP:20260421T181719
CREATED:20260211T092046Z
LAST-MODIFIED:20260211T092046Z
UID:6895-1771353000-1771365600@phuketcommunity.com
SUMMARY:Golden Chinese New Year Dinner
DESCRIPTION:Celebrate prosperity\, togetherness\, and auspicious beginnings with a festive evening of refined flavours and cultural traditions.\nDate: 17 February 2026Time: 6.30 PM – 10.00 PMVenue: Amatara Pool Terrace\nPrices:• THB 4\,888++ per person• THB 2\,888++ per child\nPackage Includes• 5-course Chinese New Year set dinner• Live singer performance• Traditional lion dance show
URL:https://phuketcommunity.com/event/golden-chinese-new-year-dinner/
LOCATION:Amatara Welleisureᵀᴹ Resort
CATEGORIES:Dining
ATTACH;FMTTYPE=image/png:https://phuketcommunity.com/wp-content/uploads/2026/02/image_2026-02-11_162021122.webp
END:VEVENT
BEGIN:VEVENT
DTSTART;TZID=Asia/Bangkok:20260222T120000
DTEND;TZID=Asia/Bangkok:20260222T160000
DTSTAMP:20260421T181719
CREATED:20260218T093628Z
LAST-MODIFIED:20260218T093628Z
UID:7052-1771761600-1771776000@phuketcommunity.com
SUMMARY:The Lunar New Year Sunday Brunch
DESCRIPTION:The Lunar New Year Sunday Brunch \nA joyful Sunday Brunch featuring live music\, ceremonial drums and the Chinese lion dance\, accompanied by a festive feast in Trisara’s oceanfront setting. \nSunday\, 22 February 2026 | 12:00 – 16:00 hrs.\nat Cielo&Spice Deck \nPrice:\nTHB 4\,100++ per person\nTHB 1\,900++ per child
URL:https://phuketcommunity.com/event/the-lunar-new-year-sunday-brunch/
LOCATION:Trisara\, 60 Cherngtalay 1 Srisoonthorn Road Tambon Choeng Thale\, Thalang District\, Phuket 83110
CATEGORIES:Dining,Family
ATTACH;FMTTYPE=image/png:https://phuketcommunity.com/wp-content/uploads/2026/02/image_2026-02-18_163451574.webp
END:VEVENT
BEGIN:VEVENT
DTSTART;TZID=Asia/Bangkok:20260222T140000
DTEND;TZID=Asia/Bangkok:20260222T190000
DTSTAMP:20260421T181719
CREATED:20260218T094241Z
LAST-MODIFIED:20260218T094241Z
UID:7057-1771768800-1771786800@phuketcommunity.com
SUMMARY:House of Paradise
DESCRIPTION: The House of Paradise is Reborn \nFrom the shores of Phuket to the sands of ancient Egypt — welcome to the island’s most iconic Sunday escape.\n Where Barra Cuda becomes The House of your wildest Paradise dreams.\nEvery Sunday from 2 PM — don’t just come for the party\, come for the show.\nBook your party: tr.ee/bc-rsvn\nFor more information or reservations\, please contact +66 (0) 61 394 3904 (WhatsApp) Line OA: @barracudaphuket reservations@barracudabeachclub.com
URL:https://phuketcommunity.com/event/house-of-paradise/
LOCATION:Barra Cuda Phuket\, 43 Thaweewong Road\, Amphoe Kathu\, Phuket\, Patong\, Thailand\, Phuket\, Patong\, Phuket\, 83100\, Thailand
CATEGORIES:Dining,Festivals
ATTACH;FMTTYPE=image/png:https://phuketcommunity.com/wp-content/uploads/2026/02/image_2026-02-18_164221849.webp
END:VEVENT
END:VCALENDAR