BEGIN:VCALENDAR
VERSION:2.0
PRODID:-//Phuket Community - ECPv6.15.20//NONSGML v1.0//EN
CALSCALE:GREGORIAN
METHOD:PUBLISH
X-WR-CALNAME:Phuket Community
X-ORIGINAL-URL:https://phuketcommunity.com
X-WR-CALDESC:Events for Phuket Community
REFRESH-INTERVAL;VALUE=DURATION:PT1H
X-Robots-Tag:noindex
X-PUBLISHED-TTL:PT1H
BEGIN:VTIMEZONE
TZID:Asia/Bangkok
BEGIN:STANDARD
TZOFFSETFROM:+0700
TZOFFSETTO:+0700
TZNAME:+07
DTSTART:20250101T000000
END:STANDARD
END:VTIMEZONE
BEGIN:VEVENT
DTSTART;TZID=Asia/Bangkok:20260215T120000
DTEND;TZID=Asia/Bangkok:20260215T150000
DTSTAMP:20260420T182252
CREATED:20260214T035158Z
LAST-MODIFIED:20260214T035158Z
UID:6957-1771156800-1771167600@phuketcommunity.com
SUMMARY:𝐂𝐔𝐋𝐓 𝐒𝐎𝐂𝐈𝐀𝐋 𝐱 𝐒𝐔𝐍𝐃𝐀𝐘 𝐁𝐑𝐔𝐍𝐂𝐇
DESCRIPTION:𝐂𝐔𝐋𝐓 𝐒𝐎𝐂𝐈𝐀𝐋 𝐱 𝐒𝐔𝐍𝐃𝐀𝐘 𝐁𝐑𝐔𝐍𝐂𝐇 at @kiporestaurant\n𝐒𝐮𝐧𝐝𝐚𝐲 𝟏𝟓𝐭𝐡 𝐅𝐞𝐛𝐫𝐮𝐚𝐫𝐲 𝟏𝟐𝐏𝐌 – 𝟑𝐏𝐌\nBook your brunch spot with @joey.angeles \n🥘 Spanish paella in full swing.\n🥩 Live grill firing all afternoon.\n🎶 Live entertainment setting the tone.\n🍻Free flow drinks.\n😎 And when you’re done at the table\, free access to the @firaphuket swimming pool after. \n⚡️ 𝐓𝐇𝐄 𝐂𝐔𝐋𝐓 𝐅𝐈𝐓𝐍𝐄𝐒𝐒 𝐒𝐎𝐂𝐈𝐄𝐓𝐘 📍𝐑𝐚𝐰𝐚𝐢\, 𝐏𝐡𝐮𝐤𝐞𝐭
URL:https://phuketcommunity.com/event/%f0%9d%90%82%f0%9d%90%94%f0%9d%90%8b%f0%9d%90%93-%f0%9d%90%92%f0%9d%90%8e%f0%9d%90%82%f0%9d%90%88%f0%9d%90%80%f0%9d%90%8b-%f0%9d%90%b1-%f0%9d%90%92%f0%9d%90%94%f0%9d%90%8d%f0%9d%90%83%f0%9d%90%80/
LOCATION:Kipo Restaurant
CATEGORIES:Dining
ATTACH;FMTTYPE=image/jpeg:https://phuketcommunity.com/wp-content/uploads/2026/02/If-the-last-two-weekends-felt-like-someone-turned-the-volume-down…-consider-this-us-fixing-it.𝐂.webp
END:VEVENT
END:VCALENDAR