BEGIN:VCALENDAR
VERSION:2.0
PRODID:-//Phuket Community - ECPv6.15.20//NONSGML v1.0//EN
CALSCALE:GREGORIAN
METHOD:PUBLISH
X-ORIGINAL-URL:https://phuketcommunity.com
X-WR-CALDESC:Events for Phuket Community
REFRESH-INTERVAL;VALUE=DURATION:PT1H
X-Robots-Tag:noindex
X-PUBLISHED-TTL:PT1H
BEGIN:VTIMEZONE
TZID:Asia/Bangkok
BEGIN:STANDARD
TZOFFSETFROM:+0700
TZOFFSETTO:+0700
TZNAME:+07
DTSTART:20250101T000000
END:STANDARD
END:VTIMEZONE
BEGIN:VEVENT
DTSTART;TZID=Asia/Bangkok:20260425T180000
DTEND;TZID=Asia/Bangkok:20260426T220000
DTSTAMP:20260424T040400
CREATED:20260408T184847Z
LAST-MODIFIED:20260408T184847Z
UID:8151-1777140000-1777240800@phuketcommunity.com
SUMMARY:Tatler Best of Andaman 2026 x Banyan Tree Phuket
DESCRIPTION:SAFFRON x R-HAAN Chef Collaboration Dinner \nSaturday\, 25 April 2026\nTHB 4\,900 per person | 5-Course Dinner\nAn intimate evening where two of Thailand’s finest culinary minds share one kitchen.\nChef Worapong of Saffron\, Banyan Tree Phuket’s signature restaurant\, joins Chef Chumpol from R-Haan\, the two-Michelin-starred restaurant\, celebrated for elevating royal Thai cuisine to the world stage. Together\, they craft a five-course dinner that draws from the finest GI-certified ingredients of the Andaman region\, reinterpreted through the lens of two distinct but deeply complementary culinary philosophies. \nDay 2\nSunday\, 26 April 2026\nTHB 4\,900 per person | 5-Course Dinner\nThe festival’s closing evening brings a fresh perspective to the same extraordinary collaboration.\nChef Tipaporn of Saffron joins Chef Chumpol from R-Haan for a second five-course dinner\, a new menu\, a new voice from Saffron’s kitchen\, and the same commitment to the rich flavors and heritage ingredients of the Andaman coast.
URL:https://phuketcommunity.com/event/tatler-best-of-andaman-2026-x-banyan-tree-phuket/
LOCATION:Banyan Tree Phuket
CATEGORIES:Dining
ATTACH;FMTTYPE=image/png:https://phuketcommunity.com/wp-content/uploads/2026/04/andaman.webp
END:VEVENT
BEGIN:VEVENT
DTSTART;TZID=Asia/Bangkok:20260425T180000
DTEND;TZID=Asia/Bangkok:20260426T220000
DTSTAMP:20260424T040400
CREATED:20260422T145231Z
LAST-MODIFIED:20260422T145231Z
UID:8423-1777140000-1777240800@phuketcommunity.com
SUMMARY:Saffron x R-Haan Collaboration Dinner
DESCRIPTION:Saffron at Banyan Tree Phuket is proud to welcome R-Haan for an exclusive chef collaboration dinner as part of the Tatler Best of Andaman 2026. Together\, our culinary teams bring two distinct expressions of Thai cuisine into a single\, carefully crafted tasting experience. One rooted in the flavours of the Andaman coast\, the other in the refined traditions of Bangkok’s most acclaimed kitchen. \nThis is a rare evening where heritage\, technique\, and seasonal ingredients come together in perfect harmony. \nSaturday 25 April: Chef Worapong (Saffron) x Chef Chumpol (R-Haan)\nSunday 26 April: Chef Tipaporn (Saffron) x Chef Chumpol (R-Haan) \n5-Course Dinner: THB 4\,900 per person\n5-Course Dinner with wine pairing: THB 6\,900 per person
URL:https://phuketcommunity.com/event/saffron-x-r-haan-collaboration-dinner/
LOCATION:Banyan Tree Phuket\, Bang Tao
CATEGORIES:Dining,Music & Nightlife
ATTACH;FMTTYPE=image/png:https://phuketcommunity.com/wp-content/uploads/2026/04/safron.webp
END:VEVENT
BEGIN:VEVENT
DTSTART;TZID=Asia/Bangkok:20260425T183000
DTEND;TZID=Asia/Bangkok:20260425T213000
DTSTAMP:20260424T040400
CREATED:20260422T143607Z
LAST-MODIFIED:20260422T143607Z
UID:8404-1777141800-1777152600@phuketcommunity.com
SUMMARY:Open Movies Night at Open Kitchen
DESCRIPTION:Gather your loved ones for an unforgettable evening at Open Movies Night right in the heart of our serene courtyard. \nEvery Tuesday and Saturday \nKids Movies: begin at 18:30 hrs. \nBox Office Hits: begin at 20:00 hrs. \nAdmission: Free and open to all\, simply walk in and enjoy.
URL:https://phuketcommunity.com/event/open-movies-night-at-open-kitchen-2/
LOCATION:Open Kitchen\, Cherng Talay
CATEGORIES:Dining,Family
ATTACH;FMTTYPE=image/png:https://phuketcommunity.com/wp-content/uploads/2026/04/open-movies.webp
END:VEVENT
BEGIN:VEVENT
DTSTART;TZID=Asia/Bangkok:20260425T183000
DTEND;TZID=Asia/Bangkok:20260425T220000
DTSTAMP:20260424T040400
CREATED:20260422T142200Z
LAST-MODIFIED:20260422T142200Z
UID:8392-1777141800-1777154400@phuketcommunity.com
SUMMARY:BBQ Beatdown 185 at Tiger Muay Thai
DESCRIPTION:Come celebrate the Thai summer with a night of fights\, food and fun at BBQ Beatdown 185 this Saturday April 25th! \nOur BBQ Beatdown events are a must-do here in Phuket\, featuring:\n– Pro & amateur fights under Muay Thai\, MMA and boxing rules\n– Delicious buffet of local food\n– 2 free beers\n– Fully stocked bar\n– Live music\n– Lucky draw with mystery prizes \nDoors open at 6:30pm on Saturday April 25th\, and tickets are available here at camp now for the advanced booking price of just 1\,200 baht. \nDon’t miss it!
URL:https://phuketcommunity.com/event/bbq-beatdown-185-at-tiger-muay-thai/
LOCATION:Tiger Muay Thai & MMA Training Camp
CATEGORIES:Dining,Music & Nightlife
ATTACH;FMTTYPE=image/png:https://phuketcommunity.com/wp-content/uploads/2026/04/bbq-tiger.webp
END:VEVENT
BEGIN:VEVENT
DTSTART;TZID=Asia/Bangkok:20260425T183000
DTEND;TZID=Asia/Bangkok:20260425T220000
DTSTAMP:20260424T040400
CREATED:20260422T144035Z
LAST-MODIFIED:20260422T144035Z
UID:8410-1777141800-1777154400@phuketcommunity.com
SUMMARY:Saturday Signature Free-flow Mookata Barbecue at Cassia Phuket
DESCRIPTION:Stop reading travel guides and do what the locals do. Mookata\, one of Thailand’s most famous dishes\, is sure to bring a smile to your face. \nUsing a combination of hotpot and BBQ pan\, you may prepare your own meals with a wide range of ingredients; freshly marinated meats\, seafood\, vegetables and added on side dishes and snacks would enhance your meal taste. \nEvery Saturday \nfrom 18.30 – 22.00 hrs.\nAt Vista restaurant\, Cassia Phuket \nPrice at THB399 net per person\nKid at THB199 net per kid \nSpecial!  \nFree-flow Chang brew and Thai drink with\nmixer available for only at THB399 net per person.
URL:https://phuketcommunity.com/event/saturday-signature-free-flow-mookata-barbecue-at-cassia-phuket-2/
LOCATION:Vista restaurant\, Cassia Phuket
CATEGORIES:Dining,Family
ATTACH;FMTTYPE=image/png:https://phuketcommunity.com/wp-content/uploads/2026/04/mokata.webp
END:VEVENT
BEGIN:VEVENT
DTSTART;TZID=Asia/Bangkok:20260425T190000
DTEND;TZID=Asia/Bangkok:20260425T220000
DTSTAMP:20260424T040400
CREATED:20260416T030637Z
LAST-MODIFIED:20260416T030637Z
UID:8273-1777143600-1777154400@phuketcommunity.com
SUMMARY:Catena Wine Dinner at Benny's Cocktails & Grill
DESCRIPTION:An exceptional evening of fine wine and gastronomy at Benny’s Cocktails & Grill \nJoin us on April 25th for a special Wine Dinner at Benny’s\, in collaboration with Catena Zapata. \nWe’ll begin the evening with fresh tiraditos on arrival\, paired with Catena Chardonnay — setting the tone for what’s to come. From there\, the menu unfolds through the flavors and spirit of Argentina. \nDishes that feel rooted and expressive\, each one thoughtfully paired with wines that truly reflect the land they come from. \nTake a moment to explore the menu created for this evening\, and join us at the table. \nLocation: Benny’s Cocktails & Grill\nDate: Saturday\, April 25\nTime: 7:00PM \nThis is where wine\, food\, and story come together around the table. \nPrice: THB 4\,300 per person (+7% VAT)\nMinimum age: 21 years old \nAdvance booking required. Deposits are non-refundable and non-transferable.
URL:https://phuketcommunity.com/event/catena-wine-dinner-at-bennys-cocktails-grill/
LOCATION:Benny’s Cocktails & Grill
CATEGORIES:Dining
ATTACH;FMTTYPE=image/png:https://phuketcommunity.com/wp-content/uploads/2026/04/catena.webp
END:VEVENT
BEGIN:VEVENT
DTSTART;TZID=Asia/Bangkok:20260426T173000
DTEND;TZID=Asia/Bangkok:20260426T220000
DTSTAMP:20260424T040400
CREATED:20260422T141114Z
LAST-MODIFIED:20260422T141114Z
UID:8382-1777224600-1777240800@phuketcommunity.com
SUMMARY:The Amatara’s Longevity Table
DESCRIPTION:Beginning at golden hour and flowing into an intimate dining experience\, The Amatara’s Longevity Table by Chef MIT is a 7-course journey inspired by Welleisure™ where wellness and indulgence meet by the sea. \nCrafted by Iron Chef Thailand 2022\, each dish reflects the essence of contemporary Southern Thai cuisine through a lens of balance\, vitality\, and elevated taste. \n26 April 2026 | 17:30 – 22:00 hrs.\nTHB 8\,800 net per person\nTHB 12\,800 net per person with curated wine pairing\n20% Early Bird privileges available until 24 April\nLimited to only 20 guests \nReserve your seat for an unforgettable evening of mindful indulgence.\nTel: 076-318-888\nEmail: reservations.phuket@amatara.com\nLine: @amatararesort
URL:https://phuketcommunity.com/event/the-amataras-longevity-table/
LOCATION:Amatara Welleisure Resort
CATEGORIES:Community & Meetings,Dining
ATTACH;FMTTYPE=image/png:https://phuketcommunity.com/wp-content/uploads/2026/04/amatara.webp
END:VEVENT
END:VCALENDAR