BEGIN:VCALENDAR
VERSION:2.0
PRODID:-//Phuket Community - ECPv6.15.20//NONSGML v1.0//EN
CALSCALE:GREGORIAN
METHOD:PUBLISH
X-ORIGINAL-URL:https://phuketcommunity.com
X-WR-CALDESC:Events for Phuket Community
REFRESH-INTERVAL;VALUE=DURATION:PT1H
X-Robots-Tag:noindex
X-PUBLISHED-TTL:PT1H
BEGIN:VTIMEZONE
TZID:Asia/Bangkok
BEGIN:STANDARD
TZOFFSETFROM:+0700
TZOFFSETTO:+0700
TZNAME:+07
DTSTART:20240101T000000
END:STANDARD
END:VTIMEZONE
BEGIN:VEVENT
DTSTART;TZID=Asia/Bangkok:20251030T080000
DTEND;TZID=Asia/Bangkok:20251030T170000
DTSTAMP:20260425T024300
CREATED:20251009T092724Z
LAST-MODIFIED:20251009T092724Z
UID:3432-1761811200-1761843600@phuketcommunity.com
SUMMARY:𝐆𝐈𝐍 & 𝐁𝐄𝐀𝐓𝐒 at Groov Gastrobar
DESCRIPTION:Pours crafted to perfection and beats that will keep you grooving all night \n𝐄𝐕𝐄𝐑𝐘 𝐓𝐇𝐔𝐑𝐒𝐃𝐀𝐘 🍸 𝐆𝐈𝐍 & 𝐁𝐄𝐀𝐓𝐒 \nSip on Hendricks gin-inspired pours\, enjoy your favourite dinner bites and stay for tunes by our resident DJs! \n𝐃𝐢𝐧𝐧𝐞𝐫\, 𝐌𝐢𝐱𝐨𝐥𝐨𝐠𝐲\, 𝐋𝐢𝐯𝐞 𝐃𝐉\n𝐎𝐩𝐞𝐧 𝐝𝐚𝐢𝐥𝐲 𝟔𝐩𝐦 – 𝟏𝐚𝐦 [𝐋𝐚𝐬𝐭 𝐨𝐫𝐝𝐞𝐫 𝐚𝐭 𝟏𝟐𝐚𝐦] \nGoogle Maps
URL:https://phuketcommunity.com/event/%f0%9d%90%86%f0%9d%90%88%f0%9d%90%8d-%f0%9d%90%81%f0%9d%90%84%f0%9d%90%80%f0%9d%90%93%f0%9d%90%92-at-groov-gastrobar-3/
CATEGORIES:Music & Nightlife
ATTACH;FMTTYPE=image/png:https://phuketcommunity.com/wp-content/uploads/2025/10/image_2025-10-09_162207393.webp
END:VEVENT
BEGIN:VEVENT
DTSTART;TZID=Asia/Bangkok:20251030T200000
DTEND;TZID=Asia/Bangkok:20251030T233000
DTSTAMP:20260425T024300
CREATED:20251028T081723Z
LAST-MODIFIED:20251028T081723Z
UID:3968-1761854400-1761867000@phuketcommunity.com
SUMMARY:Open Deck at Good Vibes P-town @ Eden’s
DESCRIPTION:We have something exciting for music lovers… Every Thursday\, we are opening our DJ Booth to anyone who wants to share their stuff. All are welcome\, DJ’s old and new. We are excited to see your talent and expand the music community in Phuket\, and help DJ’s to build connections. DM us to book your slot. ✌🏼
URL:https://phuketcommunity.com/event/open-deck-at-good-vibes-p-town-edens/
LOCATION:Good Vibes P-town @ Eden’s\, https://maps.app.goo.gl/5LRjm4n8rLX2ArgG9
CATEGORIES:Music & Nightlife
ATTACH;FMTTYPE=image/png:https://phuketcommunity.com/wp-content/uploads/2025/10/image_2025-10-28_151516844.webp
END:VEVENT
END:VCALENDAR