BEGIN:VCALENDAR
VERSION:2.0
PRODID:-//Phuket Community - ECPv6.15.20//NONSGML v1.0//EN
CALSCALE:GREGORIAN
METHOD:PUBLISH
X-ORIGINAL-URL:https://phuketcommunity.com
X-WR-CALDESC:Events for Phuket Community
REFRESH-INTERVAL;VALUE=DURATION:PT1H
X-Robots-Tag:noindex
X-PUBLISHED-TTL:PT1H
BEGIN:VTIMEZONE
TZID:Asia/Bangkok
BEGIN:STANDARD
TZOFFSETFROM:+0700
TZOFFSETTO:+0700
TZNAME:+07
DTSTART:20250101T000000
END:STANDARD
END:VTIMEZONE
BEGIN:VEVENT
DTSTART;TZID=Asia/Bangkok:20260418T200000
DTEND;TZID=Asia/Bangkok:20260419T020000
DTSTAMP:20260419T203440
CREATED:20260408T185756Z
LAST-MODIFIED:20260408T185756Z
UID:8166-1776542400-1776564000@phuketcommunity.com
SUMMARY:ERAN HERSH
DESCRIPTION:Elevate your sunset experience as international standout Eran Hersh brings his signature house grooves to the sands of Phuket’s ultimate beach club. \nLine-up:\nERAN HERSH \nSaturday\, 18 April 2026\nMaya Beach Club\, Phuket\n7pm-late \nDefined by the rhythm.
URL:https://phuketcommunity.com/event/eran-hersh/
LOCATION:Maya Beach Club Phuket\, Maya Beach Club Phuket 323/26 Moo 2\, Phuket\, Cherngtalay\, 83110\, Thailand
CATEGORIES:Music & Nightlife
ATTACH;FMTTYPE=image/webp:https://phuketcommunity.com/wp-content/uploads/2026/04/eran.webp
END:VEVENT
BEGIN:VEVENT
DTSTART;TZID=Asia/Bangkok:20260418T200000
DTEND;TZID=Asia/Bangkok:20260419T040000
DTSTAMP:20260419T203440
CREATED:20260408T182550Z
LAST-MODIFIED:20260408T182550Z
UID:8115-1776542400-1776571200@phuketcommunity.com
SUMMARY:Arvin Ong at Armania Phuket
DESCRIPTION:Get ready to raise the energy this April with PHL’s sought-after DJ\, ARVIN ONG!
URL:https://phuketcommunity.com/event/arvin-ong-at-armania-phuket/
LOCATION:Armania Phuket
CATEGORIES:Music & Nightlife
ATTACH;FMTTYPE=image/png:https://phuketcommunity.com/wp-content/uploads/2026/04/arvin-ong.webp
END:VEVENT
BEGIN:VEVENT
DTSTART;TZID=Asia/Bangkok:20260419T120000
DTEND;TZID=Asia/Bangkok:20260419T200000
DTSTAMP:20260419T203440
CREATED:20260408T190036Z
LAST-MODIFIED:20260408T190036Z
UID:8171-1776600000-1776628800@phuketcommunity.com
SUMMARY:THE SUNDAY POOL – FIRA Phuket
DESCRIPTION:A vibrant hilltop pool party with sunset views\, music\, and effortless daytime energy. \nLine-up:\nDJ sets\, Live performances \nEvery Sunday\nFIRA\, Phuket\n12:00–sunset \nSundays done right above it all.
URL:https://phuketcommunity.com/event/the-sunday-pool-fira-phuket-4/
LOCATION:FIRA Beach Club Phuket
CATEGORIES:Music & Nightlife,Sports
ATTACH;FMTTYPE=image/webp:https://phuketcommunity.com/wp-content/uploads/2026/04/fira.webp
END:VEVENT
BEGIN:VEVENT
DTSTART;TZID=Asia/Bangkok:20260419T140000
DTEND;TZID=Asia/Bangkok:20260419T220000
DTSTAMP:20260419T203440
CREATED:20260416T025715Z
LAST-MODIFIED:20260416T025715Z
UID:8262-1776607200-1776636000@phuketcommunity.com
SUMMARY:Tripolism at Yona Beach Club
DESCRIPTION:Copenhagen trio TRIPOLISM are set to make their debut at YONA\, bringing their signature blend of melodic house\, indie dance\, and euphoric techno to the floating paradise. Fresh off major stages like Tomorrowland and Coachella\, expect the kind of late-night energy that turns a seaside dance floor into an unforgettable place. \nYONA Beach Club (Royal Phuket Marina)\nSunday\, April 19\, 2026\nTime: 2 PM – 10:00 PM
URL:https://phuketcommunity.com/event/tripolism-at-yona-beach-club/
LOCATION:YONA Beach Club – Patong Boat Pier
CATEGORIES:Music & Nightlife
ATTACH;FMTTYPE=image/png:https://phuketcommunity.com/wp-content/uploads/2026/04/tripolism-1.webp
END:VEVENT
BEGIN:VEVENT
DTSTART;TZID=Asia/Bangkok:20260419T160000
DTEND;TZID=Asia/Bangkok:20260419T220000
DTSTAMP:20260419T203440
CREATED:20260416T071329Z
LAST-MODIFIED:20260416T071329Z
UID:8334-1776614400-1776636000@phuketcommunity.com
SUMMARY:Sunday Walking Street (Lard Yai)
DESCRIPTION:The Old Phuket Town Walking Street or locally known as Lard Yai or Talaad Yai which means big market\, takes place every Sunday along beautiful historical Thalang road in downtown Phuket. This road is normally closed to traffic every Sunday and turned to a busy walking street starting from 4pm onwards. With the charming Sino-Portuguese buildings along the both sides of the street\, this night market gives its visitors an atmosphere dating back to the old era of this town. A number of shops and stalls selling a wide variety of items including souvenirs\, clothes\, food are available along this short but attractive walking street. Those loving entertainment can enjoy live music and street shows.
URL:https://phuketcommunity.com/event/sunday-walking-street-lard-yai/
LOCATION:Thalang Rd\, Old Phuket Town
CATEGORIES:Music & Nightlife,Shopping & Markets
ATTACH;FMTTYPE=image/png:https://phuketcommunity.com/wp-content/uploads/2026/04/walking-street.webp
END:VEVENT
BEGIN:VEVENT
DTSTART;TZID=Asia/Bangkok:20260419T190000
DTEND;TZID=Asia/Bangkok:20260420T020000
DTSTAMP:20260419T203440
CREATED:20260408T190357Z
LAST-MODIFIED:20260408T190357Z
UID:8176-1776625200-1776650400@phuketcommunity.com
SUMMARY:DESTINO | MAYA BEACH CLUB
DESCRIPTION:Maya Beach Club Phuket presents Destino\, a weekly Sunday gathering starting at 7PM featuring cosmic and astrological visual themes. The recurring series offers a consistent Sunday evening option at the beachfront venue\, with programming details to be announced closer to each event. The eye and zodiac imagery suggests a mystical or spiritual approach to the weekly celebration. \nEvery Sunday\nMaya Beach Club\, Phuket\n7PM \nWeekly Sunday tradition begins at Maya with cosmic intentions.​​​​​​​​​​​​​​​​
URL:https://phuketcommunity.com/event/destino-maya-beach-club-3/
LOCATION:Maya Beach Club Phuket\, Maya Beach Club Phuket 323/26 Moo 2\, Phuket\, Cherngtalay\, 83110\, Thailand
CATEGORIES:Music & Nightlife
ATTACH;FMTTYPE=image/webp:https://phuketcommunity.com/wp-content/uploads/2026/04/destino-1.webp
END:VEVENT
BEGIN:VEVENT
DTSTART;TZID=Asia/Bangkok:20260419T220000
DTEND;TZID=Asia/Bangkok:20260420T040000
DTSTAMP:20260419T203440
CREATED:20260408T183657Z
LAST-MODIFIED:20260408T183657Z
UID:8135-1776636000-1776657600@phuketcommunity.com
SUMMARY:Neil Saliente
DESCRIPTION:Right after Songkran\, Neil Saliente brings the summer vibes to Armania Phuket. See you on 19 April!
URL:https://phuketcommunity.com/event/neil-saliente/
LOCATION:Armania Phuket
CATEGORIES:Music & Nightlife
ATTACH;FMTTYPE=image/png:https://phuketcommunity.com/wp-content/uploads/2026/04/neil-saliente.webp
END:VEVENT
END:VCALENDAR