BEGIN:VCALENDAR
VERSION:2.0
PRODID:-//Phuket Community - ECPv6.15.20//NONSGML v1.0//EN
CALSCALE:GREGORIAN
METHOD:PUBLISH
X-WR-CALNAME:Phuket Community
X-ORIGINAL-URL:https://phuketcommunity.com
X-WR-CALDESC:Events for Phuket Community
REFRESH-INTERVAL;VALUE=DURATION:PT1H
X-Robots-Tag:noindex
X-PUBLISHED-TTL:PT1H
BEGIN:VTIMEZONE
TZID:Asia/Bangkok
BEGIN:STANDARD
TZOFFSETFROM:+0700
TZOFFSETTO:+0700
TZNAME:+07
DTSTART:20240101T000000
END:STANDARD
END:VTIMEZONE
BEGIN:VEVENT
DTSTART;TZID=Asia/Bangkok:20251111T180000
DTEND;TZID=Asia/Bangkok:20251111T200000
DTSTAMP:20260423T091904
CREATED:20251107T095515Z
LAST-MODIFIED:20251107T095515Z
UID:4676-1762884000-1762891200@phuketcommunity.com
SUMMARY:𝐃𝐮𝐬𝐢𝐭 𝐋𝐨𝐜𝐚𝐥 𝐅𝐞𝐚𝐬𝐭 night market
DESCRIPTION:✨𝐄𝐱𝐩𝐞𝐫𝐢𝐞𝐧𝐜𝐞 𝐭𝐡𝐞 𝐜𝐡𝐚𝐫𝐦 𝐨𝐟 𝐏𝐡𝐮𝐤𝐞𝐭’𝐬 𝐥𝐨𝐜𝐚𝐥 𝐜𝐮𝐥𝐭𝐮𝐫𝐞 𝐚𝐭 𝐃𝐮𝐬𝐢𝐭 𝐋𝐨𝐜𝐚𝐥 𝐅𝐞𝐚𝐬𝐭! \nBrowse through the lively night market featuring local crafts\, handmade treasures\, and unique finds\, then savour a delicious BBQ Night Buffet prepared by our talented chefs. \nBring your friends and family for an evening filled with flavours\, fun\, and local flair. \n📅 13 & 27 November | 4 & 11 December 2025\n🕕 18:00 – 22:00 | Dusit Laguna Hall Foyer\n🎟️ Free entry for Local Feast \n👉 𝐁𝐁𝐐 𝐁𝐮𝐟𝐟𝐞𝐭 𝐍𝐢𝐠𝐡𝐭 | 18:00 – 21:30 | Laguna Café\n💸 THB 1\,790++ per person | Half price for children aged 4–12\n🔗 Reserve your table today: Link in bio \nJoin us for a delightful night market and BBQ feast under the stars! \n#DusitThaniLagunaPhuket #DusitLocalFeast #PhuketEvents #NightMarketPhuket #BBQNight #PhuketDining #LocalExperience #DusitMoments
URL:https://phuketcommunity.com/event/%f0%9d%90%83%f0%9d%90%ae%f0%9d%90%ac%f0%9d%90%a2%f0%9d%90%ad-%f0%9d%90%8b%f0%9d%90%a8%f0%9d%90%9c%f0%9d%90%9a%f0%9d%90%a5-%f0%9d%90%85%f0%9d%90%9e%f0%9d%90%9a%f0%9d%90%ac%f0%9d%90%ad-night-market/
LOCATION:Dusit Thani Laguna\, Laguna Phuket\, Cherngtalay\, Thaland 83110 Thailand
CATEGORIES:Shopping & Markets
ATTACH;FMTTYPE=image/jpeg:https://phuketcommunity.com/wp-content/uploads/2025/11/✨𝐄𝐱𝐩𝐞𝐫𝐢𝐞𝐧𝐜𝐞-𝐭𝐡𝐞-𝐜𝐡𝐚𝐫𝐦-𝐨𝐟-𝐏𝐡𝐮𝐤𝐞𝐭𝐬-𝐥𝐨𝐜𝐚𝐥-𝐜𝐮𝐥𝐭𝐮𝐫𝐞-𝐚𝐭-𝐃𝐮.webp
END:VEVENT
BEGIN:VEVENT
DTSTART;TZID=Asia/Bangkok:20251116T120000
DTEND;TZID=Asia/Bangkok:20251116T180000
DTSTAMP:20260423T091904
CREATED:20251112T132239Z
LAST-MODIFIED:20251112T132239Z
UID:4975-1763294400-1763316000@phuketcommunity.com
SUMMARY:November Farmers Market at Taste
DESCRIPTION:Next Farmers Market at Taste November 15th 2025 12-6pm Pls contact me for Vendor spots.
URL:https://phuketcommunity.com/event/november-farmers-market-at-taste/
LOCATION:Taste Bar & Grill\, 3/2 moo 5 Srisoonthorn Road\, Cherntalay\, Thalang\, Phuket 83110 Thailand
CATEGORIES:Shopping & Markets
ATTACH;FMTTYPE=image/png:https://phuketcommunity.com/wp-content/uploads/2025/11/image_2025-11-12_202031160.webp
END:VEVENT
BEGIN:VEVENT
DTSTART;TZID=Asia/Bangkok:20251122T130000
DTEND;TZID=Asia/Bangkok:20251122T170000
DTSTAMP:20260423T091904
CREATED:20251119T075339Z
LAST-MODIFIED:20251119T075339Z
UID:5115-1763816400-1763830800@phuketcommunity.com
SUMMARY:Sunny Cafe Grand Opening
DESCRIPTION:We invite you to the Grand Opening of our Sunny Cafe ☀️ \nIt will take place on November 22\, 2025\, from 1:00 PM to 5:00 PM. \nTo celebrate the opening\, we’re offering a 15% discount on the entire menu. \nWe offer delicious coffee\, Japanese ceremonial matcha\, and irresistible desserts 🧁 \nWe look forward to seeing you at Sunny Cafe ☀️
URL:https://phuketcommunity.com/event/sunny-cafe-grand-opening/
LOCATION:Sunny Cafe
CATEGORIES:Shopping & Markets
ATTACH;FMTTYPE=image/png:https://phuketcommunity.com/wp-content/uploads/2025/11/image_2025-11-19_145059481.webp
END:VEVENT
BEGIN:VEVENT
DTSTART;TZID=Asia/Bangkok:20251122T163000
DTEND;TZID=Asia/Bangkok:20251122T210000
DTSTAMP:20260423T091904
CREATED:20251120T104806Z
LAST-MODIFIED:20251120T105344Z
UID:5235-1763829000-1763845200@phuketcommunity.com
SUMMARY:Saturday Market at Bangtao Beach
DESCRIPTION:🌴 Saturday Market at Bangtao Beach\, Cherngtalay\nJoin us every Saturday from 4:30 PM – 9:00 PM at The Beach Phuket\, located inside Arinara Beach Resort Phuket. Explore over 30 vendors where you can shop\, taste\, and enjoy live performances by the beach. \n✨ Market Highlights\nDiscover the charm of local products from the Bangtao community\, including:\n• Apoong – Phuket’s traditional crispy aromatic snack\n• Traditional Bangtao desserts – authentic local flavors\n• Fresh cold-pressed fruit juices – chemical-free and made by local farmers\n• Hand-carved soap – beautifully crafted handmade pieces\n• Handwoven bags – unique designs you’ll love\n• Live Like a Local – eco-friendly lifestyle products made with materials safe for marine animals. \n🎉 Fun Activities for Everyone\n• Ball house for kids\n• Dart balloon game – test your accuracy and win prizes\n• Shooting game for stuffed animals\n• Get your portrait drawn as a cute doll-style illustration\n• Thai musical performance by local youth\n• Goat feeding from a local community farm\n• Henna painting in Indian style\n• Plaster painting activity for kids \n🔥 Special Shows\nEnjoy exciting performances by Bozo and a spectacular Fire Show right on Bangtao Beach. \nSaturday Market is not just a market — it’s a community space that supports local careers\, farmers\, and the new generation filled with passion and dreams. \n“This weekend\, bring your kids and family for a fun\, relaxing\, and memorable evening!”\n_____________________________\nFor more information\nTel: 076314361 \n#arinarabeachresortphuket #thebeachphuket\n#BangTaoBeach #BeachfrontDining #phuketmarket #PhuketRestaurants #VacationVibes
URL:https://phuketcommunity.com/event/saturday-market-at-bangtao-beach/
LOCATION:The Beach Phuket
CATEGORIES:Community & Meetings,Festivals,Shopping & Markets
ATTACH;FMTTYPE=image/jpeg:https://phuketcommunity.com/wp-content/uploads/2025/11/🌴-Saturday-Market-at-Bangtao-Beach-CherngtalayJoin-us-every-Saturday-from-4-30-PM-–-9-00-PM-at.webp
END:VEVENT
BEGIN:VEVENT
DTSTART;TZID=Asia/Bangkok:20251127T180000
DTEND;TZID=Asia/Bangkok:20251127T200000
DTSTAMP:20260423T091904
CREATED:20251127T085526Z
LAST-MODIFIED:20251127T085526Z
UID:5326-1764266400-1764273600@phuketcommunity.com
SUMMARY:𝐃𝐮𝐬𝐢𝐭 𝐋𝐨𝐜𝐚𝐥 𝐅𝐞𝐚𝐬𝐭 night market
DESCRIPTION:✨𝐄𝐱𝐩𝐞𝐫𝐢𝐞𝐧𝐜𝐞 𝐭𝐡𝐞 𝐜𝐡𝐚𝐫𝐦 𝐨𝐟 𝐏𝐡𝐮𝐤𝐞𝐭’𝐬 𝐥𝐨𝐜𝐚𝐥 𝐜𝐮𝐥𝐭𝐮𝐫𝐞 𝐚𝐭 𝐃𝐮𝐬𝐢𝐭 𝐋𝐨𝐜𝐚𝐥 𝐅𝐞𝐚𝐬𝐭! \nBrowse through the lively night market featuring local crafts\, handmade treasures\, and unique finds\, then savour a delicious BBQ Night Buffet prepared by our talented chefs. \nBring your friends and family for an evening filled with flavours\, fun\, and local flair. \n📅 13 & 27 November | 4 & 11 December 2025\n🕕 18:00 – 22:00 | Dusit Laguna Hall Foyer\n🎟️ Free entry for Local Feast \n👉 𝐁𝐁𝐐 𝐁𝐮𝐟𝐟𝐞𝐭 𝐍𝐢𝐠𝐡𝐭 | 18:00 – 21:30 | Laguna Café\n💸 THB 1\,790++ per person | Half price for children aged 4–12\n🔗 Reserve your table today: Link in bio \nJoin us for a delightful night market and BBQ feast under the stars! \n#DusitThaniLagunaPhuket #DusitLocalFeast #PhuketEvents #NightMarketPhuket #BBQNight #PhuketDining #LocalExperience #DusitMoments
URL:https://phuketcommunity.com/event/%f0%9d%90%83%f0%9d%90%ae%f0%9d%90%ac%f0%9d%90%a2%f0%9d%90%ad-%f0%9d%90%8b%f0%9d%90%a8%f0%9d%90%9c%f0%9d%90%9a%f0%9d%90%a5-%f0%9d%90%85%f0%9d%90%9e%f0%9d%90%9a%f0%9d%90%ac%f0%9d%90%ad-night-market-2/
LOCATION:Dusit Thani Laguna\, Laguna Phuket\, Cherngtalay\, Thaland 83110 Thailand
CATEGORIES:Shopping & Markets
ATTACH;FMTTYPE=image/jpeg:https://phuketcommunity.com/wp-content/uploads/2025/11/✨𝐄𝐱𝐩𝐞𝐫𝐢𝐞𝐧𝐜𝐞-𝐭𝐡𝐞-𝐜𝐡𝐚𝐫𝐦-𝐨𝐟-𝐏𝐡𝐮𝐤𝐞𝐭𝐬-𝐥𝐨𝐜𝐚𝐥-𝐜𝐮𝐥𝐭𝐮𝐫𝐞-𝐚𝐭-𝐃𝐮.webp
END:VEVENT
BEGIN:VEVENT
DTSTART;TZID=Asia/Bangkok:20251129T163000
DTEND;TZID=Asia/Bangkok:20251129T210000
DTSTAMP:20260423T091904
CREATED:20251120T105133Z
LAST-MODIFIED:20251120T105133Z
UID:5240-1764433800-1764450000@phuketcommunity.com
SUMMARY:Saturday Market at Bangtao Beach
DESCRIPTION:🌴 Saturday Market at Bangtao Beach\, Cherngtalay\nJoin us every Saturday from 4:30 PM – 9:00 PM at The Beach Phuket\, located inside Arinara Beach Resort Phuket. Explore over 30 vendors where you can shop\, taste\, and enjoy live performances by the beach. \n✨ Market Highlights\nDiscover the charm of local products from the Bangtao community\, including:\n• Apoong – Phuket’s traditional crispy aromatic snack\n• Traditional Bangtao desserts – authentic local flavors\n• Fresh cold-pressed fruit juices – chemical-free and made by local farmers\n• Hand-carved soap – beautifully crafted handmade pieces\n• Handwoven bags – unique designs you’ll love\n• Live Like a Local – eco-friendly lifestyle products made with materials safe for marine animals. \n🎉 Fun Activities for Everyone\n• Ball house for kids\n• Dart balloon game – test your accuracy and win prizes\n• Shooting game for stuffed animals\n• Get your portrait drawn as a cute doll-style illustration\n• Thai musical performance by local youth\n• Goat feeding from a local community farm\n• Henna painting in Indian style\n• Plaster painting activity for kids \n🔥 Special Shows\nEnjoy exciting performances by Bozo and a spectacular Fire Show right on Bangtao Beach. \nSaturday Market is not just a market — it’s a community space that supports local careers\, farmers\, and the new generation filled with passion and dreams. \n“This weekend\, bring your kids and family for a fun\, relaxing\, and memorable evening!”\n_____________________________\nFor more information\nTel: 076314361 \n#arinarabeachresortphuket #thebeachphuket\n#BangTaoBeach #BeachfrontDining #phuketmarket #PhuketRestaurants #VacationVibes
URL:https://phuketcommunity.com/event/saturday-market-at-bangtao-beach-2/
LOCATION:The Beach Phuket
CATEGORIES:Community & Meetings,Festivals,Shopping & Markets
ATTACH;FMTTYPE=image/jpeg:https://phuketcommunity.com/wp-content/uploads/2025/11/🌴-Saturday-Market-at-Bangtao-Beach-CherngtalayJoin-us-every-Saturday-from-4-30-PM-–-9-00-PM-at.webp
END:VEVENT
END:VCALENDAR