BEGIN:VCALENDAR
VERSION:2.0
PRODID:-//Phuket Community - ECPv6.15.20//NONSGML v1.0//EN
CALSCALE:GREGORIAN
METHOD:PUBLISH
X-ORIGINAL-URL:https://phuketcommunity.com
X-WR-CALDESC:Events for Phuket Community
REFRESH-INTERVAL;VALUE=DURATION:PT1H
X-Robots-Tag:noindex
X-PUBLISHED-TTL:PT1H
BEGIN:VTIMEZONE
TZID:Asia/Bangkok
BEGIN:STANDARD
TZOFFSETFROM:+0700
TZOFFSETTO:+0700
TZNAME:+07
DTSTART:20240101T000000
END:STANDARD
END:VTIMEZONE
BEGIN:VEVENT
DTSTART;TZID=Asia/Bangkok:20251220T140000
DTEND;TZID=Asia/Bangkok:20251220T180000
DTSTAMP:20260423T092204
CREATED:20251217T041821Z
LAST-MODIFIED:20251217T041821Z
UID:5972-1766239200-1766253600@phuketcommunity.com
SUMMARY:Christmas Market at HOMA
DESCRIPTION:Christmas Market at HOMA — ’Tis the Season! \n\n\nGet ready for festive cheer\, cosy vibes\, and holiday magic- our much-loved HOMA Christmas Market is back this December!\nJoin us on 20 December at HOMA Chergntalay as we transform HOMA into a festive wonderland filled with:\n Local vendors and handcrafted gifts\n Delicious festive treats\n Holiday music and warm community vibes\n Seasonal activities for kids\n A chance to support small businesses and connect with your HOMA neighbours\n\n\nMark your calendar\, bring your holiday cheer\, and come celebrate the season with us!\nSee you at the HOMA Christmas Market!
URL:https://phuketcommunity.com/event/christmas-market-at-homa/
LOCATION:HOMA Cherngtalay Phuket\, https://maps.app.goo.gl/MPfuwjcNpGk93GAd7
CATEGORIES:Community & Meetings,Shopping & Markets
ATTACH;FMTTYPE=image/png:https://phuketcommunity.com/wp-content/uploads/2025/12/image_2025-12-17_111533726.webp
END:VEVENT
END:VCALENDAR