BEGIN:VCALENDAR
VERSION:2.0
PRODID:-//Phuket Community - ECPv6.15.20//NONSGML v1.0//EN
CALSCALE:GREGORIAN
METHOD:PUBLISH
X-ORIGINAL-URL:https://phuketcommunity.com
X-WR-CALDESC:Events for Phuket Community
REFRESH-INTERVAL;VALUE=DURATION:PT1H
X-Robots-Tag:noindex
X-PUBLISHED-TTL:PT1H
BEGIN:VTIMEZONE
TZID:Asia/Bangkok
BEGIN:STANDARD
TZOFFSETFROM:+0700
TZOFFSETTO:+0700
TZNAME:+07
DTSTART:20250101T000000
END:STANDARD
END:VTIMEZONE
BEGIN:VEVENT
DTSTART;TZID=Asia/Bangkok:20260418T160000
DTEND;TZID=Asia/Bangkok:20260419T220000
DTSTAMP:20260423T035553
CREATED:20260416T064055Z
LAST-MODIFIED:20260416T064055Z
UID:8317-1776528000-1776636000@phuketcommunity.com
SUMMARY:Naka Weekend Market
DESCRIPTION:  \nLocation: Phuket Town\nAddress: Thalang Rd\, Tambon Talat Yai\, Phuket Town 83000\nOpen: 4 pm – 10 pm\, Saturday and Sunday\nPhone: 086 943 1140\nAdmission: Free
URL:https://phuketcommunity.com/event/naka-weekend-market/
LOCATION:Phuket Town
CATEGORIES:Shopping & Markets
ATTACH;FMTTYPE=image/png:https://phuketcommunity.com/wp-content/uploads/2026/04/naka-market.webp
END:VEVENT
END:VCALENDAR