BEGIN:VCALENDAR
VERSION:2.0
PRODID:-//Phuket Community - ECPv6.15.20//NONSGML v1.0//EN
CALSCALE:GREGORIAN
METHOD:PUBLISH
X-ORIGINAL-URL:https://phuketcommunity.com
X-WR-CALDESC:Events for Phuket Community
REFRESH-INTERVAL;VALUE=DURATION:PT1H
X-Robots-Tag:noindex
X-PUBLISHED-TTL:PT1H
BEGIN:VTIMEZONE
TZID:Asia/Bangkok
BEGIN:STANDARD
TZOFFSETFROM:+0700
TZOFFSETTO:+0700
TZNAME:+07
DTSTART:20250101T000000
END:STANDARD
END:VTIMEZONE
BEGIN:VEVENT
DTSTART;TZID=Asia/Bangkok:20260425T170000
DTEND;TZID=Asia/Bangkok:20260425T230000
DTSTAMP:20260423T035402
CREATED:20260416T030249Z
LAST-MODIFIED:20260416T030249Z
UID:8267-1777136400-1777158000@phuketcommunity.com
SUMMARY:Bloc Party 2026 at Courtyard by Marriott Phuket Town
DESCRIPTION:Bloc Party 2026 returns to Courtyard by Marriott Phuket Town. \nStep into the vibrant charm of Phuket Old Town and indulge in an evening of eat\, drink\, and shop in a lively\, curated atmosphere. Discover an exciting selection of food trucks and culinary delights from Marriott hotels and resorts\, alongside unique market finds and engaging activities. \nElevate your night with live entertainment and DJ performances\, setting the tone for an energetic and memorable experience from start to finish. \nGather your friends\, family\, or even your furry companions\, and join us for a one-night-only celebration you won’t want to miss. \nDate: Saturday\, 25 April 2026\nTime: 17:00 – 23:00 hrs.\nLocation: Courtyard by Marriott Phuket Town
URL:https://phuketcommunity.com/event/bloc-party-2026-at-courtyard-by-marriott-phuket-town/
LOCATION:Courtyard by Marriott Phuket Town
CATEGORIES:Dining,Shopping & Markets
ATTACH;FMTTYPE=image/png:https://phuketcommunity.com/wp-content/uploads/2026/04/blockparty.webp
END:VEVENT
END:VCALENDAR