BEGIN:VCALENDAR
VERSION:2.0
PRODID:-//Phuket Community - ECPv6.15.20//NONSGML v1.0//EN
CALSCALE:GREGORIAN
METHOD:PUBLISH
X-ORIGINAL-URL:https://phuketcommunity.com
X-WR-CALDESC:Events for Phuket Community
REFRESH-INTERVAL;VALUE=DURATION:PT1H
X-Robots-Tag:noindex
X-PUBLISHED-TTL:PT1H
BEGIN:VTIMEZONE
TZID:Asia/Bangkok
BEGIN:STANDARD
TZOFFSETFROM:+0700
TZOFFSETTO:+0700
TZNAME:+07
DTSTART:20250101T000000
END:STANDARD
END:VTIMEZONE
BEGIN:VEVENT
DTSTART;TZID=Asia/Bangkok:20260426T160000
DTEND;TZID=Asia/Bangkok:20260426T220000
DTSTAMP:20260423T035428
CREATED:20260422T145837Z
LAST-MODIFIED:20260422T145837Z
UID:8429-1777219200-1777240800@phuketcommunity.com
SUMMARY:Sunday Walking Street (Lard Yai)
DESCRIPTION:The Old Phuket Town Walking Street or locally known as Lard Yai or Talaad Yai which means big market\, takes place every Sunday along beautiful historical Thalang road in downtown Phuket. This road is normally closed to traffic every Sunday and turned to a busy walking street starting from 4pm onwards. With the charming Sino-Portuguese buildings along the both sides of the street\, this night market gives its visitors an atmosphere dating back to the old era of this town. A number of shops and stalls selling a wide variety of items including souvenirs\, clothes\, food are available along this short but attractive walking street. Those loving entertainment can enjoy live music and street shows.
URL:https://phuketcommunity.com/event/sunday-walking-street-lard-yai-2/
LOCATION:Thalang Road\, Phuket Town
CATEGORIES:Music & Nightlife,Shopping & Markets
ATTACH;FMTTYPE=image/png:https://phuketcommunity.com/wp-content/uploads/2026/04/walking-street.webp
END:VEVENT
BEGIN:VEVENT
DTSTART;TZID=Asia/Bangkok:20260426T160000
DTEND;TZID=Asia/Bangkok:20260426T220000
DTSTAMP:20260423T035428
CREATED:20260422T153756Z
LAST-MODIFIED:20260422T153756Z
UID:8471-1777219200-1777240800@phuketcommunity.com
SUMMARY:G Market at Phuket Grocery (Lard G)
DESCRIPTION:G Market or Lard G is a small but interesting night market organised by Phuket Grocery shopping mall. The market can be found along the front or entrance area of Phuket Grocery mall and it is available every Sunday-Wednesday from 4 pm onwards. Food lovers will find many food stalls providing various local and also international food for both local people and foreigners to try and enjoy. Some interesting food that are available include rice with Thai herbs\, steamed dumplings\, fried fish cakes\, Takoyaki\, fried dumplings\, spicy crispy catfish salad and a lot more. Apart from attractive food\, shoppers can spend their evening shopping for clothes and some souvenirs\, however most of the items are mainly for teenagers or young people. Visitors can also enjoy live music or shows from different artists from Thailand and even abroad like Korea etc.
URL:https://phuketcommunity.com/event/g-market-at-phuket-grocery-lard-g/
LOCATION:Phuket Grocery\, Phuket Town
CATEGORIES:Shopping & Markets
ATTACH;FMTTYPE=image/jpeg:https://phuketcommunity.com/wp-content/uploads/2026/04/lard-g.webp
END:VEVENT
END:VCALENDAR