BEGIN:VCALENDAR
VERSION:2.0
PRODID:-//Phuket Community - ECPv6.15.20//NONSGML v1.0//EN
CALSCALE:GREGORIAN
METHOD:PUBLISH
X-ORIGINAL-URL:https://phuketcommunity.com
X-WR-CALDESC:Events for Phuket Community
REFRESH-INTERVAL;VALUE=DURATION:PT1H
X-Robots-Tag:noindex
X-PUBLISHED-TTL:PT1H
BEGIN:VTIMEZONE
TZID:Asia/Bangkok
BEGIN:STANDARD
TZOFFSETFROM:+0700
TZOFFSETTO:+0700
TZNAME:+07
DTSTART:20250101T000000
END:STANDARD
END:VTIMEZONE
BEGIN:VEVENT
DTSTART;TZID=Asia/Bangkok:20260427T170000
DTEND;TZID=Asia/Bangkok:20260427T230000
DTSTAMP:20260423T035455
CREATED:20260422T152649Z
LAST-MODIFIED:20260422T152649Z
UID:8455-1777309200-1777330800@phuketcommunity.com
SUMMARY:Chillva Market Phuket
DESCRIPTION:Cool container market in Phuket Town\, Chillva Market has a variety choice of chic things and relaxing activities for those looking for a lively place for their evening relaxation. The market is generally split into container zone which consists of some chic shops and coffee shops\, tent zone with various food stalls selling attractive local and international food\, open air stall zone selling a wide choice of items and the last area is a modern stage which normally has live music and special mini concert every Wednesday. The market can be found on Yaowarat Road in Samkong\, diagonally opposite Baan Samkong School. It is open almost everyday\, Monday and Tuesday it is mainly for second hand staff while Wednesday to Saturday is for chic and new items along with attractive activities for chilling out.
URL:https://phuketcommunity.com/event/chillva-market-phuket/
LOCATION:Yaowarat Road\, Phuket Town
CATEGORIES:Family,Shopping & Markets
ATTACH;FMTTYPE=image/jpeg:https://phuketcommunity.com/wp-content/uploads/2026/04/chillva-market.webp
END:VEVENT
END:VCALENDAR