BEGIN:VCALENDAR
VERSION:2.0
PRODID:-//Phuket Community - ECPv6.15.20//NONSGML v1.0//EN
CALSCALE:GREGORIAN
METHOD:PUBLISH
X-ORIGINAL-URL:https://phuketcommunity.com
X-WR-CALDESC:Events for Phuket Community
REFRESH-INTERVAL;VALUE=DURATION:PT1H
X-Robots-Tag:noindex
X-PUBLISHED-TTL:PT1H
BEGIN:VTIMEZONE
TZID:Asia/Bangkok
BEGIN:STANDARD
TZOFFSETFROM:+0700
TZOFFSETTO:+0700
TZNAME:+07
DTSTART:20240101T000000
END:STANDARD
END:VTIMEZONE
BEGIN:VEVENT
DTSTART;TZID=Asia/Bangkok:20251129T080000
DTEND;TZID=Asia/Bangkok:20251206T220000
DTSTAMP:20260421T234712
CREATED:20251127T094249Z
LAST-MODIFIED:20251127T094249Z
UID:5376-1764403200-1765058400@phuketcommunity.com
SUMMARY:Phuket King's Cup Regatta 2025
DESCRIPTION:Get ready to set sail!\n\nThe 37th Phuket King’s Cup Regatta returns from November 29 to December 6\, 2025\, bringing together world-class sailors for Asia’s most famous international regatta. \nOnline registration starts from October 15 – November 29\, 2025\, don’t miss your chance to be part of this exciting event! \nThe King’s Cup is Asia’s most famous international regatta and features a thrilling mix of keelboats\, multihulls\, dinghies\, optimists\, and disabled sailing categories\, all set against the stunning backdrop of Phuket’s coastline. \nJoin us for an unforgettable week of competitive sailing\, camaraderie\, and celebration at the Phuket King’s Cup Regatta 2025!
URL:https://phuketcommunity.com/event/phuket-kings-cup-regatta-2025/
LOCATION:Kata beach
CATEGORIES:Sports
ATTACH;FMTTYPE=image/png:https://phuketcommunity.com/wp-content/uploads/2025/11/image_2025-11-27_164207162.webp
END:VEVENT
BEGIN:VEVENT
DTSTART;TZID=Asia/Bangkok:20251203T083000
DTEND;TZID=Asia/Bangkok:20251203T093000
DTSTAMP:20260421T234712
CREATED:20251127T130732Z
LAST-MODIFIED:20251127T130732Z
UID:5439-1764750600-1764754200@phuketcommunity.com
SUMMARY:Yoga & Coffee from Daily Dose
DESCRIPTION:Y O G A • C L A S S E S\n Yoga & Coffee from Daily Dose\n\n\n Every Wednesday and Friday at the new Daily Dose Alchemy. We have both indoor and outdoor options (in the Japanese Garden. Shaded\, with fans so not hot at all).\n\n\nClasses are 400thb and include a free drink from Daily Dose \n\n\n Wednesday & Friday\n 08:30-09:30\n Daily Dose Alchemy\n 400thb or 5 for 1600thb\n Includes a free drink \n\n\nDM to book! (Pre-booking is essential as spaces are limited)\nGoogle Maps
URL:https://phuketcommunity.com/event/yoga-coffee-from-daily-dose-9/
LOCATION:Daily Dose Alchemy\, https://maps.app.goo.gl/KK96acmr2x8soNxEA
CATEGORIES:Sports
ATTACH;FMTTYPE=image/png:https://phuketcommunity.com/wp-content/uploads/2025/10/image_2025-10-09_155331739.webp
END:VEVENT
BEGIN:VEVENT
DTSTART;TZID=Asia/Bangkok:20251204T123000
DTEND;TZID=Asia/Bangkok:20251204T173000
DTSTAMP:20260421T234712
CREATED:20251106T041920Z
LAST-MODIFIED:20251106T041920Z
UID:4420-1764851400-1764869400@phuketcommunity.com
SUMMARY:O’Hara’s Christmas Golf Day
DESCRIPTION:🎄🏌️‍♂️ O’Hara’s Christmas Golf Day is 1 month away ☘️ \n4 Ball Scramble at Laguna Golf Course ⛳️\n🗓️ Wednesday 4th December\n🕧 Shotgun start 12:30 pm\n💲Members 1.450 thb\nNon-members 3.300 thb \nPrice includes BBQ\, drinks & prize ceremony back at O’Hara’s after golf 🍻🔥 \nLimited spots\, register your team now calling Tommy: 089 972 5122 & Sam: 081 892 9208 or send us a message. \nlagunagolfphuket \n#oharaspub #oharasbar #irishbar #irishpub #golfday #lagunagolfphuket #christmasgolf #lagunaphuket
URL:https://phuketcommunity.com/event/oharas-christmas-golf-day/
LOCATION:Laguna Golf Course
CATEGORIES:Sports
ATTACH;FMTTYPE=image/png:https://phuketcommunity.com/wp-content/uploads/2025/11/image_2025-11-06_111853378.webp
END:VEVENT
BEGIN:VEVENT
DTSTART;TZID=Asia/Bangkok:20251209T153000
DTEND;TZID=Asia/Bangkok:20251209T163000
DTSTAMP:20260421T234712
CREATED:20251111T102738Z
LAST-MODIFIED:20251111T102738Z
UID:4781-1765294200-1765297800@phuketcommunity.com
SUMMARY:432Hz Quantum Deep Healing Workshop
DESCRIPTION:𝐁𝐎𝐋𝐃 presents “𝐄𝐋𝐄𝐂𝐓𝐑𝐈𝐂 𝐊𝐈𝐌𝐎𝐍𝐎 𝐍𝐈𝐆𝐇𝐓” – Tokyo Vibration returns with an electrifying new chapter. \nJapan’s timeless elegance collides with modern rhythm — a celebration of light\, movement\, and a bold reinterpretation of tradition\, where technology merges with the grace of the kimono\, elevated by Kenta’s hypnotic looped soundscapes. \n𝟗𝐭𝐡 𝐃𝐞𝐜𝐞𝐦𝐛𝐞𝐫 𝟐𝟎𝟐𝟓 | 432Hz Quantum Deep Healing Workshop\n📍 Jomon Pavilion | 15:30 – 16:30\nExperience Violet Flame purification\, white light cleansing\, and ATVOR technology to connect with your higher self and rediscover soul families. Renowned Tachyon musician Kenta Hayashi is acclaimed for his healing cosmic soundscapes and mastery of Solfeggio frequencies.\n𝐏𝐑𝐈𝐂𝐄:\nTHB 1\,500++ per person \n𝟏𝟎𝐭𝐡 𝐃𝐞𝐜𝐞𝐦𝐛𝐞𝐫 𝟐𝟎𝟐𝟓 | BOLD Dinner: “Electric Kimono Night”\n📍 Rivet & Rebar | From 18:30 onwards\nExperience the fusion of sound\, style\, and flavour with KENTA’S LIVE BEATS — a 444Hz Awakening Dance performance\, accompanied by two Dragon Sound masters and the ethereal Goddess Erilia.\n🍶 Sake tasting\n👘 Electric kimono runway\n🍣 6-course Japanese-inspired creations\, featuring Sakizuke\, Otsukuri\, Sushi Duo\, Agemono & Yakimono\, Donburi & Menrui\, and Mizumono – Dessert Trio\n𝐏𝐑𝐈𝐂𝐄:\nTHB 2\,000++ per person\, food only\nTHB 2\,500++ Includes one half-bottle of wine per person \nPrices are subject to 10% service charge and 7% government tax. \n🔗 Learn more through the link in bio\n📩 contactfb@theslatephuket.com \n#BOLD #TheSlatePhuket #BOLDByTheSlate #ElectricKimono #Kimono #KentaHayashi #DininginPhuket #Events
URL:https://phuketcommunity.com/event/432hz-quantum-deep-healing-workshop/
LOCATION:The Slate\, Phuket
CATEGORIES:Community & Meetings,Sports
ATTACH;FMTTYPE=image/png:https://phuketcommunity.com/wp-content/uploads/2025/11/image_2025-11-11_172515474.webp
END:VEVENT
BEGIN:VEVENT
DTSTART;TZID=Asia/Bangkok:20251212T083000
DTEND;TZID=Asia/Bangkok:20251212T093000
DTSTAMP:20260421T234712
CREATED:20251009T085732Z
LAST-MODIFIED:20251212T045937Z
UID:3405-1765528200-1765531800@phuketcommunity.com
SUMMARY:Yoga & Coffee from Daily Dose
DESCRIPTION:Y O G A • C L A S S E S\n Yoga & Coffee from Daily Dose\n\n\n Every Wednesday and Friday at the new Daily Dose Alchemy. We have both indoor and outdoor options (in the Japanese Garden. Shaded\, with fans so not hot at all).\n\n\nClasses are 400thb and include a free drink from Daily Dose \n\n\n Wednesday & Friday\n 08:30-09:30\n Daily Dose Alchemy\n 400thb or 5 for 1600thb\n Includes a free drink \n\n\nDM to book! (Pre-booking is essential as spaces are limited)\nGoogle Maps
URL:https://phuketcommunity.com/event/yoga-coffee-from-daily-dose-2/
LOCATION:Daily Dose Alchemy\, https://maps.app.goo.gl/KK96acmr2x8soNxEA
CATEGORIES:Sports
ATTACH;FMTTYPE=image/png:https://phuketcommunity.com/wp-content/uploads/2025/10/image_2025-10-09_155331739.webp
END:VEVENT
BEGIN:VEVENT
DTSTART;TZID=Asia/Bangkok:20251213T070000
DTEND;TZID=Asia/Bangkok:20251213T103000
DTSTAMP:20260421T234712
CREATED:20251127T120922Z
LAST-MODIFIED:20251211T102647Z
UID:5412-1765609200-1765621800@phuketcommunity.com
SUMMARY:Cult Run Club
DESCRIPTION:𝐄𝐯𝐞𝐫𝐲 𝐒𝐚𝐭𝐮𝐫𝐝𝐚𝐲\, 𝟕𝐀𝐌 – we run together.\nCULT ⚡️ RUN CLUB brings you 𝟑𝐊𝐌\, 𝟓𝐊𝐌\, 𝐚𝐧𝐝 𝟖𝐊𝐌 𝐫𝐨𝐮𝐭𝐞𝐬\, open to all paces and all levels. Just show up at the meeting point\, lace up and take the first stride with the crew. \nWhether you’re building consistency\, training for something bigger or simply moving for yourself – this is your space\, your community and your Saturday ritual. \n𝙏𝙝𝙚 𝙥𝙚𝙧𝙛𝙚𝙘𝙩 𝙨𝙩𝙚𝙥 𝙩𝙤𝙬𝙖𝙧𝙙𝙨 𝙬𝙝𝙖𝙩’𝙨 𝙘𝙤𝙢𝙞𝙣𝙜: 𝘾𝙐𝙇𝙏 𝙋𝙚𝙧𝙛𝙤𝙧𝙢𝙖𝙣𝙘𝙚 𝙍𝙪𝙣 𝙘𝙡𝙖𝙨𝙨𝙚𝙨 𝙖𝙧𝙚 𝙤𝙣 𝙩𝙝𝙚 𝙬𝙖𝙮. \n⚡️ 𝐓𝐇𝐄 𝐂𝐔𝐋𝐓 𝐅𝐈𝐓𝐍𝐄𝐒𝐒 𝐒𝐎𝐂𝐈𝐄𝐓𝐘 📍𝐑𝐚𝐰𝐚𝐢\, 𝐏𝐡𝐮𝐤𝐞𝐭
URL:https://phuketcommunity.com/event/cult-run-club-2/
LOCATION:The Cult Fitness Society Rawai\, https://maps.app.goo.gl/S3Q2N3NXWXwNUawQ9
CATEGORIES:Sports
ATTACH;FMTTYPE=image/jpeg:https://phuketcommunity.com/wp-content/uploads/2025/11/𝐄𝐯𝐞𝐫𝐲-𝐒𝐚𝐭𝐮𝐫𝐝𝐚𝐲-𝟕𝐀𝐌-we-run-together.CULT-⚡️-RUN-CLUB-brings-you-𝟑𝐊𝐌-𝟓𝐊𝐌.webp
END:VEVENT
BEGIN:VEVENT
DTSTART;TZID=Asia/Bangkok:20251213T180000
DTEND;TZID=Asia/Bangkok:20251214T020000
DTSTAMP:20260421T234712
CREATED:20251120T115838Z
LAST-MODIFIED:20251211T102924Z
UID:5256-1765648800-1765677600@phuketcommunity.com
SUMMARY:Premier League Live
DESCRIPTION:Islander Sports Bar & Restaurant – Premier League Football Live!\nGet ready for the Premier League kick-off every weekend! ⚽ Join us at Islander Sports Bar and Restaurant\, the ultimate spot for proper football fans. With 8 screens showing all games live\, you won’t miss a single goal\, tackle\, or moment of drama.\nExperience the electric atmosphere of a proper English pub\, with ice-cold pints and hearty pub grub to fuel your passion. We’re live and loud every week\, bringing you every match of the season.\n📍 Islander Sports Bar & Restaurant\n🎉 Open for every Premier League game\n⚽ All matches shown live on 8 big screens\n🍻 Proper pub vibes for true football fans\nTag your mates\, grab a seat\, and let’s cheer on your team together! \nGoogle Maps
URL:https://phuketcommunity.com/event/premier-league-live-14/
LOCATION:Islander Sports Bar and Restaurant
CATEGORIES:Music & Nightlife,Sports
ATTACH;FMTTYPE=image/png:https://phuketcommunity.com/wp-content/uploads/2025/10/image_2025-10-09_163157900.webp
END:VEVENT
BEGIN:VEVENT
DTSTART;TZID=Asia/Bangkok:20251213T210000
DTEND;TZID=Asia/Bangkok:20251213T233000
DTSTAMP:20260421T234712
CREATED:20251211T093156Z
LAST-MODIFIED:20251211T093156Z
UID:5896-1765659600-1765668600@phuketcommunity.com
SUMMARY:SINBI BOXING STADIUM – Saturday
DESCRIPTION:SINBI BOXING STADIUM – Saturday\, December 13\, 2025 ‼️ \n🥊 Get ready for another electrifying night of Muay Thai action in Phuket! \n📍 Location: @sinbiboxingstadium\n🍀 Good luck to all fighters! Let’s hear it for your favorites! 🙌\n🎉 Don’t miss the chance to witness raw talent and warrior spirit LIVE! \n🏟️ Venue: Sinbi Boxing Stadium\n🧊 Air-conditioned comfort for all guests\n📌 Address: Rawai Beach\, Saiyuan Soi 9\, Phuket \n🗓️ Date: Saturday \, December 13\, 2025\n🕘 Time: 9:00 PM\n📺 Watch live on YouTube: SINBI MuayThai Official \n🎫 Tickets:\n• Gym Shop\n• At the door \n💸 Prices:\n• Bleachers – 1\,500 THB
URL:https://phuketcommunity.com/event/sinbi-boxing-stadium-saturday/
LOCATION:Sinbi Boxing Stadium\, https://maps.app.goo.gl/EQ1QRvV9aUdtkx5CA
CATEGORIES:Sports
ATTACH;FMTTYPE=image/png:https://phuketcommunity.com/wp-content/uploads/2025/12/image_2025-12-11_163119453.webp
END:VEVENT
BEGIN:VEVENT
DTSTART;TZID=Asia/Bangkok:20251214T180000
DTEND;TZID=Asia/Bangkok:20251215T020000
DTSTAMP:20260421T234712
CREATED:20251120T115140Z
LAST-MODIFIED:20251211T103123Z
UID:5250-1765735200-1765764000@phuketcommunity.com
SUMMARY:Premier League Live
DESCRIPTION:Islander Sports Bar & Restaurant – Premier League Football Live!\nGet ready for the Premier League kick-off every weekend! ⚽ Join us at Islander Sports Bar and Restaurant\, the ultimate spot for proper football fans. With 8 screens showing all games live\, you won’t miss a single goal\, tackle\, or moment of drama.\nExperience the electric atmosphere of a proper English pub\, with ice-cold pints and hearty pub grub to fuel your passion. We’re live and loud every week\, bringing you every match of the season.\n📍 Islander Sports Bar & Restaurant\n🎉 Open for every Premier League game\n⚽ All matches shown live on 8 big screens\n🍻 Proper pub vibes for true football fans\nTag your mates\, grab a seat\, and let’s cheer on your team together! \nGoogle Maps
URL:https://phuketcommunity.com/event/premier-league-live-11/
LOCATION:Islander Sports Bar and Restaurant
CATEGORIES:Music & Nightlife,Sports
ATTACH;FMTTYPE=image/png:https://phuketcommunity.com/wp-content/uploads/2025/10/image_2025-10-09_163157900.webp
END:VEVENT
BEGIN:VEVENT
DTSTART;TZID=Asia/Bangkok:20251217T083000
DTEND;TZID=Asia/Bangkok:20251217T093000
DTSTAMP:20260421T234712
CREATED:20251009T085557Z
LAST-MODIFIED:20251211T105611Z
UID:3399-1765960200-1765963800@phuketcommunity.com
SUMMARY:Yoga & Coffee from Daily Dose
DESCRIPTION:Y O G A • C L A S S E S\n Yoga & Coffee from Daily Dose\n\n\n Every Wednesday and Friday at the new Daily Dose Alchemy. We have both indoor and outdoor options (in the Japanese Garden. Shaded\, with fans so not hot at all).\n\n\nClasses are 400thb and include a free drink from Daily Dose \n\n\n Wednesday & Friday\n 08:30-09:30\n Daily Dose Alchemy\n 400thb or 5 for 1600thb\n Includes a free drink \n\n\nDM to book! (Pre-booking is essential as spaces are limited)\nGoogle Maps
URL:https://phuketcommunity.com/event/yoga-coffee-from-daily-dose/
LOCATION:Daily Dose Alchemy\, https://maps.app.goo.gl/KK96acmr2x8soNxEA
CATEGORIES:Sports
ATTACH;FMTTYPE=image/png:https://phuketcommunity.com/wp-content/uploads/2025/10/image_2025-10-09_155331739.webp
END:VEVENT
BEGIN:VEVENT
DTSTART;TZID=Asia/Bangkok:20251220T070000
DTEND;TZID=Asia/Bangkok:20251220T103000
DTSTAMP:20260421T234712
CREATED:20251218T110420Z
LAST-MODIFIED:20251218T110420Z
UID:6076-1766214000-1766226600@phuketcommunity.com
SUMMARY:Cult Run Club
DESCRIPTION:𝐄𝐯𝐞𝐫𝐲 𝐒𝐚𝐭𝐮𝐫𝐝𝐚𝐲\, 𝟕𝐀𝐌 – we run together.\nCULT ⚡️ RUN CLUB brings you 𝟑𝐊𝐌\, 𝟓𝐊𝐌\, 𝐚𝐧𝐝 𝟖𝐊𝐌 𝐫𝐨𝐮𝐭𝐞𝐬\, open to all paces and all levels. Just show up at the meeting point\, lace up and take the first stride with the crew. \nWhether you’re building consistency\, training for something bigger or simply moving for yourself – this is your space\, your community and your Saturday ritual. \n𝙏𝙝𝙚 𝙥𝙚𝙧𝙛𝙚𝙘𝙩 𝙨𝙩𝙚𝙥 𝙩𝙤𝙬𝙖𝙧𝙙𝙨 𝙬𝙝𝙖𝙩’𝙨 𝙘𝙤𝙢𝙞𝙣𝙜: 𝘾𝙐𝙇𝙏 𝙋𝙚𝙧𝙛𝙤𝙧𝙢𝙖𝙣𝙘𝙚 𝙍𝙪𝙣 𝙘𝙡𝙖𝙨𝙨𝙚𝙨 𝙖𝙧𝙚 𝙤𝙣 𝙩𝙝𝙚 𝙬𝙖𝙮. \n⚡️ 𝐓𝐇𝐄 𝐂𝐔𝐋𝐓 𝐅𝐈𝐓𝐍𝐄𝐒𝐒 𝐒𝐎𝐂𝐈𝐄𝐓𝐘 📍𝐑𝐚𝐰𝐚𝐢\, 𝐏𝐡𝐮𝐤𝐞𝐭
URL:https://phuketcommunity.com/event/cult-run-club-3/
LOCATION:The Cult Fitness Society Rawai\, https://maps.app.goo.gl/S3Q2N3NXWXwNUawQ9
CATEGORIES:Sports
ATTACH;FMTTYPE=image/jpeg:https://phuketcommunity.com/wp-content/uploads/2025/11/𝐄𝐯𝐞𝐫𝐲-𝐒𝐚𝐭𝐮𝐫𝐝𝐚𝐲-𝟕𝐀𝐌-we-run-together.CULT-⚡️-RUN-CLUB-brings-you-𝟑𝐊𝐌-𝟓𝐊𝐌.webp
END:VEVENT
BEGIN:VEVENT
DTSTART;TZID=Asia/Bangkok:20251220T180000
DTEND;TZID=Asia/Bangkok:20251221T030000
DTSTAMP:20260421T234712
CREATED:20251218T105939Z
LAST-MODIFIED:20251218T105939Z
UID:6072-1766253600-1766286000@phuketcommunity.com
SUMMARY:Premier League Live
DESCRIPTION:Islander Sports Bar & Restaurant – Premier League Football Live!\nGet ready for the Premier League kick-off every weekend! ⚽ Join us at Islander Sports Bar and Restaurant\, the ultimate spot for proper football fans. With 8 screens showing all games live\, you won’t miss a single goal\, tackle\, or moment of drama.\nExperience the electric atmosphere of a proper English pub\, with ice-cold pints and hearty pub grub to fuel your passion. We’re live and loud every week\, bringing you every match of the season.\n📍 Islander Sports Bar & Restaurant\n🎉 Open for every Premier League game\n⚽ All matches shown live on 8 big screens\n🍻 Proper pub vibes for true football fans\nTag your mates\, grab a seat\, and let’s cheer on your team together! \nGoogle Maps
URL:https://phuketcommunity.com/event/premier-league-live-15/
LOCATION:Islander Sports Bar and Restaurant
CATEGORIES:Music & Nightlife,Sports
ATTACH;FMTTYPE=image/png:https://phuketcommunity.com/wp-content/uploads/2025/10/image_2025-10-09_163157900.webp
END:VEVENT
BEGIN:VEVENT
DTSTART;TZID=Asia/Bangkok:20251221T070000
DTEND;TZID=Asia/Bangkok:20251221T103000
DTSTAMP:20260421T234712
CREATED:20251217T040555Z
LAST-MODIFIED:20251217T040555Z
UID:5965-1766300400-1766313000@phuketcommunity.com
SUMMARY:Christmas Toy Drive (5k Fun Run)
DESCRIPTION:𝐑𝐮𝐧. 𝐑𝐚𝐯𝐞. 𝐆𝐢𝐯𝐞. 🎄🔥 \nFitness Street’s 1𝙨𝙩 𝙀𝙑𝙀𝙍 𝘾𝙤𝙛𝙛𝙚𝙚 𝙍𝙖𝙫𝙚!\nLace up\, show up\, and make a kid smile this Christmas.\nWe’re running 5KM and finishing with a DJ + BBQ breakfast at Trooper Eats ☕ \n👉 Bring a toy (ages 5–15)\n👉 21 December · 7:15AM\n👉 Meeting point: Trooper Eats\, Soi Ta-Ied\n𝘕𝘰𝘵 𝘢 𝘳𝘶𝘯𝘯𝘦𝘳? 𝘔𝘦𝘦𝘵 𝘶𝘴 𝘢𝘵 𝘵𝘩𝘦 𝘧𝘪𝘯𝘪𝘴𝘩 𝘭𝘪𝘯𝘦 𝘢𝘯𝘥 𝘫𝘰𝘪𝘯 𝘵𝘩𝘦 𝘱𝘢𝘳𝘵𝘺 𝘧𝘰𝘳 200𝘵𝘩𝘣 \nLet’s MOOVE for a cause ❤️ \n#MooveClub #FitnessStreetPhuket #PhuketCommunity #toydrive #giveback
URL:https://phuketcommunity.com/event/christmas-toy-drive-5k-fun-run/
LOCATION:Trooper Eats
CATEGORIES:Community & Meetings,Sports
ATTACH;FMTTYPE=image/jpeg:https://phuketcommunity.com/wp-content/uploads/2025/12/𝐑𝐮𝐧.-𝐑𝐚𝐯𝐞.-𝐆𝐢𝐯𝐞.-🎄🔥Fitness-Streets-1𝙨𝙩-𝙀𝙑𝙀𝙍-𝘾𝙤𝙛𝙛𝙚𝙚-𝙍𝙖𝙫𝙚Lace-up-s.webp
END:VEVENT
BEGIN:VEVENT
DTSTART;TZID=Asia/Bangkok:20251221T180000
DTEND;TZID=Asia/Bangkok:20251222T030000
DTSTAMP:20260421T234712
CREATED:20251218T110135Z
LAST-MODIFIED:20251218T110135Z
UID:6074-1766340000-1766372400@phuketcommunity.com
SUMMARY:Premier League Live
DESCRIPTION:Islander Sports Bar & Restaurant – Premier League Football Live!\nGet ready for the Premier League kick-off every weekend! ⚽ Join us at Islander Sports Bar and Restaurant\, the ultimate spot for proper football fans. With 8 screens showing all games live\, you won’t miss a single goal\, tackle\, or moment of drama.\nExperience the electric atmosphere of a proper English pub\, with ice-cold pints and hearty pub grub to fuel your passion. We’re live and loud every week\, bringing you every match of the season.\n📍 Islander Sports Bar & Restaurant\n🎉 Open for every Premier League game\n⚽ All matches shown live on 8 big screens\n🍻 Proper pub vibes for true football fans\nTag your mates\, grab a seat\, and let’s cheer on your team together! \nGoogle Maps
URL:https://phuketcommunity.com/event/premier-league-live-16/
LOCATION:Islander Sports Bar and Restaurant
CATEGORIES:Music & Nightlife,Sports
ATTACH;FMTTYPE=image/png:https://phuketcommunity.com/wp-content/uploads/2025/10/image_2025-10-09_163157900.webp
END:VEVENT
BEGIN:VEVENT
DTSTART;TZID=Asia/Bangkok:20251227T070000
DTEND;TZID=Asia/Bangkok:20251227T200000
DTSTAMP:20260421T234712
CREATED:20251121T030936Z
LAST-MODIFIED:20251226T030628Z
UID:5281-1766818800-1766865600@phuketcommunity.com
SUMMARY:Cult Run Club
DESCRIPTION:𝐄𝐯𝐞𝐫𝐲 𝐒𝐚𝐭𝐮𝐫𝐝𝐚𝐲\, 𝟕𝐀𝐌 – we run together.\nCULT ⚡️ RUN CLUB brings you 𝟑𝐊𝐌\, 𝟓𝐊𝐌\, 𝐚𝐧𝐝 𝟖𝐊𝐌 𝐫𝐨𝐮𝐭𝐞𝐬\, open to all paces and all levels. Just show up at the meeting point\, lace up and take the first stride with the crew. \n𝙏𝙝𝙚 𝙥𝙚𝙧𝙛𝙚𝙘𝙩 𝙨𝙩𝙚𝙥 𝙩𝙤𝙬𝙖𝙧𝙙𝙨 𝙬𝙝𝙖𝙩’𝙨 𝙘𝙤𝙢𝙞𝙣𝙜: 𝘾𝙐𝙇𝙏 𝙋𝙚𝙧𝙛𝙤𝙧𝙢𝙖𝙣𝙘𝙚 𝙍𝙪𝙣 𝙘𝙡𝙖𝙨𝙨𝙚𝙨 𝙖𝙧𝙚 𝙤𝙣 𝙩𝙝𝙚 𝙬𝙖𝙮. \n⚡️ 𝐓𝐇𝐄 𝐂𝐔𝐋𝐓 𝐅𝐈𝐓𝐍𝐄𝐒𝐒 𝐒𝐎𝐂𝐈𝐄𝐓𝐘 📍𝐑𝐚𝐰𝐚𝐢\, 𝐏𝐡𝐮𝐤𝐞𝐭
URL:https://phuketcommunity.com/event/cult-run-club/
LOCATION:The Cult Fitness Society Rawai\, https://maps.app.goo.gl/S3Q2N3NXWXwNUawQ9
CATEGORIES:Sports
ATTACH;FMTTYPE=image/jpeg:https://phuketcommunity.com/wp-content/uploads/2025/11/𝐄𝐯𝐞𝐫𝐲-𝐒𝐚𝐭𝐮𝐫𝐝𝐚𝐲-𝟕𝐀𝐌-we-run-together.CULT-⚡️-RUN-CLUB-brings-you-𝟑𝐊𝐌-𝟓𝐊𝐌.webp
END:VEVENT
BEGIN:VEVENT
DTSTART;TZID=Asia/Bangkok:20251227T180000
DTEND;TZID=Asia/Bangkok:20251228T020000
DTSTAMP:20260421T234712
CREATED:20251120T115716Z
LAST-MODIFIED:20251226T025532Z
UID:5254-1766858400-1766887200@phuketcommunity.com
SUMMARY:Premier League Live
DESCRIPTION:Islander Sports Bar & Restaurant – Premier League Football Live!\nGet ready for the Premier League kick-off every weekend! ⚽ Join us at Islander Sports Bar and Restaurant\, the ultimate spot for proper football fans. With 8 screens showing all games live\, you won’t miss a single goal\, tackle\, or moment of drama.\nExperience the electric atmosphere of a proper English pub\, with ice-cold pints and hearty pub grub to fuel your passion. We’re live and loud every week\, bringing you every match of the season.\n📍 Islander Sports Bar & Restaurant\n🎉 Open for every Premier League game\n⚽ All matches shown live on 8 big screens\n🍻 Proper pub vibes for true football fans\nTag your mates\, grab a seat\, and let’s cheer on your team together! \nGoogle Maps
URL:https://phuketcommunity.com/event/premier-league-live-13/
LOCATION:Islander Sports Bar and Restaurant
CATEGORIES:Music & Nightlife,Sports
ATTACH;FMTTYPE=image/png:https://phuketcommunity.com/wp-content/uploads/2025/10/image_2025-10-09_163157900.webp
END:VEVENT
BEGIN:VEVENT
DTSTART;TZID=Asia/Bangkok:20251228T180000
DTEND;TZID=Asia/Bangkok:20251229T020000
DTSTAMP:20260421T234712
CREATED:20251120T115429Z
LAST-MODIFIED:20251226T025920Z
UID:5252-1766944800-1766973600@phuketcommunity.com
SUMMARY:Premier League Live
DESCRIPTION:Islander Sports Bar & Restaurant – Premier League Football Live!\nGet ready for the Premier League kick-off every weekend! ⚽ Join us at Islander Sports Bar and Restaurant\, the ultimate spot for proper football fans. With 8 screens showing all games live\, you won’t miss a single goal\, tackle\, or moment of drama.\nExperience the electric atmosphere of a proper English pub\, with ice-cold pints and hearty pub grub to fuel your passion. We’re live and loud every week\, bringing you every match of the season.\n📍 Islander Sports Bar & Restaurant\n🎉 Open for every Premier League game\n⚽ All matches shown live on 8 big screens\n🍻 Proper pub vibes for true football fans\nTag your mates\, grab a seat\, and let’s cheer on your team together! \nGoogle Maps
URL:https://phuketcommunity.com/event/premier-league-live-12/
LOCATION:Islander Sports Bar and Restaurant
CATEGORIES:Music & Nightlife,Sports
ATTACH;FMTTYPE=image/png:https://phuketcommunity.com/wp-content/uploads/2025/10/image_2025-10-09_163157900.webp
END:VEVENT
END:VCALENDAR