BEGIN:VCALENDAR
VERSION:2.0
PRODID:-//Phuket Community - ECPv6.15.20//NONSGML v1.0//EN
CALSCALE:GREGORIAN
METHOD:PUBLISH
X-WR-CALNAME:Phuket Community
X-ORIGINAL-URL:https://phuketcommunity.com
X-WR-CALDESC:Events for Phuket Community
REFRESH-INTERVAL;VALUE=DURATION:PT1H
X-Robots-Tag:noindex
X-PUBLISHED-TTL:PT1H
BEGIN:VTIMEZONE
TZID:Asia/Bangkok
BEGIN:STANDARD
TZOFFSETFROM:+0700
TZOFFSETTO:+0700
TZNAME:+07
DTSTART:20240101T000000
END:STANDARD
END:VTIMEZONE
BEGIN:VEVENT
DTSTART;TZID=Asia/Bangkok:20251024T083000
DTEND;TZID=Asia/Bangkok:20251024T093000
DTSTAMP:20260422T114338
CREATED:20251009T085948Z
LAST-MODIFIED:20251009T085948Z
UID:3409-1761294600-1761298200@phuketcommunity.com
SUMMARY:Yoga & Coffee from Daily Dose
DESCRIPTION:Y O G A • C L A S S E S\n Yoga & Coffee from Daily Dose\n\n\n Every Wednesday and Friday at the new Daily Dose Alchemy. We have both indoor and outdoor options (in the Japanese Garden. Shaded\, with fans so not hot at all).\n\n\nClasses are 400thb and include a free drink from Daily Dose \n\n\n Wednesday & Friday\n 08:30-09:30\n Daily Dose Alchemy\n 400thb or 5 for 1600thb\n Includes a free drink \n\n\nDM to book! (Pre-booking is essential as spaces are limited)\nGoogle Maps
URL:https://phuketcommunity.com/event/yoga-coffee-from-daily-dose-4/
CATEGORIES:Sports
ATTACH;FMTTYPE=image/png:https://phuketcommunity.com/wp-content/uploads/2025/10/image_2025-10-09_155331739.webp
END:VEVENT
BEGIN:VEVENT
DTSTART;TZID=Asia/Bangkok:20251024T210000
DTEND;TZID=Asia/Bangkok:20251024T233000
DTSTAMP:20260422T114338
CREATED:20251023T045826Z
LAST-MODIFIED:20251023T045826Z
UID:3535-1761339600-1761348600@phuketcommunity.com
SUMMARY:Rawai Boxing Stadium FRIDAY FIGHT NIGHT
DESCRIPTION:FRIDAY FIGHT NIGHT 🥊🍿\nDon‘t miss!!! out on the excitement – book your tickets now for our upcoming Muay Thai matches. \n📅 Friday 24 October \, 2025\n⏰ Fights start at 9 pm.\n🎫 Tickets available online and at entrance\n📌 @rawaiboxingstadium\n✅ Every Friday night!
URL:https://phuketcommunity.com/event/rawai-boxing-stadium-friday-fight-night/
LOCATION:Rawai Boxing Stadium\, 43\, 5\, Rawai\, Mueang Phuket District\, Phuket 83130\, Rawai\, Phuket\, 83130\, Thailand
CATEGORIES:Sports
ATTACH;FMTTYPE=image/png:https://phuketcommunity.com/wp-content/uploads/2025/10/image_2025-10-23_115449423.webp
END:VEVENT
BEGIN:VEVENT
DTSTART;TZID=Asia/Bangkok:20251024T210000
DTEND;TZID=Asia/Bangkok:20251024T233000
DTSTAMP:20260422T114338
CREATED:20251023T050320Z
LAST-MODIFIED:20251023T050320Z
UID:3542-1761339600-1761348600@phuketcommunity.com
SUMMARY:BANGLA BOXING STADIUM FIGHT NIGHT
DESCRIPTION:FRIDAY NIGHT 🥊🥊 OCTOBER 24\, 2025 \nFREE T-shirt! 👕 \n🔥🔥BANGLA BOXING STADIUM🔥🔥 \nEvery Tuesday\, Wednesday \,Friday Saturday and Sunday night.\nGate open : 8:30PM.\nStart time : 9PM. \n#banglaboxingstadium #banglapatong #thaiboxing #phuketboxingstadium #muaythaiphuket #thaiboxingphuket
URL:https://phuketcommunity.com/event/bangla-boxing-stadium-fight-night/
LOCATION:Bangla Boxing Stadium\, 74/21 Soi Banzaan\, Pa Tong\, Kathu District\, Phuket 83150\, Thailand
CATEGORIES:Sports
ATTACH;FMTTYPE=image/png:https://phuketcommunity.com/wp-content/uploads/2025/10/image_2025-10-23_115941093.webp
END:VEVENT
END:VCALENDAR