BEGIN:VCALENDAR
VERSION:2.0
PRODID:-//Phuket Community - ECPv6.15.20//NONSGML v1.0//EN
CALSCALE:GREGORIAN
METHOD:PUBLISH
X-ORIGINAL-URL:https://phuketcommunity.com
X-WR-CALDESC:Events for Phuket Community
REFRESH-INTERVAL;VALUE=DURATION:PT1H
X-Robots-Tag:noindex
X-PUBLISHED-TTL:PT1H
BEGIN:VTIMEZONE
TZID:Asia/Bangkok
BEGIN:STANDARD
TZOFFSETFROM:+0700
TZOFFSETTO:+0700
TZNAME:+07
DTSTART:20240101T000000
END:STANDARD
END:VTIMEZONE
BEGIN:VEVENT
DTSTART;TZID=Asia/Bangkok:20251025T180000
DTEND;TZID=Asia/Bangkok:20251026T233000
DTSTAMP:20260422T093359
CREATED:20251023T235919Z
LAST-MODIFIED:20251023T235919Z
UID:3839-1761415200-1761521400@phuketcommunity.com
SUMMARY:This weekend at Walkabout Sports Bar & Restaurant
DESCRIPTION:Karon Beach\, Phuket.
URL:https://phuketcommunity.com/event/this-weekend-at-walkabout-sports-bar-restaurant/
LOCATION:Walkabout Sports Bar & Restaurant
CATEGORIES:Dining,Sports
ATTACH;FMTTYPE=image/png:https://phuketcommunity.com/wp-content/uploads/2025/10/image_2025-10-24_065426679.webp
END:VEVENT
BEGIN:VEVENT
DTSTART;TZID=Asia/Bangkok:20251026T063000
DTEND;TZID=Asia/Bangkok:20251026T210000
DTSTAMP:20260422T093359
CREATED:20251023T072019Z
LAST-MODIFIED:20251023T072019Z
UID:3640-1761460200-1761512400@phuketcommunity.com
SUMMARY:Active Roots RUN & CONNECT
DESCRIPTION:Active Roots RUN & CONNECT\n⏰ 6:30 | 📍 Bang Wad Dam | Kathu \nStep into the morning with intention\nJoin us for a 6KM mindful run around Bang Wad Dam\, followed by meaningful connections as we enjoy nature and playful moments together \nRun & Connect – 26 October\nBecause movement is better when we share it
URL:https://phuketcommunity.com/event/active-roots-run-connect/
LOCATION:Bang Wad\, Kathu\, Kathu District\, Phuket 83120
CATEGORIES:Community & Meetings,Sports
ATTACH;FMTTYPE=image/png:https://phuketcommunity.com/wp-content/uploads/2025/10/image_2025-10-23_141943883.webp
END:VEVENT
BEGIN:VEVENT
DTSTART;TZID=Asia/Bangkok:20251026T180000
DTEND;TZID=Asia/Bangkok:20251026T233000
DTSTAMP:20260422T093359
CREATED:20251009T093823Z
LAST-MODIFIED:20251009T093823Z
UID:3447-1761501600-1761521400@phuketcommunity.com
SUMMARY:Premier League Live
DESCRIPTION:Islander Sports Bar & Restaurant – Premier League Football Live!\nGet ready for the Premier League kick-off every weekend! ⚽ Join us at Islander Sports Bar and Restaurant\, the ultimate spot for proper football fans. With 8 screens showing all games live\, you won’t miss a single goal\, tackle\, or moment of drama.\nExperience the electric atmosphere of a proper English pub\, with ice-cold pints and hearty pub grub to fuel your passion. We’re live and loud every week\, bringing you every match of the season.\n📍 Islander Sports Bar & Restaurant\n🎉 Open for every Premier League game\n⚽ All matches shown live on 8 big screens\n🍻 Proper pub vibes for true football fans\nTag your mates\, grab a seat\, and let’s cheer on your team together! \nGoogle Maps
URL:https://phuketcommunity.com/event/premier-league-live-6/
CATEGORIES:Music & Nightlife,Sports
ATTACH;FMTTYPE=image/png:https://phuketcommunity.com/wp-content/uploads/2025/10/image_2025-10-09_163157900.webp
END:VEVENT
END:VCALENDAR