BEGIN:VCALENDAR
VERSION:2.0
PRODID:-//Phuket Community - ECPv6.15.20//NONSGML v1.0//EN
CALSCALE:GREGORIAN
METHOD:PUBLISH
X-WR-CALNAME:Phuket Community
X-ORIGINAL-URL:https://phuketcommunity.com
X-WR-CALDESC:Events for Phuket Community
REFRESH-INTERVAL;VALUE=DURATION:PT1H
X-Robots-Tag:noindex
X-PUBLISHED-TTL:PT1H
BEGIN:VTIMEZONE
TZID:Asia/Bangkok
BEGIN:STANDARD
TZOFFSETFROM:+0700
TZOFFSETTO:+0700
TZNAME:+07
DTSTART:20240101T000000
END:STANDARD
END:VTIMEZONE
BEGIN:VEVENT
DTSTART;TZID=Asia/Bangkok:20251028T210000
DTEND;TZID=Asia/Bangkok:20251028T233000
DTSTAMP:20260424T052945
CREATED:20251028T072452Z
LAST-MODIFIED:20251028T072452Z
UID:3895-1761685200-1761694200@phuketcommunity.com
SUMMARY:Patong Boxing Stadium
DESCRIPTION:www.boxingstadiumpatong.com\n🥊 🥊 *an air-conditioned Stadium* ❄️♻️🛜 #muaythai #phuket #Patong #gym #tonight #boxing
URL:https://phuketcommunity.com/event/patong-boxing-stadium/
LOCATION:Patong Boxing Stadium\, https://maps.app.goo.gl/hmB7qrMXsw9sDfR56\, Thailand
CATEGORIES:Sports
ATTACH;FMTTYPE=image/jpeg:https://phuketcommunity.com/wp-content/uploads/2025/10/☎️WhatsApp-66-81-737-7193✅www.boxingstadiumpatong.com-🥊-🥊-an-air-conditioned-Stadium-❄️♻️🛜-.webp
END:VEVENT
END:VCALENDAR