BEGIN:VCALENDAR
VERSION:2.0
PRODID:-//Phuket Community - ECPv6.15.20//NONSGML v1.0//EN
CALSCALE:GREGORIAN
METHOD:PUBLISH
X-WR-CALNAME:Phuket Community
X-ORIGINAL-URL:https://phuketcommunity.com
X-WR-CALDESC:Events for Phuket Community
REFRESH-INTERVAL;VALUE=DURATION:PT1H
X-Robots-Tag:noindex
X-PUBLISHED-TTL:PT1H
BEGIN:VTIMEZONE
TZID:Asia/Bangkok
BEGIN:STANDARD
TZOFFSETFROM:+0700
TZOFFSETTO:+0700
TZNAME:+07
DTSTART:20240101T000000
END:STANDARD
END:VTIMEZONE
BEGIN:VEVENT
DTSTART;TZID=Asia/Bangkok:20251029T083000
DTEND;TZID=Asia/Bangkok:20251029T093000
DTSTAMP:20260422T082134
CREATED:20251009T090204Z
LAST-MODIFIED:20251009T091319Z
UID:3413-1761726600-1761730200@phuketcommunity.com
SUMMARY:Yoga & Coffee from Daily Dose
DESCRIPTION:Y O G A • C L A S S E S\n Yoga & Coffee from Daily Dose\n\n\n Every Wednesday and Friday at the new Daily Dose Alchemy. We have both indoor and outdoor options (in the Japanese Garden. Shaded\, with fans so not hot at all).\n\n\nClasses are 400thb and include a free drink from Daily Dose \n\n\n Wednesday & Friday\n 08:30-09:30\n Daily Dose Alchemy\n 400thb or 5 for 1600thb\n Includes a free drink \n\n\nDM to book! (Pre-booking is essential as spaces are limited)\nGoogle Maps
URL:https://phuketcommunity.com/event/yoga-coffee-from-daily-dose-6/
CATEGORIES:Sports
ATTACH;FMTTYPE=image/png:https://phuketcommunity.com/wp-content/uploads/2025/10/image_2025-10-09_155331739.webp
END:VEVENT
BEGIN:VEVENT
DTSTART;TZID=Asia/Bangkok:20251029T210000
DTEND;TZID=Asia/Bangkok:20251029T233000
DTSTAMP:20260422T082134
CREATED:20251028T073327Z
LAST-MODIFIED:20251028T073327Z
UID:3907-1761771600-1761780600@phuketcommunity.com
SUMMARY:SINBI BOXING STADIUM – Wednesday Fight Night
DESCRIPTION:‼️ SINBI BOXING STADIUM – Wednesday \, October 29\, 2025 ‼️ \n🥊 Get ready for another electrifying night of Muay Thai action in Phuket! \n📍 Location: @sinbiboxingstadium\n🍀 Good luck to all fighters! Let’s hear it for your favorites! 🙌\n🎉 Don’t miss the chance to witness raw talent and warrior spirit LIVE! \n🏟️ Venue: Sinbi Boxing Stadium\n🧊 Air-conditioned comfort for all guests\n📌 Address: Rawai Beach\, Saiyuan Soi 9\, Phuket \n🗓️ Date: Wednesday\, October 29\, 2025\n🕘 Time: 9:00 PM\n📺 Watch live on YouTube: SINBI MuayThai Official \n🎫 Tickets:\n• Gym Shop\n• At the door \n💸 Prices:\n• Bleachers – 1\,500 THB\n• Ringside – 1\,800 THB\n• VIP – 2\,500 THB (includes FREE T-shirt 👕) \nLet’s make it a night to remember! 💥 \n#muaythai #sinbiboxingstadium #sinbimuaythai #muaythaiphuket #amazingthailand #มวยไทย #ภูเก็ต #สนามมวยซิ
URL:https://phuketcommunity.com/event/sinbi-boxing-stadium-wednesday-fight-night/
LOCATION:Sinbi Boxing Stadium\, https://maps.app.goo.gl/EQ1QRvV9aUdtkx5CA
CATEGORIES:Sports
ATTACH;FMTTYPE=image/png:https://phuketcommunity.com/wp-content/uploads/2025/10/image_2025-10-28_143150655.webp
END:VEVENT
END:VCALENDAR