BEGIN:VCALENDAR
VERSION:2.0
PRODID:-//Phuket Community - ECPv6.15.20//NONSGML v1.0//EN
CALSCALE:GREGORIAN
METHOD:PUBLISH
X-WR-CALNAME:Phuket Community
X-ORIGINAL-URL:https://phuketcommunity.com
X-WR-CALDESC:Events for Phuket Community
REFRESH-INTERVAL;VALUE=DURATION:PT1H
X-Robots-Tag:noindex
X-PUBLISHED-TTL:PT1H
BEGIN:VTIMEZONE
TZID:Asia/Bangkok
BEGIN:STANDARD
TZOFFSETFROM:+0700
TZOFFSETTO:+0700
TZNAME:+07
DTSTART:20240101T000000
END:STANDARD
END:VTIMEZONE
BEGIN:VEVENT
DTSTART;TZID=Asia/Bangkok:20251101T070000
DTEND;TZID=Asia/Bangkok:20251101T100000
DTSTAMP:20260422T043446
CREATED:20251030T050547Z
LAST-MODIFIED:20251030T050547Z
UID:4103-1761980400-1761991200@phuketcommunity.com
SUMMARY:Just Run Phuket community run
DESCRIPTION:We’re keeping the momentum going! 🏃‍♀️✨ \nJoin us for our weekly Just Run Phuket community run this Saturday\, 1 November\, at Angsana Laguna Phuket. \nAll paces\, all smiles — everyone’s welcome! 💙\nSign up for free via link in bio \nวิ่งกันต่อ อย่าให้ไฟในตัวดับไป! 🏃‍♀🔥 \nเสาร์นี้ 1 พฤศจิกายน มาวิ่งชิล ๆ กับแก๊ง Just Run Phuket\nที่ Angsana Laguna Phuket เจอกันอีกครั้ง \nวิ่งได้ทุกเพซ มันส์ได้ทุกคน มาวิ่ง มาเพิ่มรอยยิ้มด้วยกัน! 💙\nลงทะเบียนฟรีได้ที่ลิงก์ในไบโอ \n#JustRunPhuket #LagunaPhuket #CommunityRun #PhuketRunners#Angsana
URL:https://phuketcommunity.com/event/just-run-phuket-community-run/
LOCATION:Angsana Laguna Phuket\, 10 Moo 4 Srisoonthorn Road\, Cherngtalay\, Thalang\, Phuket 83110 Thailand
CATEGORIES:Sports
ATTACH;FMTTYPE=image/png:https://phuketcommunity.com/wp-content/uploads/2025/10/image_2025-10-30_120147845.webp
END:VEVENT
BEGIN:VEVENT
DTSTART;TZID=Asia/Bangkok:20251101T160000
DTEND;TZID=Asia/Bangkok:20251101T180000
DTSTAMP:20260422T043446
CREATED:20251028T090251Z
LAST-MODIFIED:20251028T090251Z
UID:4010-1762012800-1762020000@phuketcommunity.com
SUMMARY:Together we climb
DESCRIPTION:กิจกรรม Community ครึ่งเดือนแรกพฤศจิกายน มาแล้ว! \n• Nov 01: Together we climb\n• Nov 02: Trail&Talk at Bang Tao Viewpoint\n• Nov 08: HOORAY! | Active Roots: Monkey Hunt Run\n• Nov 09: Padel Play Day \nทุกกิจกรรมเปิดรับทุกระดับ ไม่ว่ามือใหม่หรือสายโปร\nมาร่วมขยับร่างกาย เติมพลังดี ๆ และแชร์ความสนุกไปด้วยกัน \n📌 ลงทะเบียนได้แล้ววันนี้ ผ่านลิงก์ในไบโอ หรือสแกน QR Code บนโปสเตอร์! \n#activeroots #activecommunity #phuketactivities #phuketcommunity
URL:https://phuketcommunity.com/event/together-we-climb/
LOCATION:REBEL Rock Climbing\, https://maps.app.goo.gl/ewzZq5YcdLsJsVYr5
CATEGORIES:Sports
ATTACH;FMTTYPE=image/jpeg:https://phuketcommunity.com/wp-content/uploads/2025/10/กิจกรรม-Community-ครึ่งเดือนแรกพฤศจิกายน-มาแล้ว•-Nov-01-Together-we-climb•-Nov-02-TrailTalk-1.webp
END:VEVENT
BEGIN:VEVENT
DTSTART;TZID=Asia/Bangkok:20251101T180000
DTEND;TZID=Asia/Bangkok:20251101T233000
DTSTAMP:20260422T043446
CREATED:20251031T022033Z
LAST-MODIFIED:20251031T022033Z
UID:4239-1762020000-1762039800@phuketcommunity.com
SUMMARY:Premier League Live
DESCRIPTION:Islander Sports Bar & Restaurant – Premier League Football Live!\nGet ready for the Premier League kick-off every weekend! ⚽ Join us at Islander Sports Bar and Restaurant\, the ultimate spot for proper football fans. With 8 screens showing all games live\, you won’t miss a single goal\, tackle\, or moment of drama.\nExperience the electric atmosphere of a proper English pub\, with ice-cold pints and hearty pub grub to fuel your passion. We’re live and loud every week\, bringing you every match of the season.\n📍 Islander Sports Bar & Restaurant\n🎉 Open for every Premier League game\n⚽ All matches shown live on 8 big screens\n🍻 Proper pub vibes for true football fans\nTag your mates\, grab a seat\, and let’s cheer on your team together! \nGoogle Maps
URL:https://phuketcommunity.com/event/premier-league-live-7/
LOCATION:Islander Sports Bar and Restaurant
CATEGORIES:Music & Nightlife,Sports
ATTACH;FMTTYPE=image/png:https://phuketcommunity.com/wp-content/uploads/2025/10/image_2025-10-09_163157900.webp
END:VEVENT
BEGIN:VEVENT
DTSTART;TZID=Asia/Bangkok:20251101T210000
DTEND;TZID=Asia/Bangkok:20251101T233000
DTSTAMP:20260422T043446
CREATED:20251030T085903Z
LAST-MODIFIED:20251030T085903Z
UID:4196-1762030800-1762039800@phuketcommunity.com
SUMMARY:BANGLA BOXING STADIUM SATURDAY NIGHT FIGHT
DESCRIPTION:🥊 SATURDAY NIGHT 🥊 \nNOVEMBER 1\, 2025 \nFREE T-shirt! every ticket👕 \n🔥🔥BANGLA BOXING STADIUM🔥🔥 \nEvery Tuesday\, Wednesday \,Friday\, Saturday and Sunday night. \nGate open : 8:30PM.\nStart time : 9PM. \n#banglaboxingstadium #banglapatong #thaiboxing #phuketboxingstadium #muaythaiphuket #thaiboxingphuket #thaiboxing #muaythai #phuket #patong #bangla #patongboxing #phuketmuaythai #patongmuaythai
URL:https://phuketcommunity.com/event/bangla-boxing-stadium-saturday-night-fight/
LOCATION:Bangla Boxing Stadium\, 74/21 Soi Banzaan\, Pa Tong\, Kathu District\, Phuket 83150\, Thailand
CATEGORIES:Sports
ATTACH;FMTTYPE=image/png:https://phuketcommunity.com/wp-content/uploads/2025/10/image_2025-10-30_155728477.webp
END:VEVENT
END:VCALENDAR