BEGIN:VCALENDAR
VERSION:2.0
PRODID:-//Phuket Community - ECPv6.15.20//NONSGML v1.0//EN
CALSCALE:GREGORIAN
METHOD:PUBLISH
X-WR-CALNAME:Phuket Community
X-ORIGINAL-URL:https://phuketcommunity.com
X-WR-CALDESC:Events for Phuket Community
REFRESH-INTERVAL;VALUE=DURATION:PT1H
X-Robots-Tag:noindex
X-PUBLISHED-TTL:PT1H
BEGIN:VTIMEZONE
TZID:Asia/Bangkok
BEGIN:STANDARD
TZOFFSETFROM:+0700
TZOFFSETTO:+0700
TZNAME:+07
DTSTART:20240101T000000
END:STANDARD
END:VTIMEZONE
BEGIN:VEVENT
DTSTART;TZID=Asia/Bangkok:20251102T060000
DTEND;TZID=Asia/Bangkok:20251102T080000
DTSTAMP:20260422T092648
CREATED:20251028T090642Z
LAST-MODIFIED:20251028T090642Z
UID:4016-1762063200-1762070400@phuketcommunity.com
SUMMARY:Trail&Talk at Bang Tao Viewpoint
DESCRIPTION:กิจกรรม Community ครึ่งเดือนแรกพฤศจิกายน มาแล้ว! \n• Nov 01: Together we climb\n• Nov 02: Trail&Talk at Bang Tao Viewpoint\n• Nov 08: HOORAY! | Active Roots: Monkey Hunt Run\n• Nov 09: Padel Play Day \nทุกกิจกรรมเปิดรับทุกระดับ ไม่ว่ามือใหม่หรือสายโปร\nมาร่วมขยับร่างกาย เติมพลังดี ๆ และแชร์ความสนุกไปด้วยกัน \n📌 ลงทะเบียนได้แล้ววันนี้ ผ่านลิงก์ในไบโอ หรือสแกน QR Code บนโปสเตอร์! \n#activeroots #activecommunity #phuketactivities #phuketcommunity
URL:https://phuketcommunity.com/event/trailtalk-at-bang-tao-viewpoint/
LOCATION:Bang Tao Viewpoint\, https://maps.app.goo.gl/xJ65SGmJQbmynWUZ9
CATEGORIES:Community & Meetings,Sports
ATTACH;FMTTYPE=image/jpeg:https://phuketcommunity.com/wp-content/uploads/2025/10/กิจกรรม-Community-ครึ่งเดือนแรกพฤศจิกายน-มาแล้ว•-Nov-01-Together-we-climb•-Nov-02-TrailTalk-.webp
END:VEVENT
BEGIN:VEVENT
DTSTART;TZID=Asia/Bangkok:20251102T070000
DTEND;TZID=Asia/Bangkok:20251102T090000
DTSTAMP:20260422T092648
CREATED:20251030T045623Z
LAST-MODIFIED:20251030T045623Z
UID:4091-1762066800-1762074000@phuketcommunity.com
SUMMARY:Free Beach Yoga with Yada!
DESCRIPTION:🌞 Free Beach Yoga with Yada! 🌊\nWe’d love to invite everyone to join one last beach yoga together 💛 🏖🧘‍♂️ \n🗓 Sunday\, 2 November\n🕖 7:00 AM\n📍 Bring your own mat\nLocation Karon Beach\n✨ All levels welcome! \nLet’s move with the sound of the waves\, breathe in the ocean air\, and enjoy this special moment together 🌺\nDM us to reserve your spot .\nSee you on the beach! 🧘‍♀️💫🏖❤️
URL:https://phuketcommunity.com/event/free-beach-yoga-with-yada/
LOCATION:Karon Beach\, https://maps.app.goo.gl/yowqL1VYR1hCF8pDA
CATEGORIES:Sports
ATTACH;FMTTYPE=image/png:https://phuketcommunity.com/wp-content/uploads/2025/10/image_2025-10-30_115318562.webp
END:VEVENT
BEGIN:VEVENT
DTSTART;TZID=Asia/Bangkok:20251102T180000
DTEND;TZID=Asia/Bangkok:20251102T233000
DTSTAMP:20260422T092648
CREATED:20251031T022146Z
LAST-MODIFIED:20251031T022146Z
UID:4242-1762106400-1762126200@phuketcommunity.com
SUMMARY:Premier League Live
DESCRIPTION:Islander Sports Bar & Restaurant – Premier League Football Live!\nGet ready for the Premier League kick-off every weekend! ⚽ Join us at Islander Sports Bar and Restaurant\, the ultimate spot for proper football fans. With 8 screens showing all games live\, you won’t miss a single goal\, tackle\, or moment of drama.\nExperience the electric atmosphere of a proper English pub\, with ice-cold pints and hearty pub grub to fuel your passion. We’re live and loud every week\, bringing you every match of the season.\n📍 Islander Sports Bar & Restaurant\n🎉 Open for every Premier League game\n⚽ All matches shown live on 8 big screens\n🍻 Proper pub vibes for true football fans\nTag your mates\, grab a seat\, and let’s cheer on your team together! \nGoogle Maps
URL:https://phuketcommunity.com/event/premier-league-live-8/
LOCATION:Islander Sports Bar and Restaurant
CATEGORIES:Music & Nightlife,Sports
ATTACH;FMTTYPE=image/png:https://phuketcommunity.com/wp-content/uploads/2025/10/image_2025-10-09_163157900.webp
END:VEVENT
BEGIN:VEVENT
DTSTART;TZID=Asia/Bangkok:20251102T210000
DTEND;TZID=Asia/Bangkok:20251102T233000
DTSTAMP:20260422T092648
CREATED:20251030T091537Z
LAST-MODIFIED:20251030T091537Z
UID:4212-1762117200-1762126200@phuketcommunity.com
SUMMARY:Sunday Night Fight at Patong Boxing Stadium
DESCRIPTION:☎️WhatsApp +66 81 737 7193✅\nwww.boxingstadiumpatong.com\n🥊 🥊 *an air-conditioned Stadium* ❄️♻️🛜 #muaythai #gym #nightlife #tonight
URL:https://phuketcommunity.com/event/sunday-night-fight-at-patong-boxing-stadium/
LOCATION:Patong Boxing Stadium\, https://maps.app.goo.gl/hmB7qrMXsw9sDfR56\, Thailand
CATEGORIES:Sports
ATTACH;FMTTYPE=image/png:https://phuketcommunity.com/wp-content/uploads/2025/10/image_2025-10-30_161407190.webp
END:VEVENT
END:VCALENDAR