BEGIN:VCALENDAR
VERSION:2.0
PRODID:-//Phuket Community - ECPv6.15.20//NONSGML v1.0//EN
CALSCALE:GREGORIAN
METHOD:PUBLISH
X-WR-CALNAME:Phuket Community
X-ORIGINAL-URL:https://phuketcommunity.com
X-WR-CALDESC:Events for Phuket Community
REFRESH-INTERVAL;VALUE=DURATION:PT1H
X-Robots-Tag:noindex
X-PUBLISHED-TTL:PT1H
BEGIN:VTIMEZONE
TZID:Asia/Bangkok
BEGIN:STANDARD
TZOFFSETFROM:+0700
TZOFFSETTO:+0700
TZNAME:+07
DTSTART:20240101T000000
END:STANDARD
END:VTIMEZONE
BEGIN:VEVENT
DTSTART;TZID=Asia/Bangkok:20251107T213000
DTEND;TZID=Asia/Bangkok:20251110T020000
DTSTAMP:20260422T082201
CREATED:20251107T092740Z
LAST-MODIFIED:20251107T092740Z
UID:4651-1762551000-1762740000@phuketcommunity.com
SUMMARY:Weekend live sports at O’Hara’s
DESCRIPTION:Massive weekend of live sports at O’Hara’s! 🏉⚽️🏍️ \nRugby Internationals\, Premier League & Moto GP all LIVE. \n \n𝗦𝗮𝘁𝘂𝗿𝗱𝗮𝘆 𝟴𝘁𝗵 𝗡𝗼𝘃𝗲𝗺𝗯𝗲𝗿\n18:30 Spurs VS Man United\n19:30 Ireland 🇮🇪 VS 🇯🇵 Japan\n22:00 Everton VS Fulham\n21:30 England 🏴󠁧󠁢󠁥󠁮󠁧󠁿 VS 🇦🇺 Australia\n22:10 Scotland 🏴󠁧󠁢󠁳󠁣󠁴󠁿 VS 🇳🇿 New Zealand \n𝗦𝘂𝗻𝗱𝗮𝘆 𝟵𝘁𝗵 𝗡𝗼𝘃𝗲𝗺𝗯𝗲𝗿\n18:00 Moto GP – Portugal GP 🇵🇹\n21:00 Aston Villa VS Bournemouth\nCrystal Palace VS Brighton\n22:10 Wales 🏴󠁧󠁢󠁷󠁬󠁳󠁿 VS 🇦🇷 Argentina \nBring your crew. We have cold beers\, great food & big screens 🍻📺 \n🕚 𝗪𝗲𝗲𝗸𝗲𝗻𝗱𝘀 𝗼𝗽𝗲𝗻𝗶𝗻𝗴 𝗳𝗿𝗼𝗺 𝟭𝟭:𝟬𝟬 𝗮𝗺\n📞 𝟬𝟴𝟵 𝟵𝟳𝟮 𝟱𝟭𝟮𝟮\n📍 𝟮𝟲 𝗟𝗮𝗴𝗼𝗼𝗻 𝗿𝗼𝗮𝗱\, 𝗖𝗵𝗲𝗿𝗻𝗴𝘁𝗮𝗹𝗮𝘆
URL:https://phuketcommunity.com/event/weekend-live-sports-at-oharas/
LOCATION:O’Hara’s Irish Pub Phuket
CATEGORIES:Sports
ATTACH;FMTTYPE=image/jpeg:https://phuketcommunity.com/wp-content/uploads/2025/11/Massive-weekend-of-live-sports-at-OHaras-🏉⚽️🏍️Rugby-Internationals-Premier-League-Moto-G-1.webp
END:VEVENT
BEGIN:VEVENT
DTSTART;TZID=Asia/Bangkok:20251108T113000
DTEND;TZID=Asia/Bangkok:20251108T140000
DTSTAMP:20260422T082201
CREATED:20251106T095253Z
LAST-MODIFIED:20251106T095253Z
UID:4524-1762601400-1762610400@phuketcommunity.com
SUMMARY:HOT HIP HOP YOGA
DESCRIPTION:HOT HIP HOP YOGA: Second Edition 🔥🧘🏾‍♀️ \nWe owe you another class! ✨\nWe’re turning up the heat with another collab at @utimefitnessphuket in Chalong. \n✨ Class is set to old + new Hip-Hop music\n✨ Flow is playful yet challenging (Very beginner friendly) ✨ Move while using your breath as your guide ✨ After class\, enjoy 10% off meals from our restaurant partners: \n@mimamexican\n@cannelle_phuket \nIt’s more than a class\, it’s a MOVEMENT! \nEvent Details: ✨ When: Next Saturday\, November 8th\n✨ Time: 11:30 AM\n✨ Location: @utimefitnessphuket – My Front Yard\, Chalong @myfrontyardphuket  ✨Cost: 500 THB\nBook a spot via the link in bio ✨ \nLimit spots available 😊 \nCan’t wait to see you on the mat 💜
URL:https://phuketcommunity.com/event/hot-hip-hop-yoga/
LOCATION:UTime Fitness – My Front Yard
CATEGORIES:Sports
ATTACH;FMTTYPE=image/png:https://phuketcommunity.com/wp-content/uploads/2025/11/image_2025-11-06_165034242.webp
END:VEVENT
BEGIN:VEVENT
DTSTART;TZID=Asia/Bangkok:20251108T180000
DTEND;TZID=Asia/Bangkok:20251109T020000
DTSTAMP:20260422T082201
CREATED:20251031T022329Z
LAST-MODIFIED:20251031T022329Z
UID:4244-1762624800-1762653600@phuketcommunity.com
SUMMARY:Premier League Live
DESCRIPTION:Islander Sports Bar & Restaurant – Premier League Football Live!\nGet ready for the Premier League kick-off every weekend! ⚽ Join us at Islander Sports Bar and Restaurant\, the ultimate spot for proper football fans. With 8 screens showing all games live\, you won’t miss a single goal\, tackle\, or moment of drama.\nExperience the electric atmosphere of a proper English pub\, with ice-cold pints and hearty pub grub to fuel your passion. We’re live and loud every week\, bringing you every match of the season.\n📍 Islander Sports Bar & Restaurant\n🎉 Open for every Premier League game\n⚽ All matches shown live on 8 big screens\n🍻 Proper pub vibes for true football fans\nTag your mates\, grab a seat\, and let’s cheer on your team together! \nGoogle Maps
URL:https://phuketcommunity.com/event/premier-league-live-9/
LOCATION:Islander Sports Bar and Restaurant
CATEGORIES:Music & Nightlife,Sports
ATTACH;FMTTYPE=image/png:https://phuketcommunity.com/wp-content/uploads/2025/10/image_2025-10-09_163157900.webp
END:VEVENT
BEGIN:VEVENT
DTSTART;TZID=Asia/Bangkok:20251108T210000
DTEND;TZID=Asia/Bangkok:20251108T233000
DTSTAMP:20260422T082201
CREATED:20251106T035247Z
LAST-MODIFIED:20251107T032258Z
UID:4388-1762635600-1762644600@phuketcommunity.com
SUMMARY:SINBI BOXING STADIUM FIGHT NIGHT
DESCRIPTION:‼️ SINBI BOXING STADIUM – Saturday\, November 8\, 2025 ‼️ \n🥊 DON’T MISS IT!! The energy will be off the charts this Saturday night! \n📍 Location: @sinbiboxingstadium\n🍀 Good luck to our Sinbi warriors: \n▪️Kru Fatis 🇹🇭 @fatis__sinbi\n▪️Leonardo 🇮🇹 @leo.coluccia\n▪️Nicolas 🇨🇭 @nicolasyann_\n▪️Ferhat 🇹🇷\n▪️Riki 🇬🇧 @rix.official\n▪️Daphne 🇵🇭 @whatdaphuck \n🙏 Come down and show your support—these athletes are ready to put on a show! \n🏟️ Venue: Sinbi Boxing Stadium\n🧊 Enjoy air-conditioned comfort\n📌 Address: Rawai Beach\, Saiyuan Soi 9\, Phuket \n🗓️ Date: Saturday\, November 8\, 2025\n🕘 Time: 9:00 PM\n📺 Watch it live: SINBI MuayThai Official YouTube \n🎫 Tickets:\n• Available at the gym shop\n• Or purchase at the door \n💸 Ticket Prices:\n• Bleachers – 1\,500 THB\n• Ringside – 1\,800 THB\n• VIP – 2\,500 THB (Includes FREE Sinbi T-shirt 👕) \nLet’s make it another legendary night at Sinbi Stadium! 💥 \n#sinbimuaythai #muaythai #sinbiboxingstadium #muaythaiphuket #amazingthailand #มวยไทย #สนามมวยซินบี #ภูเก็ต
URL:https://phuketcommunity.com/event/sinbi-boxing-stadium-fight-night-2/
LOCATION:Sinbi Boxing Stadium\, https://maps.app.goo.gl/EQ1QRvV9aUdtkx5CA
CATEGORIES:Sports
ATTACH;FMTTYPE=image/png:https://phuketcommunity.com/wp-content/uploads/2025/11/image_2025-11-06_105153721.webp
END:VEVENT
BEGIN:VEVENT
DTSTART;TZID=Asia/Bangkok:20251108T210000
DTEND;TZID=Asia/Bangkok:20251108T233000
DTSTAMP:20260422T082201
CREATED:20251107T033523Z
LAST-MODIFIED:20251107T033523Z
UID:4644-1762635600-1762644600@phuketcommunity.com
SUMMARY:BANGLA BOXING STADIUM SATURDAY NIGHT FIGHT
DESCRIPTION:🥊 SATURDAY NIGHT 🥊 \nNOVEMBER 8\, 2025 \nFREE T-shirt! every ticket👕 \n🔥🔥BANGLA BOXING STADIUM🔥🔥 \nEvery Tuesday\, Wednesday \, Thursady\, Friday\, Saturday and Sunday night. \nGate open : 8:30PM.\nStart time : 9PM. \n#banglaboxingstadium #banglapatong #thaiboxing #phuketboxingstadium #muaythaiphuket #thaiboxingphuket #thaiboxing #muaythai #phuket #patong #bangla #patongboxing #phuketmuaythai #patongmuaythai #patongstadium
URL:https://phuketcommunity.com/event/bangla-boxing-stadium-saturday-night-fight-2/
LOCATION:Bangla Boxing Stadium\, 74/21 Soi Banzaan\, Pa Tong\, Kathu District\, Phuket 83150\, Thailand
CATEGORIES:Sports
ATTACH;FMTTYPE=image/png:https://phuketcommunity.com/wp-content/uploads/2025/11/image_2025-11-07_103446329.webp
END:VEVENT
END:VCALENDAR