BEGIN:VCALENDAR
VERSION:2.0
PRODID:-//Phuket Community - ECPv6.15.20//NONSGML v1.0//EN
CALSCALE:GREGORIAN
METHOD:PUBLISH
X-WR-CALNAME:Phuket Community
X-ORIGINAL-URL:https://phuketcommunity.com
X-WR-CALDESC:Events for Phuket Community
REFRESH-INTERVAL;VALUE=DURATION:PT1H
X-Robots-Tag:noindex
X-PUBLISHED-TTL:PT1H
BEGIN:VTIMEZONE
TZID:Asia/Bangkok
BEGIN:STANDARD
TZOFFSETFROM:+0700
TZOFFSETTO:+0700
TZNAME:+07
DTSTART:20240101T000000
END:STANDARD
END:VTIMEZONE
BEGIN:VEVENT
DTSTART;TZID=Asia/Bangkok:20251112T170000
DTEND;TZID=Asia/Bangkok:20251112T183000
DTSTAMP:20260422T082235
CREATED:20251111T105639Z
LAST-MODIFIED:20251111T105639Z
UID:4812-1762966800-1762972200@phuketcommunity.com
SUMMARY:HYROX mini simulation
DESCRIPTION:Join our HYROX mini simulation this Wednesday (Nov 12) from 17:15–18:30 🏃🏻‍♂️‍➡️⚡️ \nLive DJ • High energy • Full send\n⚡Sign up at reception 15 min before class\n⚡️Spots go fast! \n💰Only 500 THB/ Drop in \n#titanfitnesscamp #titanfitnessthailand #hyrox #hyroxsimulation #hyroxtraining #phuket #thailand #hybridtraining #fitness
URL:https://phuketcommunity.com/event/hyrox-mini-simulation/
LOCATION:Titan Fitness Camp
CATEGORIES:Sports
ATTACH;FMTTYPE=image/png:https://phuketcommunity.com/wp-content/uploads/2025/11/image_2025-11-11_175605008.webp
END:VEVENT
BEGIN:VEVENT
DTSTART;TZID=Asia/Bangkok:20251112T210000
DTEND;TZID=Asia/Bangkok:20251112T233000
DTSTAMP:20260422T082235
CREATED:20251111T110329Z
LAST-MODIFIED:20251111T110329Z
UID:4823-1762981200-1762990200@phuketcommunity.com
SUMMARY:SINBI BOXING STADIUM – Wednesday\, November 12
DESCRIPTION:‼️ SINBI BOXING STADIUM – Wednesday\, November 12\, 2025 ‼️ \n🥊 Get ready for another electrifying night of Muay Thai action in Phuket! \n📍 Location: @sinbiboxingstadium\n🍀 Good luck to all fighters! Let’s hear it for your favorites! 🙌\n🎉 Don’t miss the chance to witness raw talent and warrior spirit LIVE! \n🏟️ Venue: Sinbi Boxing Stadium\n🧊 Air-conditioned comfort for all guests\n📌 Address: Rawai Beach\, Saiyuan Soi 9\, Phuket \n🗓️ Date: Wednesday \, November 12\, 2025\n🕘 Time: 9:00 PM\n📺 Watch live on YouTube: SINBI MuayThai Official \n🎫 Tickets:\n• Gym Shop\n• At the door \n💸 Prices:\n• Bleachers – 1\,500 THB\n• Ringside – 1\,800 THB\n• VIP – 2\,500 THB (includes FREE T-shirt 👕) \nLet’s make it a night to remember! 💥 \n#muaythai #sinbiboxingstadium #sinbimuaythai #muaythaiphuket #amazingthailand #มวยไทย #ภูเก็ต #สนามมวยซินบี
URL:https://phuketcommunity.com/event/sinbi-boxing-stadium-wednesday-november-12/
LOCATION:Sinbi Boxing Stadium\, https://maps.app.goo.gl/EQ1QRvV9aUdtkx5CA
CATEGORIES:Sports
ATTACH;FMTTYPE=image/png:https://phuketcommunity.com/wp-content/uploads/2025/11/image_2025-11-11_180257272.webp
END:VEVENT
BEGIN:VEVENT
DTSTART;TZID=Asia/Bangkok:20251112T210000
DTEND;TZID=Asia/Bangkok:20251112T233000
DTSTAMP:20260422T082235
CREATED:20251112T095330Z
LAST-MODIFIED:20251112T095330Z
UID:4882-1762981200-1762990200@phuketcommunity.com
SUMMARY:BANGLA WEDNESDAY NIGHT 🥊
DESCRIPTION:WEDNESDAY NIGHT 🥊 \nNOVEMBER 12\, 2025 \n🔥🔥BANGLA BOXING STADIUM🔥🔥 \nGet Free T-Shirt !! \nEvery Tuesday\, Wednesday \,Thursday\, Friday\, Saturday and Sunday night. \nGate open : 8:30PM.\nStart time : 9.00PM. \n#banglaboxingstadium #banglapatong #thaiboxing #phuketboxingstadium #muaythaiphuket #thaiboxingphhuket
URL:https://phuketcommunity.com/event/bangla-wednesday-night-%f0%9f%a5%8a/
LOCATION:Bangla Boxing Stadium\, 74/21 Soi Banzaan\, Pa Tong\, Kathu District\, Phuket 83150\, Thailand
CATEGORIES:Sports
ATTACH;FMTTYPE=image/png:https://phuketcommunity.com/wp-content/uploads/2025/11/image_2025-11-12_165144328.webp
END:VEVENT
END:VCALENDAR