BEGIN:VCALENDAR
VERSION:2.0
PRODID:-//Phuket Community - ECPv6.15.20//NONSGML v1.0//EN
CALSCALE:GREGORIAN
METHOD:PUBLISH
X-ORIGINAL-URL:https://phuketcommunity.com
X-WR-CALDESC:Events for Phuket Community
REFRESH-INTERVAL;VALUE=DURATION:PT1H
X-Robots-Tag:noindex
X-PUBLISHED-TTL:PT1H
BEGIN:VTIMEZONE
TZID:Asia/Bangkok
BEGIN:STANDARD
TZOFFSETFROM:+0700
TZOFFSETTO:+0700
TZNAME:+07
DTSTART:20240101T000000
END:STANDARD
END:VTIMEZONE
BEGIN:VEVENT
DTSTART;TZID=Asia/Bangkok:20251118T183000
DTEND;TZID=Asia/Bangkok:20251118T203000
DTSTAMP:20260422T082541
CREATED:20251112T130740Z
LAST-MODIFIED:20251112T130740Z
UID:4963-1763490600-1763497800@phuketcommunity.com
SUMMARY:LIT & CHILL - Yin Yoga to R&B music
DESCRIPTION:What is LIT & CHILL? \nYin Yoga to R&B music ✨ \nA perfect way to end your evening in stillness\, going deeper into your practice\, and being in community. \nJoin us every Tuesday at 6:30 PM \nAll classes held at Tree O’Clock: Gallery & Restaurant\nPrice: 500 THB drop-in \n4 or 6 class packs available ✨✨✨ \nCan’t wait to see you on the mat 💜 \n#phuketthailand\n#thingstodoinphuket\n#wellness\n#yoga
URL:https://phuketcommunity.com/event/lit-chill-yin-yoga-to-rb-music-2/
LOCATION:Tree O’clock Gallery & Restaurant
CATEGORIES:Sports
ATTACH;FMTTYPE=image/jpeg:https://phuketcommunity.com/wp-content/uploads/2025/11/✨November-Calendar-Drop✨LIT-MOVEMENT-is-back-with-a-new-weekly-class-schedule-pop-up-events-around.webp
END:VEVENT
END:VCALENDAR