BEGIN:VCALENDAR
VERSION:2.0
PRODID:-//Phuket Community - ECPv6.15.20//NONSGML v1.0//EN
CALSCALE:GREGORIAN
METHOD:PUBLISH
X-ORIGINAL-URL:https://phuketcommunity.com
X-WR-CALDESC:Events for Phuket Community
REFRESH-INTERVAL;VALUE=DURATION:PT1H
X-Robots-Tag:noindex
X-PUBLISHED-TTL:PT1H
BEGIN:VTIMEZONE
TZID:Asia/Bangkok
BEGIN:STANDARD
TZOFFSETFROM:+0700
TZOFFSETTO:+0700
TZNAME:+07
DTSTART:20250101T000000
END:STANDARD
END:VTIMEZONE
BEGIN:VEVENT
DTSTART;TZID=Asia/Bangkok:20260411T133000
DTEND;TZID=Asia/Bangkok:20260411T170000
DTSTAMP:20260422T031626
CREATED:20260409T033831Z
LAST-MODIFIED:20260409T033831Z
UID:8220-1775914200-1775926800@phuketcommunity.com
SUMMARY:Happy Songkran Doubles Cup & 3rd Anniversary
DESCRIPTION:Happy Songkran Doubles Cup & 3rd Anniversary 💐 \n📅 Apr 11 (Sat)\n🕐 Warm-up 1:30 PM | Start 2 PM\n👥 Doubles ≤800 total\n💰 400 THB | 300 THB (floral dress 🌸)\n🏆 Prizes\, gifts & great vibes! \n— \nสงกรานต์ + ครบรอบ 3 ปี 💐\n📅 11 เม.ย. | 🕐 13:30 / 🏓 14:00\n👥 คู่รวมไม่เกิน 800\n💰 400 | 300 (เสื้อดอก 🌸)\n🏆 รางวัล + สนุกแน่นอน! \n— \nСонгкран + 3 года клуба 💐\n📅 11 апреля\n🕐 13:30 / 🏓 14:00\n👥 Пара ≤800\n💰 400 | 300 (цветы 🌸)\n🏆 Призы и отличная атмосфера! \n⸻ \n#Songkran #Songkran2026 #Phuket #PhuketTTClub #TableTennis PingPong Doubles TableTennisTournament ThailandEvents PhuketEvents TTClub PingPongLife TableTennisThailand SportThailand Anniversary 3Years Celebrate WeekendTournament 🏓
URL:https://phuketcommunity.com/event/happy-songkran-doubles-cup-3rd-anniversary/
LOCATION:Phuket
CATEGORIES:Sports
ATTACH;FMTTYPE=image/png:https://phuketcommunity.com/wp-content/uploads/2026/04/Happy-songkran.webp
END:VEVENT
BEGIN:VEVENT
DTSTART;TZID=Asia/Bangkok:20260411T170000
DTEND;TZID=Asia/Bangkok:20260411T210000
DTSTAMP:20260422T031626
CREATED:20260402T101842Z
LAST-MODIFIED:20260402T101842Z
UID:7890-1775926800-1775941200@phuketcommunity.com
SUMMARY:Laguna Phuket Sunset Beach Run 2026
DESCRIPTION:Come join us at XANA for a breathtaking evening on April 11\, 2026 at 5:00 PM. \nGet ready to experience a magical sunset while participating in a fun run along the beautiful Laguna Phuket beach. \nDon’t miss out on this opportunity to enjoy the scenic views and feel the sand beneath your feet as you run towards the horizon. \nGrab your friends and family\, lace up your running shoes\, and let’s make unforgettable memories together at the Laguna Phuket Sunset Beach Run 2026!
URL:https://phuketcommunity.com/event/laguna-phuket-sunset-beach-run-2026/
LOCATION:Xana Beach
CATEGORIES:Family,Sports
ATTACH;FMTTYPE=image/png:https://phuketcommunity.com/wp-content/uploads/2026/04/Laguna-Phuket-Sunset-Beach-Run-2026.webp
END:VEVENT
END:VCALENDAR