BEGIN:VCALENDAR
VERSION:2.0
PRODID:-//Phuket Community - ECPv6.15.20//NONSGML v1.0//EN
CALSCALE:GREGORIAN
METHOD:PUBLISH
X-WR-CALNAME:Phuket Community
X-ORIGINAL-URL:https://phuketcommunity.com
X-WR-CALDESC:Events for Phuket Community
REFRESH-INTERVAL;VALUE=DURATION:PT1H
X-Robots-Tag:noindex
X-PUBLISHED-TTL:PT1H
BEGIN:VTIMEZONE
TZID:Asia/Bangkok
BEGIN:STANDARD
TZOFFSETFROM:+0700
TZOFFSETTO:+0700
TZNAME:+07
DTSTART:20250101T000000
END:STANDARD
END:VTIMEZONE
BEGIN:VEVENT
DTSTART;TZID=Asia/Bangkok:20260418T063000
DTEND;TZID=Asia/Bangkok:20260418T213000
DTSTAMP:20260421T182907
CREATED:20260416T062549Z
LAST-MODIFIED:20260416T062549Z
UID:8311-1776493800-1776547800@phuketcommunity.com
SUMMARY:Lululemon Run Club
DESCRIPTION:Let’s move with us! \nJoin our Phuket All Crews Run and the Lululemon community for a chill Saturday morning run. This easy-paced morning run is all about moving together\, connecting with the community and getting both body and mind ready. \nWe’ll wrap up with a relaxed mingle session – a chance to refuel\, connecting and share good vibes with fellow runner. \nDistance : 6 km\nSaturday\, 18 April 2026\nTime : 06:30-09:30 AM \nMore details coming soon.
URL:https://phuketcommunity.com/event/lululemon-run-club/
LOCATION:Bang Waad Reservoir\, Kathu
CATEGORIES:Sports
ATTACH;FMTTYPE=image/png:https://phuketcommunity.com/wp-content/uploads/2026/04/lululemon.webp
END:VEVENT
END:VCALENDAR