BEGIN:VCALENDAR
VERSION:2.0
PRODID:-//Phuket Community - ECPv6.15.20//NONSGML v1.0//EN
CALSCALE:GREGORIAN
METHOD:PUBLISH
X-WR-CALNAME:Phuket Community
X-ORIGINAL-URL:https://phuketcommunity.com
X-WR-CALDESC:Events for Phuket Community
REFRESH-INTERVAL;VALUE=DURATION:PT1H
X-Robots-Tag:noindex
X-PUBLISHED-TTL:PT1H
BEGIN:VTIMEZONE
TZID:Asia/Bangkok
BEGIN:STANDARD
TZOFFSETFROM:+0700
TZOFFSETTO:+0700
TZNAME:+07
DTSTART:20250101T000000
END:STANDARD
END:VTIMEZONE
BEGIN:VEVENT
DTSTART;TZID=Asia/Bangkok:20260419T053000
DTEND;TZID=Asia/Bangkok:20260419T170000
DTSTAMP:20260422T004258
CREATED:20260416T065701Z
LAST-MODIFIED:20260416T065701Z
UID:8323-1776576600-1776618000@phuketcommunity.com
SUMMARY:Sakhu Trail Beach Run
DESCRIPTION:Sunday\, April 19\, 2026\, from 5:30 AM onwards\nStarting Point: Wyndham Garden Naithon\, Phuket Province\nFinish Line: Ching Pla Market\, Sirinath National Park\nMini Marathon 10.5 kilometers  Registration Fee 350 Baht\n \n🐟  Race Categories\n🐟  Mini Marathon Category (Male/Female) – Distance 10.5 kilometers \n1. Age 19 and under\n2. Age 20-29 years\n3. Age 30-39 years\n4. Age 40-49 years\n5. Age 50-59 years\n6. Age 60 years and above \n🐟 Winners in 1st-5th place will receive 🏆 Trophies and Cash Prizes for all age categories\n🏆 1st Place Trophy and 💵 Cash Prize 5\,000 Baht\n🏆 2nd Place Trophy and 💵 Cash Prize 3\,000 Baht\n🏆 3rd Place Trophy and 💵 Cash Prize 2\,000 Baht\n🏆 4th Place Trophy and 💵 Cash Prize 1\,000 Baht\n🏆 5th Place Trophy and 💵 Cash Prize 1\,000 Baht \n🐟 All finishers will receive a commemorative medal 🏅\n🐟 Timing by chip system. The judges’ decisions are final.\n🐟 Best Fancy Runner Award \n\nMale: 1 winner 💵 Cash Prize 5\,000 Baht\nFemale: 1 winner 💵 Cash Prize 5\,000 Baht\n\n 
URL:https://phuketcommunity.com/event/sakhu-trail-beach-run/
LOCATION:Nai Thon Beach\, Thalang
CATEGORIES:Sports
ATTACH;FMTTYPE=image/png:https://phuketcommunity.com/wp-content/uploads/2026/04/Sakhu-trail-beach-run.webp
END:VEVENT
BEGIN:VEVENT
DTSTART;TZID=Asia/Bangkok:20260419T120000
DTEND;TZID=Asia/Bangkok:20260419T200000
DTSTAMP:20260422T004258
CREATED:20260408T190036Z
LAST-MODIFIED:20260408T190036Z
UID:8171-1776600000-1776628800@phuketcommunity.com
SUMMARY:THE SUNDAY POOL – FIRA Phuket
DESCRIPTION:A vibrant hilltop pool party with sunset views\, music\, and effortless daytime energy. \nLine-up:\nDJ sets\, Live performances \nEvery Sunday\nFIRA\, Phuket\n12:00–sunset \nSundays done right above it all.
URL:https://phuketcommunity.com/event/the-sunday-pool-fira-phuket-4/
LOCATION:FIRA Beach Club Phuket
CATEGORIES:Music & Nightlife,Sports
ATTACH;FMTTYPE=image/webp:https://phuketcommunity.com/wp-content/uploads/2026/04/fira.webp
END:VEVENT
END:VCALENDAR