BEGIN:VCALENDAR
VERSION:2.0
PRODID:-//Phuket Community - ECPv6.15.20//NONSGML v1.0//EN
CALSCALE:GREGORIAN
METHOD:PUBLISH
X-ORIGINAL-URL:https://phuketcommunity.com
X-WR-CALDESC:Events for Phuket Community
REFRESH-INTERVAL;VALUE=DURATION:PT1H
X-Robots-Tag:noindex
X-PUBLISHED-TTL:PT1H
BEGIN:VTIMEZONE
TZID:Asia/Bangkok
BEGIN:STANDARD
TZOFFSETFROM:+0700
TZOFFSETTO:+0700
TZNAME:+07
DTSTART:20250101T000000
END:STANDARD
END:VTIMEZONE
BEGIN:VEVENT
DTSTART;TZID=Asia/Bangkok:20260425T070000
DTEND;TZID=Asia/Bangkok:20260425T170000
DTSTAMP:20260421T172049
CREATED:20260408T184304Z
LAST-MODIFIED:20260408T184304Z
UID:8146-1777100400-1777136400@phuketcommunity.com
SUMMARY:Pearl of The Andaman Sup Challenge 2026
DESCRIPTION:SUP Paddle Race – Ride the Ocean\, Feel the Challenge! \nJoin the excitement of a SUP Paddle Race on the open sea and experience the thrill of paddling surrounded by stunning ocean views. Whether you’re a competitive racer or just looking for a fun challenge on the water\, this event is for you! \nTotal prizes and giveaways worth over 50\,000 THB\n1st Place — 5\,000 THB\n2nd Place — 3\,000 THB\n3rd Place — 2\,000 THB\n4th Place — 1\,000 THB \nTest your strength\, balance\, and timing with the waves as you race across the water. Feel the ocean energy\, enjoy the friendly competition\, and compete for prizes and awesome rewards.\nWhether you’re here to race\, challenge yourself\, or simply have fun\, come paddle with us and be part of an unforgettable ocean experience! \nRegister now\nhttps://forms.gle/gS7wUJzu8KiQMb6a6
URL:https://phuketcommunity.com/event/pearl-of-the-andaman-sup-challenge-2026/
LOCATION:Patong Beach
CATEGORIES:Sports
ATTACH;FMTTYPE=image/png:https://phuketcommunity.com/wp-content/uploads/2026/04/pearl-of-andaman.webp
END:VEVENT
END:VCALENDAR