BEGIN:VCALENDAR
VERSION:2.0
PRODID:-//Phuket Community - ECPv6.15.20//NONSGML v1.0//EN
CALSCALE:GREGORIAN
METHOD:PUBLISH
X-WR-CALNAME:Phuket Community
X-ORIGINAL-URL:https://phuketcommunity.com
X-WR-CALDESC:Events for Phuket Community
REFRESH-INTERVAL;VALUE=DURATION:PT1H
X-Robots-Tag:noindex
X-PUBLISHED-TTL:PT1H
BEGIN:VTIMEZONE
TZID:Asia/Bangkok
BEGIN:STANDARD
TZOFFSETFROM:+0700
TZOFFSETTO:+0700
TZNAME:+07
DTSTART:20250101T000000
END:STANDARD
END:VTIMEZONE
BEGIN:VEVENT
DTSTART;TZID=Asia/Bangkok:20260426T190000
DTEND;TZID=Asia/Bangkok:20260427T020000
DTSTAMP:20260423T103623
CREATED:20260408T191815Z
LAST-MODIFIED:20260408T191815Z
UID:8205-1777230000-1777255200@phuketcommunity.com
SUMMARY:DESTINO | MAYA BEACH CLUB
DESCRIPTION:Maya Beach Club Phuket presents Destino\, a weekly Sunday gathering starting at 7PM featuring cosmic and astrological visual themes. The recurring series offers a consistent Sunday evening option at the beachfront venue\, with programming details to be announced closer to each event. The eye and zodiac imagery suggests a mystical or spiritual approach to the weekly celebration. \nEvery Sunday\nMaya Beach Club\, Phuket\n7PM \nWeekly Sunday tradition begins at Maya with cosmic intentions.​​​​​​​​​​​​​​​​
URL:https://phuketcommunity.com/event/destino-maya-beach-club-4/
LOCATION:Maya Beach Club Phuket\, Maya Beach Club Phuket 323/26 Moo 2\, Phuket\, Cherngtalay\, 83110\, Thailand
CATEGORIES:Music & Nightlife
ATTACH;FMTTYPE=image/webp:https://phuketcommunity.com/wp-content/uploads/2026/04/destino-1.webp
END:VEVENT
BEGIN:VEVENT
DTSTART;TZID=Asia/Bangkok:20260427T170000
DTEND;TZID=Asia/Bangkok:20260427T230000
DTSTAMP:20260423T103623
CREATED:20260422T152649Z
LAST-MODIFIED:20260422T152649Z
UID:8455-1777309200-1777330800@phuketcommunity.com
SUMMARY:Chillva Market Phuket
DESCRIPTION:Cool container market in Phuket Town\, Chillva Market has a variety choice of chic things and relaxing activities for those looking for a lively place for their evening relaxation. The market is generally split into container zone which consists of some chic shops and coffee shops\, tent zone with various food stalls selling attractive local and international food\, open air stall zone selling a wide choice of items and the last area is a modern stage which normally has live music and special mini concert every Wednesday. The market can be found on Yaowarat Road in Samkong\, diagonally opposite Baan Samkong School. It is open almost everyday\, Monday and Tuesday it is mainly for second hand staff while Wednesday to Saturday is for chic and new items along with attractive activities for chilling out.
URL:https://phuketcommunity.com/event/chillva-market-phuket/
LOCATION:Yaowarat Road\, Phuket Town
CATEGORIES:Family,Shopping & Markets
ATTACH;FMTTYPE=image/jpeg:https://phuketcommunity.com/wp-content/uploads/2026/04/chillva-market.webp
END:VEVENT
BEGIN:VEVENT
DTSTART;TZID=Asia/Bangkok:20260430T140000
DTEND;TZID=Asia/Bangkok:20260430T220000
DTSTAMP:20260423T103623
CREATED:20260408T192052Z
LAST-MODIFIED:20260408T192052Z
UID:8209-1777557600-1777586400@phuketcommunity.com
SUMMARY:TULUM DEL CODA – BARRA CUDA
DESCRIPTION:Phuket’s iconic day party channels the spirit of Tulum with jungle aesthetics and a carefully curated soundtrack. Dance from afternoon sun into the tropical night with resident selectors bringing house\, melodic techno\, and Balearic grooves to one of the island’s most beautiful venues. \nLine-up:\nMatt FLK\, Louis X\, VNGEL\, Billie Clements \nEvery Thursday\nBarra Cuda\, Phuket\n2pm – late \nThis is where the Tulum spirit awakens on the shores of the Andaman Sea.​​​​​​​​​​​​​​​​
URL:https://phuketcommunity.com/event/tulum-del-coda-barra-cuda-5/
LOCATION:Barra Cuda Phuket\, 43 Thaweewong Road\, Amphoe Kathu\, Phuket\, Patong\, Thailand\, Phuket\, Patong\, Phuket\, 83100\, Thailand
CATEGORIES:Music & Nightlife
ATTACH;FMTTYPE=image/webp:https://phuketcommunity.com/wp-content/uploads/2026/04/tulum.webp
END:VEVENT
END:VCALENDAR